BEGIN:VCALENDAR
VERSION:2.0
PRODID:-//MCC East Bay - ECPv6.15.20//NONSGML v1.0//EN
CALSCALE:GREGORIAN
METHOD:PUBLISH
X-WR-CALNAME:MCC East Bay
X-ORIGINAL-URL:https://mcceastbay.org
X-WR-CALDESC:Events for MCC East Bay
REFRESH-INTERVAL;VALUE=DURATION:PT1H
X-Robots-Tag:noindex
X-PUBLISHED-TTL:PT1H
BEGIN:VTIMEZONE
TZID:America/Los_Angeles
BEGIN:DAYLIGHT
TZOFFSETFROM:-0800
TZOFFSETTO:-0700
TZNAME:PDT
DTSTART:20250309T100000
END:DAYLIGHT
BEGIN:STANDARD
TZOFFSETFROM:-0700
TZOFFSETTO:-0800
TZNAME:PST
DTSTART:20251102T090000
END:STANDARD
BEGIN:DAYLIGHT
TZOFFSETFROM:-0800
TZOFFSETTO:-0700
TZNAME:PDT
DTSTART:20260308T100000
END:DAYLIGHT
BEGIN:STANDARD
TZOFFSETFROM:-0700
TZOFFSETTO:-0800
TZNAME:PST
DTSTART:20261101T090000
END:STANDARD
BEGIN:DAYLIGHT
TZOFFSETFROM:-0800
TZOFFSETTO:-0700
TZNAME:PDT
DTSTART:20270314T100000
END:DAYLIGHT
BEGIN:STANDARD
TZOFFSETFROM:-0700
TZOFFSETTO:-0800
TZNAME:PST
DTSTART:20271107T090000
END:STANDARD
END:VTIMEZONE
BEGIN:VEVENT
DTSTART;TZID=America/Los_Angeles:20260429T100000
DTEND;TZID=America/Los_Angeles:20260429T110000
DTSTAMP:20260419T080406
CREATED:20260324T220129Z
LAST-MODIFIED:20260326T171542Z
UID:10024965-1777456800-1777460400@mcceastbay.org
SUMMARY:April Weekly Zumba Classes for Women & Girls | Reham Sedky
DESCRIPTION:Zumba Classes are back! \nFor Women & Girls Ages 12+: Join us for weekly Zumba sessions – a fun\, stress-relieving way to stay active\, boost your energy\, and connect with other sisters. Zumba offers incredible benefits\, such as improved physical health\, mental well-being\, and the chance to make fitness an enjoyable part of your routine lifestyle. \nThis class is designed for women and girls aged 12 and up. It’s open to everyone\, and no experience is needed.  \nPlease note this class is not recommended for anyone with back or knee issues. \nStarts Wednesday\, April 1 | 10 a.m. to 11 a.m. | Weekly | Conference Room (private space) | $15/session | Register at mcceastbay.org/zumba \nClasses will be canceled if fewer than five people register. \nMCC has a standing policy that financial need should never hold a person back from attending any activity held in the community center. To request a financial waiver\, please complete our financial waiver request: HTTP://mcceastbay.org/scholarship\n\nAbout the Instructor: \nMy name is Reham Sedky\, and I’m excited to introduce myself as a certified Zumba instructor from the Mountain House Muslim community. Because I love my community\, I wanted to bring something positive to encourage women to focus on their health and well-being. I noticed many sisters cannot participate in gyms or sports due to privacy concerns or lack of time. This inspired me to become a professional Zumba instructor to offer something new and beneficial. Alhamdulilah\, through our Muslim community\, I was able to provide this class in a private and comfortable environment that meets our needs. \nPlease join me\, and let’s move\, laugh\, and grow stronger together\, Insha’Allah! \nQuestions? events@mcceastbay.org
URL:https://mcceastbay.org/event/april-weekly-zumba-classes-for-women-girls-reham-sedky/2026-04-29/
LOCATION:MCC East Bay\, 5724 W Las Positas Blvd #300\, Pleasanton\, CA\, 94588\, United States
CATEGORIES:Women's Activities
ATTACH;FMTTYPE=image/jpeg:https://mcceastbay.org/wp-content/uploads/2026/03/updated-Linda-Sarsour.jpg
ORGANIZER;CN="Muslim Community Center - East Bay":MAILTO:events@mcceastbay.org
END:VEVENT
BEGIN:VEVENT
DTSTART;TZID=America/Los_Angeles:20260502T140000
DTEND;TZID=America/Los_Angeles:20260502T163000
DTSTAMP:20260419T080406
CREATED:20260409T171929Z
LAST-MODIFIED:20260414T043223Z
UID:10026215-1777730400-1777739400@mcceastbay.org
SUMMARY:Mother's Day Tea & Conversation: Motherhood as Leadership | Hina Khan-Mukhtar
DESCRIPTION:Join us for a powerful and uplifting Mother’s Day event\, “Motherhood as Leadership: Nurturing Faith\, Community\, and Spiritual Care\,” that honors the spiritual labor\, resilience\, and profound impact of mothers in our lives and communities.  \nThis special gathering will feature inspiring guest speakers Hina Khan Mukhtar\, Nora Zaki\, and Rukayat Yakub\, who will share reflections\, insights\, and personal experiences centered on motherhood\, faith\, and well-being. \nThe program will include a thoughtful panel discussion exploring a range of meaningful topics\, followed by an engaging Q&A session that gives attendees the opportunity to connect more deeply with the speakers. After the formal program\, we invite you to unwind and build community during a relaxed social hour. \nRefreshments and tea will be served as we come together in a warm and welcoming space to celebrate\, reflect\, and connect. \nSaturday\, May 2\, 2026 | 2 p.m. to 4:30 p.m. (Zuhr is at 1:30 p.m.) | MCC Conference Room & Banquet Hall | Free | RSVP at mcceastbay.org/mothersday | Join in person or watch virtually at mcceastbay.org/live \nSponsored by Bayan Islamic Graduate School and MCC East Bay. \nQuestions? events@mcceastbay.org  \nAbout the Speakers \nHina Khan-Mukhtar is a writer\, educator\, and community leader focused on parenting\, faith\, and nurturing Muslim identity in the West. She is a co-founder of the ILM Tree homeschooling cooperative in Lafayette\, California. \nNora Zaki Mantas is a chaplain\, educator\, and interfaith leader engaged in Muslim community development\, pastoral care\, and spiritual formation\, who brings important insight into how nurturing leadership shapes stronger families and healthier communities. Chaplain Nora has an MDiv and an MA in Islamic Education (2025) from Bayan. She will be joining via Zoom. \nRukayat Yakub is an award-winning children’s author\, educator\, publisher\, trainer\, consultant\, and school climate coach. Her areas of expertise include addressing anti-blackness\, curriculum design\, Islamic Studies\, and ethical wealth flow. She works with leaders to develop and implement best practices that infuse prophetic courage\, kindness\, and humility in community institutions. Ustadha Rukayat is a Bayan Doctoral student (2027) and has an MA in Islamic Education (2024) from Bayan.   She will be joining via Zoom. \nTogether\, they will explore how the spiritual labor of mothers contributes to the moral and emotional health of communities and how the principles of motherhood\, compassion\, patience\, wisdom\, and resilience mirror the very foundations of spiritual and pastoral care. \nAbout Bayan Islamic Graduate School \nFounded in 2011\, Bayan Islamic Graduate School is a pioneering institution dedicated to cultivating leaders grounded in Islam and prepared to serve in contemporary society. Through rigorous graduate education\, mentorship\, and training\, Bayan develops chaplains\, educators\, and civic leaders who combine scholarly excellence with spiritual care and ethical leadership. Bayan’s graduates are helping shape the future of Muslim life in America and serving Muslim communities while contributing to the broader intellectual and civic landscape.
URL:https://mcceastbay.org/event/motherhood-as-leadership/
LOCATION:CA
CATEGORIES:Lectures & Workshops,Sisters Program,Women's Activities
ATTACH;FMTTYPE=image/jpeg:https://mcceastbay.org/wp-content/uploads/2026/04/Womens-Grand-Khatm.jpg
END:VEVENT
END:VCALENDAR