BEGIN:VCALENDAR
VERSION:2.0
PRODID:-//MCC East Bay - ECPv6.15.20//NONSGML v1.0//EN
CALSCALE:GREGORIAN
METHOD:PUBLISH
X-WR-CALNAME:MCC East Bay
X-ORIGINAL-URL:https://mcceastbay.org
X-WR-CALDESC:Events for MCC East Bay
REFRESH-INTERVAL;VALUE=DURATION:PT1H
X-Robots-Tag:noindex
X-PUBLISHED-TTL:PT1H
BEGIN:VTIMEZONE
TZID:America/Los_Angeles
BEGIN:DAYLIGHT
TZOFFSETFROM:-0800
TZOFFSETTO:-0700
TZNAME:PDT
DTSTART:20250309T100000
END:DAYLIGHT
BEGIN:STANDARD
TZOFFSETFROM:-0700
TZOFFSETTO:-0800
TZNAME:PST
DTSTART:20251102T090000
END:STANDARD
BEGIN:DAYLIGHT
TZOFFSETFROM:-0800
TZOFFSETTO:-0700
TZNAME:PDT
DTSTART:20260308T100000
END:DAYLIGHT
BEGIN:STANDARD
TZOFFSETFROM:-0700
TZOFFSETTO:-0800
TZNAME:PST
DTSTART:20261101T090000
END:STANDARD
BEGIN:DAYLIGHT
TZOFFSETFROM:-0800
TZOFFSETTO:-0700
TZNAME:PDT
DTSTART:20270314T100000
END:DAYLIGHT
BEGIN:STANDARD
TZOFFSETFROM:-0700
TZOFFSETTO:-0800
TZNAME:PST
DTSTART:20271107T090000
END:STANDARD
END:VTIMEZONE
BEGIN:VEVENT
DTSTART;TZID=America/Los_Angeles:20260417T133000
DTEND;TZID=America/Los_Angeles:20260417T161000
DTSTAMP:20260419T072351
CREATED:20260416T224031Z
LAST-MODIFIED:20260417T013656Z
UID:10026318-1776432600-1776442200@mcceastbay.org
SUMMARY:Jumu’ah Services @ MCC & Rosewood
DESCRIPTION:Join us for one of MCC’s four Jumu’ah services on Friday\, April 17\, 2026: \n\n*1:30 p.m. to 1:50 p.m.*. (Please refrain from attending due to parking congestion.)\n\nDr. Abdullah Ali Hamid delivers this sermon at MCC East Bay\n\n\n1:40 p.m. to 2:10 p.m.\n\nUstadh Quran Hodge delivers this sermon at Rosewood Conference Center\, 4450 Rosewood Dr.\, Pleasanton\n\n\n2:30 p.m. to 2:50 p.m.\n\nUstadh Quran Hodge delivers this sermon at MCC East Bay\n\n\n3:40 p.m. – 4:10 p.m. \n\nSidi Mahdi Amine delivers this sermon at MCC East Bay\n\n\n\n*Kindly please avoid the 1:30 p.m. service due to *heavy parking congestion*.  \nPlease attend Jumu’ah at 1:40 at our weekly off-site Jumu’ah at Rosewood or 3:40 p.m. at MCC to avoid heavier first-service congestion whenever possible\, or please attend the off-site MCC Jumu’ah service\, that is\, each week at the Rosewood Commons\, 4450 Rosewood Dr (Building 5)\, Pleasanton. Rosewood is only a five-minute drive from MCC. \nWith ongoing construction\, we have limited MCC facility parking. Please attend the weekly Rosewood Jumu’ah. \n \nPlease note that the former HP lot (now part of the Pleasanton Unified School District) is no longer available to our congregation. The District graciously provides the MCC congregation with a limited number of parking spaces. Please come to the first or fourth Jumuah at MCC to ease up parking congestion or\, better yet\, attend our weekly parallel satellite prayer from 1:40 p.m. to 2:10 p.m. at Rosewood Center (Building 5): https://mcceastbay.org/rosewood \n\n– Virtually watch the three MCC sermons from home: https://mcceastbay.org/live\n\nFor parents attending with young children indoors at the main MCC facility\, we offer private mothers’ and fathers’ rooms with audio-visual connections to the Prayer Hall. Parents can watch the sermon and pray while working with other parents and young children. The mothers’ and fathers’ prayer room is just past the Banquet Hall doors into the school area. \nPlease also visit the new\, larger Islamic Center of Livermore for Jumu’ah. They recently moved into a former church\, and they can now accommodate more Tri-Valley worshipers. The new masjid is at 3820 East Ave\, Livermore\, CA 94550. \nThe prayer times are at ICL: \n\nFirst Jummah: 1:30 p.m. 1:55 p.m.\nSecond Jummah: 2:30 p.m. 2:55 p.m.\nThird Jummuah: 3:30 p.m. to 3:55 p.m.\n\nQuestions? events@mcceastbay.org \nWe encourage our congregation to wear their best attire\, arrive early\, pray tahiyyat al-masjid\, and recite the Qur’an. Let’s encourage one another to maintain a clean and peaceful musalla. Please place your shoes neatly on the shoe racks\, minimize conversations inside the musalla\, engage in dhikr\, and send salawat upon the Prophet ﷺ. May Allah accept our efforts. Ameen. \n \n  \n 
URL:https://mcceastbay.org/event/jumuah-services-mcc-rosewood-32/
LOCATION:MCC East Bay\, 5724 W Las Positas Blvd #300\, Pleasanton\, CA\, 94588\, United States
CATEGORIES:Family Events,Sisters Program,Teen,Women's Activities,Young Children
ATTACH;FMTTYPE=image/jpeg:https://mcceastbay.org/wp-content/uploads/2026/04/Friday-Jumuah-Khateebs-12.jpg
ORGANIZER;CN="Muslim Community Center - East Bay":MAILTO:events@mcceastbay.org
END:VEVENT
END:VCALENDAR