BEGIN:VCALENDAR
VERSION:2.0
PRODID:-//MCC East Bay - ECPv6.15.20//NONSGML v1.0//EN
CALSCALE:GREGORIAN
METHOD:PUBLISH
X-WR-CALNAME:MCC East Bay
X-ORIGINAL-URL:https://mcceastbay.org
X-WR-CALDESC:Events for MCC East Bay
REFRESH-INTERVAL;VALUE=DURATION:PT1H
X-Robots-Tag:noindex
X-PUBLISHED-TTL:PT1H
BEGIN:VTIMEZONE
TZID:America/Los_Angeles
BEGIN:DAYLIGHT
TZOFFSETFROM:-0800
TZOFFSETTO:-0700
TZNAME:PDT
DTSTART:20210314T100000
END:DAYLIGHT
BEGIN:STANDARD
TZOFFSETFROM:-0700
TZOFFSETTO:-0800
TZNAME:PST
DTSTART:20211107T090000
END:STANDARD
BEGIN:DAYLIGHT
TZOFFSETFROM:-0800
TZOFFSETTO:-0700
TZNAME:PDT
DTSTART:20220313T100000
END:DAYLIGHT
BEGIN:STANDARD
TZOFFSETFROM:-0700
TZOFFSETTO:-0800
TZNAME:PST
DTSTART:20221106T090000
END:STANDARD
BEGIN:DAYLIGHT
TZOFFSETFROM:-0800
TZOFFSETTO:-0700
TZNAME:PDT
DTSTART:20230312T100000
END:DAYLIGHT
BEGIN:STANDARD
TZOFFSETFROM:-0700
TZOFFSETTO:-0800
TZNAME:PST
DTSTART:20231105T090000
END:STANDARD
END:VTIMEZONE
BEGIN:VEVENT
DTSTART;TZID=America/Los_Angeles:20220604T133000
DTEND;TZID=America/Los_Angeles:20220604T153000
DTSTAMP:20260419T184414
CREATED:20220520T063542Z
LAST-MODIFIED:20240630T212910Z
UID:10017963-1654349400-1654356600@mcceastbay.org
SUMMARY:Monthly Kid's Crafts
DESCRIPTION:Sr. Emira is back with a monthly kid’s crafts program! Join her as she leads exciting Islamic stories\, games\, and crafts for children ages 4 to 12. Each month we will focus on different messages from the Qur’an. This month Sr. Emira will be discussing the value of nature and taking care of Allah’s beautiful creation. \nSaturday\, June 4 | 1:30 p.m. to 3:30 p.m. | $20 per child | Banquet Hall | RSVP here: https://mcceastbay.org/rsvp-crafts \n\nThese are parent-and-me activities. Parents are required to stay and monitor children throughout the event. Younger siblings may attend the story-time. Only registered children receive materials for the projects. Sessions are capped at 30 children per session. \nMCC has a standing policy that financial need should never hold a person back from attaining spiritual or practical knowledge from any event or class held within the community center. To request a financial waiver\, message scholarship@mcceastbay.org \nAbout the Facilitator:\nSister Emira Mustafa is the founder of Craft E Muslims\, a business with a mission to creatively connect the heart and mind through fun innovative methods. \n\n\nShe has published two workbooks available on Amazon titled “Islamic Themed Fall Festival Activity Kit” and “Practically Preparing for Ramadan.” Her Etsy page features many Islamic-themed crafting kits sure to inspire a love of learning within our community. \nHere is one of her crafting videos on how to make a Rustic Eid Twinkle Light Banner: https://youtu.be/J8xIJOTy5dM \n\n\n– More Sr. Emira: https://mcceastbay.org/emira\n– More sessions for young Muslim children: https://mcceastbay.org/children\n\n\nQuestions? events@mcceastbay.org
URL:https://mcceastbay.org/event/monthly-kids-program/
LOCATION:MCC East Bay\, 5724 W Las Positas Blvd #300\, Pleasanton\, CA\, 94588\, United States
CATEGORIES:Young Children
ATTACH;FMTTYPE=image/png:https://mcceastbay.org/wp-content/uploads/2024/06/Monthly-Kids-Crafts.png
ORGANIZER;CN="Muslim Community Center - East Bay":MAILTO:events@mcceastbay.org
END:VEVENT
BEGIN:VEVENT
DTSTART;TZID=America/Los_Angeles:20220605T150000
DTEND;TZID=America/Los_Angeles:20220605T160000
DTSTAMP:20260419T184414
CREATED:20220520T030924Z
LAST-MODIFIED:20220520T030924Z
UID:10017962-1654441200-1654444800@mcceastbay.org
SUMMARY:Mommy & Me Program Camp | Hold my Heart\, Let's Bloom!
DESCRIPTION:For boys & girls ages 6 and under\, this six-week Sunday Mommy & Me program celebrates God’s Beauty this summer through games\, thematic stories\, and sensorial projects.  \nHere’s welcoming you to our fun-in-the-sun Arabic Immersion Mommy & Me program as we celebrate His Beauty this Summer and bask in the light of the Hajj Season!  \nIn this six-week session\, we will nurture your child by caring for our young chickens\, engaging in Arabic Immersion\, parachute games\, and thematic Hajj stories and projects! \nLet’s get ready to indulge the senses as we sing salawaat\, recite Quran while feeding our chickens\, play parachute games in Arabic\, and much more! Our intention is to always create wonderful memories of His remembrance! \nJoin us as we nurture your precious buds to bloom in the garden of our Beloved (saw)’s love!  \nWhen: Sundays 3 p.m. to 4 p.m.| June 5th to July 10th  \nWhere: MCC East Bay (Kindergarten area\, Conference Room & Picnic Area) (first session only) and all subsequent sessions held at offsite nearby MCC (address will be sent via email after registration) \nCost: $160/6-week session (discounted at $26/session or $30/individual session (all materials included in registration cost) | Register at mcceastbay.org/summer \nAs this is a Mommy & Me program\, kindly ensure a female guardian (like a mother\, grandmother\, aunt\, or a caregiver) is present during the duration of the session. No additional ticket is needed for the female guardian; only for each child attending.  \nQuestions? events@mcceastbay.org  \nCamp dates: \n\n– Sunday\, June 5th (held at MCC)\n– Sunday\, June 12th (held at offsite nearby MCC; location will be sent via email after registration)\n– Sunday\, June 19th (held at offsite nearby MCC; location will be sent via email after registration)\n– Sunday\, June 26th (held at offsite nearby MCC; location will be sent via email after registration)\n– Sunday\, July 3rd (held at offsite nearby MCC; location will be sent via email after registration)\n– Sunday\, July 10th (held at offsite nearby MCC; location will be sent via email after registration)\n\nAbout The Rose Garden: https://www.therosegarden.info
URL:https://mcceastbay.org/event/hold-my-heart-lets-bloom/
LOCATION:MCC East Bay\, 5724 W Las Positas Blvd #300\, Pleasanton\, CA\, 94588\, United States
CATEGORIES:Young Children
ATTACH;FMTTYPE=image/png:https://mcceastbay.org/wp-content/uploads/2024/06/Mommy-Me-Summer-Camp-v1.png
ORGANIZER;CN="Muslim Community Center - East Bay":MAILTO:events@mcceastbay.org
END:VEVENT
END:VCALENDAR