BEGIN:VCALENDAR
VERSION:2.0
PRODID:-//MCC East Bay - ECPv6.15.20//NONSGML v1.0//EN
CALSCALE:GREGORIAN
METHOD:PUBLISH
X-WR-CALNAME:MCC East Bay
X-ORIGINAL-URL:https://mcceastbay.org
X-WR-CALDESC:Events for MCC East Bay
REFRESH-INTERVAL;VALUE=DURATION:PT1H
X-Robots-Tag:noindex
X-PUBLISHED-TTL:PT1H
BEGIN:VTIMEZONE
TZID:America/Los_Angeles
BEGIN:DAYLIGHT
TZOFFSETFROM:-0800
TZOFFSETTO:-0700
TZNAME:PDT
DTSTART:20220313T100000
END:DAYLIGHT
BEGIN:STANDARD
TZOFFSETFROM:-0700
TZOFFSETTO:-0800
TZNAME:PST
DTSTART:20221106T090000
END:STANDARD
BEGIN:DAYLIGHT
TZOFFSETFROM:-0800
TZOFFSETTO:-0700
TZNAME:PDT
DTSTART:20230312T100000
END:DAYLIGHT
BEGIN:STANDARD
TZOFFSETFROM:-0700
TZOFFSETTO:-0800
TZNAME:PST
DTSTART:20231105T090000
END:STANDARD
BEGIN:DAYLIGHT
TZOFFSETFROM:-0800
TZOFFSETTO:-0700
TZNAME:PDT
DTSTART:20240310T100000
END:DAYLIGHT
BEGIN:STANDARD
TZOFFSETFROM:-0700
TZOFFSETTO:-0800
TZNAME:PST
DTSTART:20241103T090000
END:STANDARD
END:VTIMEZONE
BEGIN:VEVENT
DTSTART;TZID=America/Los_Angeles:20231027T160000
DTEND;TZID=America/Los_Angeles:20231027T170000
DTSTAMP:20260419T184401
CREATED:20231026T100320Z
LAST-MODIFIED:20231026T100320Z
UID:10020433-1698422400-1698426000@mcceastbay.org
SUMMARY:Stand for Palestine Story Time
DESCRIPTION:Join us for a read-aloud and games so kids can learn how to stand for Palestine in a kid-friendly way. 4 p.m. to 5 p.m. | Friday\, October 27 | MCC Conference Room | Free | For parents & all youth\, particularly ages 5 to 10 | Join us in person or watch virtually at mcceastbay.org/live \n\n\n\nWe will not have books for sale. You may order this book for your kids online here.   \n\n\n\nAbout the AuthorEman Kourtam is a Muslim-American Egyptian who lives in California. She is a devoted mother of two wonderful kids: Zaineldeen and Maryam. She has a BA in Integrated Marketing communications. She is a health coach. She enjoys cooking\, skiing\, horseback riding\, and writing stories for my kids. \n\n\n\nHer book series “Zain and Mima’s Adventures” came to life while trying to instill important values in her kids in a fun\, dynamic way. She wanted to show her children love for their Islamic faith and to grow up to be wonderful\, caring human beings. She began by writing stories about real-life situations they went through as a family to impart important values and lessons they can learn along the way. Her children resonated with the stories about them and asked their mom to read them at bedtime each night. After four years\, on a whim\, Eman shared one of her stories on her Instagram. Commentators expressed joy and asked how they could purchase the story. The rest is history … \n\n\n\nFrom the book Zain and Mima Stand For Palestine \n\n\n\nZain and Mima were surprised to hear loud voices outside their window. \n\n\n\nThey found a crowd of people chanting “Free Palestine!”.“What is Palestine?” they asked. To answer\, Mama took them back in time with a story that began many years ago.
URL:https://mcceastbay.org/event/palestine-story-time/
LOCATION:CA
CATEGORIES:Young Children
ATTACH;FMTTYPE=image/jpeg:https://mcceastbay.org/wp-content/uploads/2024/06/Palestine-storytime.jpg
END:VEVENT
END:VCALENDAR