BEGIN:VCALENDAR
VERSION:2.0
PRODID:-//MCC East Bay - ECPv6.15.20//NONSGML v1.0//EN
CALSCALE:GREGORIAN
METHOD:PUBLISH
X-WR-CALNAME:MCC East Bay
X-ORIGINAL-URL:https://mcceastbay.org
X-WR-CALDESC:Events for MCC East Bay
REFRESH-INTERVAL;VALUE=DURATION:PT1H
X-Robots-Tag:noindex
X-PUBLISHED-TTL:PT1H
BEGIN:VTIMEZONE
TZID:America/Los_Angeles
BEGIN:DAYLIGHT
TZOFFSETFROM:-0800
TZOFFSETTO:-0700
TZNAME:PDT
DTSTART:20220313T100000
END:DAYLIGHT
BEGIN:STANDARD
TZOFFSETFROM:-0700
TZOFFSETTO:-0800
TZNAME:PST
DTSTART:20221106T090000
END:STANDARD
BEGIN:DAYLIGHT
TZOFFSETFROM:-0800
TZOFFSETTO:-0700
TZNAME:PDT
DTSTART:20230312T100000
END:DAYLIGHT
BEGIN:STANDARD
TZOFFSETFROM:-0700
TZOFFSETTO:-0800
TZNAME:PST
DTSTART:20231105T090000
END:STANDARD
BEGIN:DAYLIGHT
TZOFFSETFROM:-0800
TZOFFSETTO:-0700
TZNAME:PDT
DTSTART:20240310T100000
END:DAYLIGHT
BEGIN:STANDARD
TZOFFSETFROM:-0700
TZOFFSETTO:-0800
TZNAME:PST
DTSTART:20241103T090000
END:STANDARD
END:VTIMEZONE
BEGIN:VEVENT
DTSTART;TZID=America/Los_Angeles:20231209T100000
DTEND;TZID=America/Los_Angeles:20231209T113000
DTSTAMP:20260419T112709
CREATED:20231201T003721Z
LAST-MODIFIED:20231201T003721Z
UID:10020490-1702116000-1702121400@mcceastbay.org
SUMMARY:Saturday Flag Football for Boys | Sidi Zeeshan Mukhtar
DESCRIPTION:For boys ages 7-13: Join us for three sessions of flag football\, which includes warm-ups\, basics\, drills\, and games organized by peers in our community who love working with the youth. \n\n\n\nSaturdays\, Dec. 9\, 16\, and 23 | 10 a.m. to 11:30 a.m. | Creekside Park | Boys Ages 7-13 | $30/person; register at mcceastbay.org/flag-footballLimited to 50 participants. \n\n\n\nDads are encouraged to come and stay and participate as well. \n\n\n\nQuestions? events@mcceastbay.orgMCC has a standing policy that financial need should never hold a person back from attaining knowledge offered within the four walls of MCC the facility. To request a financial waiver or discount\, please complete: https://mcceastbay.org/scholarship \n\n\n\nCamp facilitatorsAzmat Zeeshan Mukhtar is a local father and mentor from our community who enjoys sports and kids. He will organize the activities and bring on some other dads to help volunteer and make this a rewarding activity for our young Muslim boys.
URL:https://mcceastbay.org/event/saturday-flag-football/
LOCATION:CA
CATEGORIES:Classes & Activities,Family Events,Young Children
ATTACH;FMTTYPE=image/jpeg:https://mcceastbay.org/wp-content/uploads/2024/06/Flag-Football.jpg
END:VEVENT
END:VCALENDAR