BEGIN:VCALENDAR
VERSION:2.0
PRODID:-//MCC East Bay - ECPv6.15.20//NONSGML v1.0//EN
CALSCALE:GREGORIAN
METHOD:PUBLISH
X-WR-CALNAME:MCC East Bay
X-ORIGINAL-URL:https://mcceastbay.org
X-WR-CALDESC:Events for MCC East Bay
REFRESH-INTERVAL;VALUE=DURATION:PT1H
X-Robots-Tag:noindex
X-PUBLISHED-TTL:PT1H
BEGIN:VTIMEZONE
TZID:America/Los_Angeles
BEGIN:DAYLIGHT
TZOFFSETFROM:-0800
TZOFFSETTO:-0700
TZNAME:PDT
DTSTART:20200308T100000
END:DAYLIGHT
BEGIN:STANDARD
TZOFFSETFROM:-0700
TZOFFSETTO:-0800
TZNAME:PST
DTSTART:20201101T090000
END:STANDARD
BEGIN:DAYLIGHT
TZOFFSETFROM:-0800
TZOFFSETTO:-0700
TZNAME:PDT
DTSTART:20210314T100000
END:DAYLIGHT
BEGIN:STANDARD
TZOFFSETFROM:-0700
TZOFFSETTO:-0800
TZNAME:PST
DTSTART:20211107T090000
END:STANDARD
BEGIN:DAYLIGHT
TZOFFSETFROM:-0800
TZOFFSETTO:-0700
TZNAME:PDT
DTSTART:20220313T100000
END:DAYLIGHT
BEGIN:STANDARD
TZOFFSETFROM:-0700
TZOFFSETTO:-0800
TZNAME:PST
DTSTART:20221106T090000
END:STANDARD
END:VTIMEZONE
BEGIN:VEVENT
DTSTART;TZID=America/Los_Angeles:20211203T103000
DTEND;TZID=America/Los_Angeles:20211203T163000
DTSTAMP:20260419T163208
CREATED:20210929T042637Z
LAST-MODIFIED:20240630T203555Z
UID:10014892-1638527400-1638549000@mcceastbay.org
SUMMARY:Winter Jumu'ah Blood Drive
DESCRIPTION:**This drive is full. Walk-in ready (wait time).** \nThe MCC community has saved nearly 350 lives! This is our 19th blood drive during Jumu’ah. Each blood drive has always been fully booked or near-fully booked! \nLet’s continue that trajectory at this Winter blood drive and keep all our American Red Cross guests busy when they setup in our Banquet Hall from 10:30 a.m. to 4:30 p.m. on Friday\, December 3\, 2021. Sign up at: https://mcceastbay.org/blood-drive \n[fusion_button link=”https://mcceastbay.org/blood-drive” text_transform=”” title=”” target=”_self” link_attributes=”” alignment=”” modal=”” hide_on_mobile=”small-visibility\,medium-visibility\,large-visibility” class=”” id=”” color=”default” button_gradient_top_color=”” button_gradient_bottom_color=”” button_gradient_top_color_hover=”” button_gradient_bottom_color_hover=”” accent_color=”” accent_hover_color=”” type=”” bevel_color=”” border_width=”” size=”” stretch=”default” shape=”” icon=”” icon_position=”left” icon_divider=”no” animation_type=”” animation_direction=”left” animation_speed=”0.3″ animation_offset=””]Book An Appointment[/fusion_button] \nIf you have visited India\, Pakistan\, or another malaria high-risk country and returned within the last 12 months\, you are not eligible to donate blood. \nEvery person who donates blood at MCC in 2021 will receive a voucher for either a free meal at iniBurger – Gourmet Burgers in Pleasanton. These vouchers are generously donated by MCC congregation member Leeza & Abdullah Popal who own these establishments to encourage participation. \nMCC Youth: If you are 16 to 18\, here is the link to the donor requirements and parental authorization form. \nOn the morning of the blood drive\, please complete the Rapid Pass online and bring the print-off with you to speed up the check-in process. \n[fusion_button link=”https://mcceastbay.org/blood-drive” text_transform=”” title=”” target=”_self” link_attributes=”” alignment=”” modal=”” hide_on_mobile=”small-visibility\,medium-visibility\,large-visibility” class=”” id=”” color=”default” button_gradient_top_color=”” button_gradient_bottom_color=”” button_gradient_top_color_hover=”” button_gradient_bottom_color_hover=”” accent_color=”” accent_hover_color=”” type=”” bevel_color=”” border_width=”” size=”” stretch=”default” shape=”” icon=”” icon_position=”left” icon_divider=”no” animation_type=”” animation_direction=”left” animation_speed=”0.3″ animation_offset=””]Save a Life[/fusion_button] \n 
URL:https://mcceastbay.org/event/winter-blood-drive/
LOCATION:MCC East Bay\, 5724 W Las Positas Blvd #300\, Pleasanton\, CA\, 94588\, United States
CATEGORIES:Teen
ATTACH;FMTTYPE=image/jpeg:https://mcceastbay.org/wp-content/uploads/2024/06/muslim-community-center-blood-drive-.jpg
ORGANIZER;CN="Muslim Community Center - East Bay":MAILTO:events@mcceastbay.org
END:VEVENT
END:VCALENDAR