BEGIN:VCALENDAR
VERSION:2.0
PRODID:-//MCC East Bay - ECPv6.15.20//NONSGML v1.0//EN
CALSCALE:GREGORIAN
METHOD:PUBLISH
X-WR-CALNAME:MCC East Bay
X-ORIGINAL-URL:https://mcceastbay.org
X-WR-CALDESC:Events for MCC East Bay
REFRESH-INTERVAL;VALUE=DURATION:PT1H
X-Robots-Tag:noindex
X-PUBLISHED-TTL:PT1H
BEGIN:VTIMEZONE
TZID:America/Los_Angeles
BEGIN:DAYLIGHT
TZOFFSETFROM:-0800
TZOFFSETTO:-0700
TZNAME:PDT
DTSTART:20210314T100000
END:DAYLIGHT
BEGIN:STANDARD
TZOFFSETFROM:-0700
TZOFFSETTO:-0800
TZNAME:PST
DTSTART:20211107T090000
END:STANDARD
BEGIN:DAYLIGHT
TZOFFSETFROM:-0800
TZOFFSETTO:-0700
TZNAME:PDT
DTSTART:20220313T100000
END:DAYLIGHT
BEGIN:STANDARD
TZOFFSETFROM:-0700
TZOFFSETTO:-0800
TZNAME:PST
DTSTART:20221106T090000
END:STANDARD
BEGIN:DAYLIGHT
TZOFFSETFROM:-0800
TZOFFSETTO:-0700
TZNAME:PDT
DTSTART:20230312T100000
END:DAYLIGHT
BEGIN:STANDARD
TZOFFSETFROM:-0700
TZOFFSETTO:-0800
TZNAME:PST
DTSTART:20231105T090000
END:STANDARD
END:VTIMEZONE
BEGIN:VEVENT
DTSTART;TZID=America/Los_Angeles:20220528T100000
DTEND;TZID=America/Los_Angeles:20220528T130000
DTSTAMP:20260419T233918
CREATED:20220520T011159Z
LAST-MODIFIED:20240630T212857Z
UID:10017961-1653732000-1653742800@mcceastbay.org
SUMMARY:Acquiring Virtuous Character (Teens) | Ustadh Hasan Petrus
DESCRIPTION:In parallel to the adult workshop with Shaykh Yahya Rhodus\, male and female teens ages 12 to 19\, please join Ustadh Hasan Petrus for a youth seminar about virtue ethics and how by practicing being honest\, brave\, just\, generous\, and so on\, a person develops an honorable and moral character. \n10 a.m. to 1 p.m. | Saturday\, May 28 | MCC Prayer Hall (in person) | Join free in-person or watch live online | $10/ Lunch (optional) | Register for lunch (no RSVP needed to attend workshops) at https://mcceastbay.org/workshop \nSponsored by San Ramon Valley Islamic Center (SRVIC)\, Islamic Center of Livermore\, and MCC East Bay. \nParallel workshop for parents: https://mcceastbay.org/event/shaykh-yahya-rhodus \nUstadh Hasan Petrus’s colleague will also have a parallel adult workshop: https://mcceastbay.org/event/shaykh-yahya-rhodus \nMCC has a standing policy that financial need should never hold a person back from acquiring religious knowledge offered within the MCC community center. For a financial waiver\, please message scholarship@mcceastbay.org \nThe session will also be recorded and posted at a later date at https://mcceastbay.org/teen \nNo babysitting is provided. \nAbout the Speaker:\nUstadh Hasan was born and raised north of the border in Montreal\, Canada. His pursuit of sacred Islamic knowledge has taken him to two continents to sit at the feet of those who still carry unbroken chains of sacred learning. During his stay in South Africa\, Ustadh Hasan focused primarily on Quranic Studies. He subsequently moved to Tarim\, Yemen\, to study at Dar al-Mustafa. During his time there\, he was able to study various  Islamic sciences\, benefiting directly from Habib Umar bin Hafiz\, Habib Muhammad bin Abdullah al-Aydarus\, Habib Hashim bin Aqil\, Shaykh Umar bin Husayn al-Khatib\, and others. \nHe returned from Tarim in 2015 to become a faculty member at Al-Maqasid\, where he leads the Classical Arabic Program. \nQuestions? events@mcceastbay.org
URL:https://mcceastbay.org/event/teens-ustadh-hasan-petrus/
LOCATION:MCC East Bay\, 5724 W Las Positas Blvd #300\, Pleasanton\, CA\, 94588\, United States
CATEGORIES:Family Events,Teen
ATTACH;FMTTYPE=image/png:https://mcceastbay.org/wp-content/uploads/2024/06/acquiring-virtuous-character.png
ORGANIZER;CN="Muslim Community Center - East Bay":MAILTO:events@mcceastbay.org
END:VEVENT
END:VCALENDAR