BEGIN:VCALENDAR
VERSION:2.0
PRODID:-//MCC East Bay - ECPv6.15.20//NONSGML v1.0//EN
CALSCALE:GREGORIAN
METHOD:PUBLISH
X-WR-CALNAME:MCC East Bay
X-ORIGINAL-URL:https://mcceastbay.org
X-WR-CALDESC:Events for MCC East Bay
REFRESH-INTERVAL;VALUE=DURATION:PT1H
X-Robots-Tag:noindex
X-PUBLISHED-TTL:PT1H
BEGIN:VTIMEZONE
TZID:America/Los_Angeles
BEGIN:DAYLIGHT
TZOFFSETFROM:-0800
TZOFFSETTO:-0700
TZNAME:PDT
DTSTART:20220313T100000
END:DAYLIGHT
BEGIN:STANDARD
TZOFFSETFROM:-0700
TZOFFSETTO:-0800
TZNAME:PST
DTSTART:20221106T090000
END:STANDARD
BEGIN:DAYLIGHT
TZOFFSETFROM:-0800
TZOFFSETTO:-0700
TZNAME:PDT
DTSTART:20230312T100000
END:DAYLIGHT
BEGIN:STANDARD
TZOFFSETFROM:-0700
TZOFFSETTO:-0800
TZNAME:PST
DTSTART:20231105T090000
END:STANDARD
BEGIN:DAYLIGHT
TZOFFSETFROM:-0800
TZOFFSETTO:-0700
TZNAME:PDT
DTSTART:20240310T100000
END:DAYLIGHT
BEGIN:STANDARD
TZOFFSETFROM:-0700
TZOFFSETTO:-0800
TZNAME:PST
DTSTART:20241103T090000
END:STANDARD
END:VTIMEZONE
BEGIN:VEVENT
DTSTART;TZID=America/Los_Angeles:20230728T100000
DTEND;TZID=America/Los_Angeles:20230728T140000
DTSTAMP:20260419T125207
CREATED:20230616T025210Z
LAST-MODIFIED:20230616T025210Z
UID:10020181-1690538400-1690552800@mcceastbay.org
SUMMARY:Weeklong Girls Camp | Sr. Maryam Awwal
DESCRIPTION:For girls ages 13-18\, join us for an intensive week of spiritual renewal\, where we go over Imam al-Haddad’s work\, The Lives of Man\, and connect ourselves to our Creator by learning the five stages of human life. \n\n\n\nMonday – Friday\,  July 24 – July 28 | 10 a.m. to 2 p.m. | Register required at mcceastbay.org/youth-intensive \n\n\n\nAbout the book \n\n\n\nA dramatic exposition of the classical Muslim division of human life into five stages: before conception\, life in the world\, life in the grave\, the resurrection\, and heaven or hell. Extensive Qur’anic and Hadith references explain the condition of the soul at each stage.Based on the Qu’ran and Hadith\, in this fascinating book\, Imam al-Haddad explains that every human being passes through several “lives:” before conception\, life in the world\, life in the grave\, the Resurrection\, and finally\, the Garden or the Fire. A complete Muslim must be aware of each of these if he is to be sufficiently prepared for eternal life. \n\n\n\nWhat happens after Death? Who are “Munkar and Nakir?” What will Heaven and Hell be like? What signs should we expect before the day of Judgement? Who is the Dajjal? When will the Mahdi appear? \n\n\n\nThese and many other questions are answered\, on the basis of the Qu’ran and Hadith\, in this fascinating book. Imam al-Haddad explains that every human being passes through the “lives:” before conception\, life in the world\, life in the grave\, the Resurrection\, and finally\, the Garden of the Fire. A complete Muslim must be aware of each of these if he is to be sufficiently prepared for eternal life. \n\n\n\nAbout the author \n\n\n\nImam Abdallah Ibn-Alawi Al-Haddad lived in Tarim in the Hadramant Valley between Yemen and Oman and is widely held to have been the ‘renewer’ of the twelfth Islamic century. He was a noted authority on the Shafi’i school of jurisprudence and a writer on devotional matters\, both in poetry and prose. His works have been translated into many languages. Imam al-Haddad died in 1132 A.H.\, having spent his life bringing people to their Lord through his oral and written teaching and his exemplary life. He was buried in a simple grave in the cemetery at Tarim. \n\n\n\nAbout the Facilitators \n\n\n\nMaryam Awwal is a second-year Master of Arts student at Zaytuna College studying Islamic law and legal theory. She has a master’s in Counseling Psychology from the Wright Institute and is pursuing an associate’s degree in Marriage and Family Therapy and Professional Clinical Counseling. \n\n\n\nShe also has a BA in Liberal Arts & Islamic Studies from Zaytuna College and a BA in Economics from UC Davis. After graduating\, she hopes to further her education in various sacred Islamic sciences and support the development of sound Muslim communities in the West.Zaid Khanani is a Marriage and Family Therapy trainee with the City of Fremont\, Youth and Family Services. He graduated from Zaytuna College and completed his Master of Arts in Counseling Psychology at the Wright Institute. Hafiz Zaid continues his formal Islamic Studies with local teachers and scholars overseas. He is a former Islamic Studies teacher at Northstar Islamic School and teaches numerous online classes. \n\n\n\nQuestions? events@mcceastbay.org
URL:https://mcceastbay.org/event/week-long/2023-07-28/
LOCATION:MCC East Bay\, 5724 W Las Positas Blvd #300\, Pleasanton\, CA\, 94588\, United States
CATEGORIES:Teen
ATTACH;FMTTYPE=image/jpeg:https://mcceastbay.org/wp-content/uploads/2024/06/Girls-Intensive.jpg
END:VEVENT
BEGIN:VEVENT
DTSTART;TZID=America/Los_Angeles:20230728T180000
DTEND;TZID=America/Los_Angeles:20230728T210000
DTSTAMP:20260419T125207
CREATED:20230616T025807Z
LAST-MODIFIED:20230616T025807Z
UID:10020182-1690567200-1690578000@mcceastbay.org
SUMMARY:Youth Leaders Farewell BBQ | Sr. Maryam Awwal & Hafiz Zaid Khanani
DESCRIPTION:*Please note the new time due to teens fasting on the Day of Ashura this Friday*For boys & girls 13-18\, join us for a BBQ afternoon where we get to know each other\, share stories\, and have fun! \n\n\n\nFriday\, July 28 | 6 p.m. to 9 p.m. | Ken Mercer Sports Park | Register at mcceastbay.org/youth-bbq \n\n\n\nMaghrib is at 8:23 p.m. this Friday. The BBQ will be served at Iftar time.  \n\n\n\nIn following the Prophetic tradition\, we encourage our community to fast on Friday\, July 28\, as well as the day before or after (so either Thursday and Friday or Friday and Saturday)\, insha’Allah.Maryam Awwal is a second-year Master of Arts student at Zaytuna College studying Islamic law and legal theory. She has a master’s in Counseling Psychology from the Wright Institute and is pursuing an associate’s degree in Marriage and Family Therapy and Professional Clinical Counseling. \n\n\n\nShe also has a BA in Liberal Arts & Islamic Studies from Zaytuna College and a BA in Economics from UC Davis. After graduating\, she hopes to further her education in various sacred Islamic sciences and support the development of sound Muslim communities in the West.Zaid Khanani is a Marriage and Family Therapy trainee with the City of Fremont\, Youth and Family Services. He graduated from Zaytuna College and completed his Master of Arts in Counseling Psychology at the Wright Institute. Hafiz Zaid continues his formal Islamic Studies with local teachers and scholars overseas. He is a former Islamic Studies teacher at Northstar Islamic School and teaches numerous online classes. \n\n\n\nQuestions? events@mcceastbay.org
URL:https://mcceastbay.org/event/youth-bbq/
LOCATION:MCC East Bay\, 5724 W Las Positas Blvd #300\, Pleasanton\, CA\, 94588\, United States
CATEGORIES:Teen
ATTACH;FMTTYPE=image/jpeg:https://mcceastbay.org/wp-content/uploads/2024/06/BBQ-2.jpg
END:VEVENT
END:VCALENDAR