BEGIN:VCALENDAR
VERSION:2.0
PRODID:-//MCC East Bay - ECPv6.15.20//NONSGML v1.0//EN
CALSCALE:GREGORIAN
METHOD:PUBLISH
X-WR-CALNAME:MCC East Bay
X-ORIGINAL-URL:https://mcceastbay.org
X-WR-CALDESC:Events for MCC East Bay
REFRESH-INTERVAL;VALUE=DURATION:PT1H
X-Robots-Tag:noindex
X-PUBLISHED-TTL:PT1H
BEGIN:VTIMEZONE
TZID:America/Los_Angeles
BEGIN:DAYLIGHT
TZOFFSETFROM:-0800
TZOFFSETTO:-0700
TZNAME:PDT
DTSTART:20230312T100000
END:DAYLIGHT
BEGIN:STANDARD
TZOFFSETFROM:-0700
TZOFFSETTO:-0800
TZNAME:PST
DTSTART:20231105T090000
END:STANDARD
BEGIN:DAYLIGHT
TZOFFSETFROM:-0800
TZOFFSETTO:-0700
TZNAME:PDT
DTSTART:20240310T100000
END:DAYLIGHT
BEGIN:STANDARD
TZOFFSETFROM:-0700
TZOFFSETTO:-0800
TZNAME:PST
DTSTART:20241103T090000
END:STANDARD
BEGIN:DAYLIGHT
TZOFFSETFROM:-0800
TZOFFSETTO:-0700
TZNAME:PDT
DTSTART:20250309T100000
END:DAYLIGHT
BEGIN:STANDARD
TZOFFSETFROM:-0700
TZOFFSETTO:-0800
TZNAME:PST
DTSTART:20251102T090000
END:STANDARD
END:VTIMEZONE
BEGIN:VEVENT
DTSTART;TZID=America/Los_Angeles:20240301T190000
DTEND;TZID=America/Los_Angeles:20240301T210000
DTSTAMP:20260419T154031
CREATED:20240215T022324Z
LAST-MODIFIED:20240215T022324Z
UID:10020597-1709319600-1709326800@mcceastbay.org
SUMMARY:Gear Up For Ramadan: Sidi Yousuf Azhar
DESCRIPTION:For boys ages 15-22! Ramadan is around the corner and is a spiritual treasure trove for any Muslim!Join us for this special workshop with Sidi Yousuf Azhar to kickstart the blessed month with pre-Ramadan activities that help you enter the month at full speed.  \n\n\n\nThis is not a fiqh session. The focus of this workshop is to share practical tips and encouragement.Friday\, March 1 | 7 p.m. to 9 p.m. | MCC Banquet Hall | Boys Ages 15-22 | Free to attend\, capped at 50 | RSVP at mcceastbay.org/gear-up \n\n\n\nQuestions? events@mcceastbay.org \n\n\n\nAbout the Presenter \n\n\n\nYousuf Azhar was born in India and migrated to the USA at the age of two. He studied Arabic at the University of Damascus for one year. He has studied general Islamic sciences with various scholars throughout his life.  He resides in the San Francisco Bay Area with his wife and three children.  Yousuf is a software testing lead at a Silicon Valley tech company.
URL:https://mcceastbay.org/event/gear-up-for-ramadan/
LOCATION:CA
CATEGORIES:Classes & Activities,Teen
ATTACH;FMTTYPE=image/jpeg:https://mcceastbay.org/wp-content/uploads/2024/06/03.01.24.jpg
END:VEVENT
END:VCALENDAR