BEGIN:VCALENDAR
VERSION:2.0
PRODID:-//MCC East Bay - ECPv6.15.20//NONSGML v1.0//EN
CALSCALE:GREGORIAN
METHOD:PUBLISH
X-WR-CALNAME:MCC East Bay
X-ORIGINAL-URL:https://mcceastbay.org
X-WR-CALDESC:Events for MCC East Bay
REFRESH-INTERVAL;VALUE=DURATION:PT1H
X-Robots-Tag:noindex
X-PUBLISHED-TTL:PT1H
BEGIN:VTIMEZONE
TZID:America/Los_Angeles
BEGIN:DAYLIGHT
TZOFFSETFROM:-0800
TZOFFSETTO:-0700
TZNAME:PDT
DTSTART:20230312T100000
END:DAYLIGHT
BEGIN:STANDARD
TZOFFSETFROM:-0700
TZOFFSETTO:-0800
TZNAME:PST
DTSTART:20231105T090000
END:STANDARD
BEGIN:DAYLIGHT
TZOFFSETFROM:-0800
TZOFFSETTO:-0700
TZNAME:PDT
DTSTART:20240310T100000
END:DAYLIGHT
BEGIN:STANDARD
TZOFFSETFROM:-0700
TZOFFSETTO:-0800
TZNAME:PST
DTSTART:20241103T090000
END:STANDARD
BEGIN:DAYLIGHT
TZOFFSETFROM:-0800
TZOFFSETTO:-0700
TZNAME:PDT
DTSTART:20250309T100000
END:DAYLIGHT
BEGIN:STANDARD
TZOFFSETFROM:-0700
TZOFFSETTO:-0800
TZNAME:PST
DTSTART:20251102T090000
END:STANDARD
END:VTIMEZONE
BEGIN:VEVENT
DTSTART;TZID=America/Los_Angeles:20240323T133000
DTEND;TZID=America/Los_Angeles:20240324T061500
DTSTAMP:20260419T071941
CREATED:20240319T014801Z
LAST-MODIFIED:20241101T005608Z
UID:10020682-1711200600-1711260900@mcceastbay.org
SUMMARY:MYNA Youth Teen Qiyam
DESCRIPTION:This Spring\, Muslim youth nationwide can join MYNA for spring camp and explore the new theme\, “IQRA”! Youth will deeply dive into the importance of the Holy Quran\, the word of Allah SWT\, first revealed to Prophet Muhammad (SAW) in the blessed month of Ramadan. \n\n\n\nBecause this cycle of spring camps falls during Ramadan\, MYNA presents a new structure to empower youth to make the most of this beloved month\, featuring heartfelt lectures\, engaging workshops\, Quran circles\, youth-led tahajjud\, and more!Saturday\, March 23 – Sunday\, March 24 | 1:30 p.m. to 6:15 a.m. | MCC Conference Room | Boys & Girls Ages 12-18 | Limited registration available; register at mcceastbay.org/myna \n\n\n\n\n“The reason I call MYNA a breath of fresh air is because you become a better person within that week that you are with positive beings. You learn new things about Islam\, people\, and also about yourself. MYNA has truly created a new perspective for me. Without MYNA I wouldn’t know how to communicate with others and be a leader. Thanks to MYNA for being a breath of fresh air for myself and everyone who comes to it.” \n\n\n\n\n— MYNA Camper \n\n\n\nCamp Guidelines\n\n\n\nAs a Muslim Organization\, we ask that all campers and participants in our events follow the rules we have prescribed through the Quran and ways of the Prophet (PBUH). Please read both of these documents before arriving at camp. \n\n\n\n\nDRESS CODE: Check out the MYNA dress code here.\n\n\n\nRULES AND REGULATIONS: Here are the rules campers must follow during camp.\n\n\n\n\nFor FAQ\, please visit: https://www.myna.org/campfaq \n\n\n\nQuestions? events@mcceastbay.org \n\n\n\n\n\n\n\n\n\n\n\n\n\n\n\n\n\n 
URL:https://mcceastbay.org/event/myna-youth-qiyamps/
LOCATION:CA
CATEGORIES:Teen
ATTACH;FMTTYPE=image/jpeg:https://mcceastbay.org/wp-content/uploads/2024/03/MYNA-Camp-Pacific.jpg
END:VEVENT
END:VCALENDAR