BEGIN:VCALENDAR
VERSION:2.0
PRODID:-//MCC East Bay - ECPv6.15.20//NONSGML v1.0//EN
CALSCALE:GREGORIAN
METHOD:PUBLISH
X-WR-CALNAME:MCC East Bay
X-ORIGINAL-URL:https://mcceastbay.org
X-WR-CALDESC:Events for MCC East Bay
REFRESH-INTERVAL;VALUE=DURATION:PT1H
X-Robots-Tag:noindex
X-PUBLISHED-TTL:PT1H
BEGIN:VTIMEZONE
TZID:America/Los_Angeles
BEGIN:DAYLIGHT
TZOFFSETFROM:-0800
TZOFFSETTO:-0700
TZNAME:PDT
DTSTART:20210314T100000
END:DAYLIGHT
BEGIN:STANDARD
TZOFFSETFROM:-0700
TZOFFSETTO:-0800
TZNAME:PST
DTSTART:20211107T090000
END:STANDARD
BEGIN:DAYLIGHT
TZOFFSETFROM:-0800
TZOFFSETTO:-0700
TZNAME:PDT
DTSTART:20220313T100000
END:DAYLIGHT
BEGIN:STANDARD
TZOFFSETFROM:-0700
TZOFFSETTO:-0800
TZNAME:PST
DTSTART:20221106T090000
END:STANDARD
BEGIN:DAYLIGHT
TZOFFSETFROM:-0800
TZOFFSETTO:-0700
TZNAME:PDT
DTSTART:20230312T100000
END:DAYLIGHT
BEGIN:STANDARD
TZOFFSETFROM:-0700
TZOFFSETTO:-0800
TZNAME:PST
DTSTART:20231105T090000
END:STANDARD
END:VTIMEZONE
BEGIN:VEVENT
DTSTART;TZID=America/Los_Angeles:20220916T163000
DTEND;TZID=America/Los_Angeles:20220916T183000
DTSTAMP:20260419T081415
CREATED:20220806T092930Z
LAST-MODIFIED:20240630T213410Z
UID:10019006-1663345800-1663353000@mcceastbay.org
SUMMARY:Boys Friday Afternoon Flag Football Camp
DESCRIPTION:**Camp at capacity. Registration is positively closed.** \nJoin Sidi Zeeshan Mukhtar for a seven-week flag football camp for boys ages 8 to 13. \n4:30 p.m. to 6:30 p.m. | Weekly on Fridays after the third youth Jumu’ah | Friday\, September 16\, 2022 to Friday\, November 4\, 2022\,| Track & Field @ Hart Middle School | Admissions $40/child and $35/ additional child | Register at mcceastbay.org/football \nThe camp and halaqa are broken up into two age groups: ages 8 to 10 and ages 11 to 13. \nPlease bring: \n\n1. Metal/plastic reusable Water bottle with ice (20 oz. minimum)\n2. Baseball hat\n3. Sunscreen\n4. Light-colored clothing and shorts\n5. Properly fitted athletic shoes\n6. A snack if your kid needs it (banana or granola bar\, or power bar)\n\nAbout the Facilitator\nSidi Zeeshan Mukhtar is a Bay Area economist and a volunteer financial counselor at MCC for our Zakat applicants. He has raised three boys with his wife\, Hina Khan-Mukhtar. \nQuestions? events@mcceastbay.org \nHart Middle School’s track and field: \nDrop off & pick up location:
URL:https://mcceastbay.org/event/afternoon-flag-football-camp/
LOCATION:Hart Middle School\, Willow Road\, Pleasanton\, CA\, 4433 Willow Rd\, Pleasanton\, CA 94588\, Pleasanton\, CA\, 94588\, United States
CATEGORIES:Teen,Young Children
ATTACH;FMTTYPE=image/jpeg:https://mcceastbay.org/wp-content/uploads/2024/06/Afternoon-Flag-Football-Camp-1.jpg
ORGANIZER;CN="Muslim Community Center - East Bay":MAILTO:events@mcceastbay.org
END:VEVENT
END:VCALENDAR