BEGIN:VCALENDAR
VERSION:2.0
PRODID:-//MCC East Bay - ECPv6.15.20//NONSGML v1.0//EN
CALSCALE:GREGORIAN
METHOD:PUBLISH
X-WR-CALNAME:MCC East Bay
X-ORIGINAL-URL:https://mcceastbay.org
X-WR-CALDESC:Events for MCC East Bay
REFRESH-INTERVAL;VALUE=DURATION:PT1H
X-Robots-Tag:noindex
X-PUBLISHED-TTL:PT1H
BEGIN:VTIMEZONE
TZID:America/Los_Angeles
BEGIN:DAYLIGHT
TZOFFSETFROM:-0800
TZOFFSETTO:-0700
TZNAME:PDT
DTSTART:20240310T100000
END:DAYLIGHT
BEGIN:STANDARD
TZOFFSETFROM:-0700
TZOFFSETTO:-0800
TZNAME:PST
DTSTART:20241103T090000
END:STANDARD
BEGIN:DAYLIGHT
TZOFFSETFROM:-0800
TZOFFSETTO:-0700
TZNAME:PDT
DTSTART:20250309T100000
END:DAYLIGHT
BEGIN:STANDARD
TZOFFSETFROM:-0700
TZOFFSETTO:-0800
TZNAME:PST
DTSTART:20251102T090000
END:STANDARD
BEGIN:DAYLIGHT
TZOFFSETFROM:-0800
TZOFFSETTO:-0700
TZNAME:PDT
DTSTART:20260308T100000
END:DAYLIGHT
BEGIN:STANDARD
TZOFFSETFROM:-0700
TZOFFSETTO:-0800
TZNAME:PST
DTSTART:20261101T090000
END:STANDARD
END:VTIMEZONE
BEGIN:VEVENT
DTSTART;TZID=America/Los_Angeles:20250926T160000
DTEND;TZID=America/Los_Angeles:20250926T173000
DTSTAMP:20260419T085749
CREATED:20250903T200050Z
LAST-MODIFIED:20250926T212850Z
UID:10023959-1758902400-1758907800@mcceastbay.org
SUMMARY:*Canceled* Breaking Down the UC Application (For High School Students) | MTC Berkeley
DESCRIPTION:*Canceled* \nAfter the Friday teen Jumu’ah ends at 4 p.m.\, join us for a college admission workshop for high school students led by a panel of UC Berkeley students across all disciplines of study with the Muslim Tech Collaborative at Berkeley. Discover their experiences and challenges as they navigate their respective fields.  \nWe will review the UC admissions process\, application essay writing strategies\, and resources you need to succeed in your career path. \nWe will have a panelist Q&A afterward\, so come prepared to ask questions! Students and parents are welcome. Light refreshments will be provided. \nFriday\, Sept. 26 | 4 p.m. to 5:30 p.m. | MCC Conference Room | Join in person or watch live at mcceastbay.org/live | RSVP at mcceastbay.org/admission \nQuestions? events@mcceastbay.org  \n\nIt’s that time of year—college applications are open\, and we’re here to help!\n\n\n\nJoin us for a College Admissions Workshop for high school students\, led by a panel of UC Berkeley students across all disciplines\, in collaboration with the Muslim Tech Collaborative at Berkeley. Hear about their experiences and challenges as they navigate their fields.\n\n\n\nWe’ll cover the UC admissions process\, application essay strategies\, and essential resources to help you succeed in your career path. Stick around for the panel Q&A —come ready with your questions!\n\n\n\nStudents and parents are welcome. Light refreshments will be provided.\n\nAbout the Muslim Tech Collaborative: Founded in January 2023 in Berkeley\, CA\, MTC is a national organization dedicated to building technical projects that solve real-world problems\, educating the youth with the technical skills of tomorrow\, and advancing Muslims’ careers with our professional and entrepreneurial resources. We’re focused on generating tangible\, positive impacts on the communities around us. Learn more about us at muslimtech.org.  \n \n 
URL:https://mcceastbay.org/event/the-uc-application/
LOCATION:MCC East Bay\, 5724 W Las Positas Blvd #300\, Pleasanton\, CA\, 94588\, United States
CATEGORIES:Teen
ATTACH;FMTTYPE=image/jpeg:https://mcceastbay.org/wp-content/uploads/2025/09/College-App-Workshop.jpg
ORGANIZER;CN="Muslim Community Center - East Bay":MAILTO:events@mcceastbay.org
END:VEVENT
END:VCALENDAR