BEGIN:VCALENDAR
VERSION:2.0
PRODID:-//MCC East Bay - ECPv6.15.20//NONSGML v1.0//EN
CALSCALE:GREGORIAN
METHOD:PUBLISH
X-WR-CALNAME:MCC East Bay
X-ORIGINAL-URL:https://mcceastbay.org
X-WR-CALDESC:Events for MCC East Bay
REFRESH-INTERVAL;VALUE=DURATION:PT1H
X-Robots-Tag:noindex
X-PUBLISHED-TTL:PT1H
BEGIN:VTIMEZONE
TZID:America/Los_Angeles
BEGIN:DAYLIGHT
TZOFFSETFROM:-0800
TZOFFSETTO:-0700
TZNAME:PDT
DTSTART:20240310T100000
END:DAYLIGHT
BEGIN:STANDARD
TZOFFSETFROM:-0700
TZOFFSETTO:-0800
TZNAME:PST
DTSTART:20241103T090000
END:STANDARD
BEGIN:DAYLIGHT
TZOFFSETFROM:-0800
TZOFFSETTO:-0700
TZNAME:PDT
DTSTART:20250309T100000
END:DAYLIGHT
BEGIN:STANDARD
TZOFFSETFROM:-0700
TZOFFSETTO:-0800
TZNAME:PST
DTSTART:20251102T090000
END:STANDARD
BEGIN:DAYLIGHT
TZOFFSETFROM:-0800
TZOFFSETTO:-0700
TZNAME:PDT
DTSTART:20260308T100000
END:DAYLIGHT
BEGIN:STANDARD
TZOFFSETFROM:-0700
TZOFFSETTO:-0800
TZNAME:PST
DTSTART:20261101T090000
END:STANDARD
END:VTIMEZONE
BEGIN:VEVENT
DTSTART;TZID=America/Los_Angeles:20250523T190000
DTEND;TZID=America/Los_Angeles:20250523T210000
DTSTAMP:20260422T054955
CREATED:20250508T004117Z
LAST-MODIFIED:20250524T024246Z
UID:76546-1748026800-1748034000@mcceastbay.org
SUMMARY:American Muslims: A History Revealed (Untold Stories of Muslims in USA)
DESCRIPTION:The history of the United States is far more complex and storied than commonly understood or conveyed in standard U.S. History textbooks or courses of study. Often overlooked in most renderings of U.S. history are the histories of Muslims in America. American Muslims: A History Revealed addresses that knowledge gap by exploring significant moments in U.S. history through the lived experiences of American Muslims as told through archival sources\, historic sites\, and scholarly research. \n7 p.m. to 9 p.m. | Friday\, May 23 | MCC Conference Room | Join in person or watch virtually at mcceastbay.org/live \nAdnan Dawood\, a longtime MCC congregation member\, will moderate the discussion. We will watch two episodes of this PBS series in the community: Little Mosque on the Prairie and How Islam Influenced Black Americans in 1920s Chicago. \nAs the Muslim holy month of Ramadan ends\, we’re excited to share American Muslims: A History Revealed\, a powerful PBS series that uncovers 200 years of Muslim American history. From enslaved African Muslims to pioneering\, diverse immigrant communities\, this series offers vital stories perfect for reflection. It is hosted by Amna Nawaz from PBS. \nThis PBS series moves beyond inclusion by exploring the histories of Muslims whose lives have been well documented in the archives. Rather than attempting to fit Muslim stories into an already established American historical narrative\, the series seeks to expand the frame of that narrative to reveal that America has always been much more than any singular\, narrow story about it. Further\, the stories here are not intended to be a chronicle of accomplishments or contributions\, of what Muslims have “given” to America\, but how Muslims as Americans have transformed America as much as they have been transformed. These are not just stories of how Muslims become American\, but of America’s becoming\, an ongoing process that includes everyone\, not just American Muslims. The episodes in this series thus offer a way to expand\, deepen\, pluralize\, and complicate commonly held ideas about the stories of Muslims in America\, and more significantly\, of America itself. \n\n– Watch the entire series at https://maestro.tv/picturemotion/american-muslims\n– Discussion guide: https://drive.google.com/file/d/1JxwrZ7taljwW4ej4Flf8VVs7EZ6nvJNA/view\n\nQuestions? events@mcceastbay.org
URL:https://mcceastbay.org/event/american-muslims-history-revealed/
LOCATION:MCC East Bay\, 5724 W Las Positas Blvd #300\, Pleasanton\, CA\, 94588\, United States
ATTACH;FMTTYPE=image/jpeg:https://mcceastbay.org/wp-content/uploads/2025/05/Movie-DIscussion.jpg
END:VEVENT
END:VCALENDAR