BEGIN:VCALENDAR
VERSION:2.0
PRODID:-//MCC East Bay - ECPv6.15.20//NONSGML v1.0//EN
CALSCALE:GREGORIAN
METHOD:PUBLISH
X-WR-CALNAME:MCC East Bay
X-ORIGINAL-URL:https://mcceastbay.org
X-WR-CALDESC:Events for MCC East Bay
REFRESH-INTERVAL;VALUE=DURATION:PT1H
X-Robots-Tag:noindex
X-PUBLISHED-TTL:PT1H
BEGIN:VTIMEZONE
TZID:America/Los_Angeles
BEGIN:DAYLIGHT
TZOFFSETFROM:-0800
TZOFFSETTO:-0700
TZNAME:PDT
DTSTART:20220313T100000
END:DAYLIGHT
BEGIN:STANDARD
TZOFFSETFROM:-0700
TZOFFSETTO:-0800
TZNAME:PST
DTSTART:20221106T090000
END:STANDARD
BEGIN:DAYLIGHT
TZOFFSETFROM:-0800
TZOFFSETTO:-0700
TZNAME:PDT
DTSTART:20230312T100000
END:DAYLIGHT
BEGIN:STANDARD
TZOFFSETFROM:-0700
TZOFFSETTO:-0800
TZNAME:PST
DTSTART:20231105T090000
END:STANDARD
BEGIN:DAYLIGHT
TZOFFSETFROM:-0800
TZOFFSETTO:-0700
TZNAME:PDT
DTSTART:20240310T100000
END:DAYLIGHT
BEGIN:STANDARD
TZOFFSETFROM:-0700
TZOFFSETTO:-0800
TZNAME:PST
DTSTART:20241103T090000
END:STANDARD
END:VTIMEZONE
BEGIN:VEVENT
DTSTART;TZID=America/Los_Angeles:20230714T183000
DTEND;TZID=America/Los_Angeles:20230714T203000
DTSTAMP:20260425T094354
CREATED:20230629T235917Z
LAST-MODIFIED:20230629T235917Z
UID:64502-1689359400-1689366600@mcceastbay.org
SUMMARY:Machine Learning and Artificial Intelligence Introductory Class | Dr. Asif Qamar
DESCRIPTION:Join us for a Friday evening with Dr. Asif Qamar (Founder & Chief Data Scientist at SupportVectors) to learn about the AI revolution happening right now and the need for deeply trained scientists and engineers who can be a part of the revolution.Friday\, July 14 | 6:30 p.m. to 8:30 p.m. PST | MCC Conference Room | Join in person; RSVP @ mcceastbay.org/ai | Watch live at mcceastbay.org/liveAbout Dr. Asif Qamar: \n\n\n\nOver more than two decades\, Asif’s career has spanned two parallel tracks: a profound technical researcher\, architect\, and passionate educator. \n\n\n\nWith his Masters in Computer Science from the University of Illinois\, Urbana-Champaign\, and Masters’s and Doctoral Studies in Theoretical Physics from Syracuse University\, Asif has worked on various projects. He has worked with NASA and NCSA\, Medisavant as a Co-Founder\, UC Berkeley as an Instructor\, and Oracle. Today\, he is the Vice President and Chief Analytics Architect at Cornerstone OnDemand in addition to being the President\, the CEO\, and a Lecturer at SupportVectors. \n\n\n\nWhile he primarily spends his time technically leading research and development efforts\, he finds expression for his love of teaching in the workshops he offers over the weekends. He aims to mentor and cultivate the next generation of great technical craftsmen through this.
URL:https://mcceastbay.org/event/artificial-intelligence/
LOCATION:MCC East Bay\, 5724 W Las Positas Blvd #300\, Pleasanton\, CA\, 94588\, United States
ATTACH;FMTTYPE=image/jpeg:https://mcceastbay.org/wp-content/uploads/2024/06/AI-Family-Night.jpg
END:VEVENT
END:VCALENDAR