BEGIN:VCALENDAR
VERSION:2.0
PRODID:-//MCC East Bay - ECPv6.15.20//NONSGML v1.0//EN
CALSCALE:GREGORIAN
METHOD:PUBLISH
X-WR-CALNAME:MCC East Bay
X-ORIGINAL-URL:https://mcceastbay.org
X-WR-CALDESC:Events for MCC East Bay
REFRESH-INTERVAL;VALUE=DURATION:PT1H
X-Robots-Tag:noindex
X-PUBLISHED-TTL:PT1H
BEGIN:VTIMEZONE
TZID:America/Los_Angeles
BEGIN:DAYLIGHT
TZOFFSETFROM:-0800
TZOFFSETTO:-0700
TZNAME:PDT
DTSTART:20240310T100000
END:DAYLIGHT
BEGIN:STANDARD
TZOFFSETFROM:-0700
TZOFFSETTO:-0800
TZNAME:PST
DTSTART:20241103T090000
END:STANDARD
BEGIN:DAYLIGHT
TZOFFSETFROM:-0800
TZOFFSETTO:-0700
TZNAME:PDT
DTSTART:20250309T100000
END:DAYLIGHT
BEGIN:STANDARD
TZOFFSETFROM:-0700
TZOFFSETTO:-0800
TZNAME:PST
DTSTART:20251102T090000
END:STANDARD
BEGIN:DAYLIGHT
TZOFFSETFROM:-0800
TZOFFSETTO:-0700
TZNAME:PDT
DTSTART:20260308T100000
END:DAYLIGHT
BEGIN:STANDARD
TZOFFSETFROM:-0700
TZOFFSETTO:-0800
TZNAME:PST
DTSTART:20261101T090000
END:STANDARD
END:VTIMEZONE
BEGIN:VEVENT
DTSTART;TZID=America/Los_Angeles:20250711T183000
DTEND;TZID=America/Los_Angeles:20250711T193000
DTSTAMP:20260422T015752
CREATED:20250513T210600Z
LAST-MODIFIED:20250712T045702Z
UID:76663-1752258600-1752262200@mcceastbay.org
SUMMARY:Author's Event: Fatima al-Samarqandi Female Muslim Hero From The 12th Century
DESCRIPTION:Inspire young Muslims to take pride in their history.  \nFatima al-Samarqandi is an inspiring story about a female Muslim hero from the 12th century\, a scholar\, jurist\, and advisor to a king. The book will be available for purchase after the author’s event. \n6:30 p.m. to 7:30 p.m. | Friday\, July 11 | MCC Conference Room | Join us in person or watch virtually at mcceastbay.org/live \nAfter the event\, you can purchase the book “Fatima Al-Samarqandi: Inspiring Story of a Female Muslim Hero from the 12th Century” for $27. \nQuestions? events@mcceastbay.org \nIn today’s world\, our children grow up reading about the stories of courage\, brilliance\, and leadership that shaped the world. But there is a gap. We do not have enough stories that reflect the rich legacy of Muslim heroes\, especially Muslim women. \nThis book bridges that gap by: \n\nIt presents an engaging and empowering story of the 12th-century female scholar Fatima Samarqandi\, with vibrant illustrations that bring 12th-century Samarkand to life.\n– The story instills pride in the rich tapestry of Islamic heritage \n\nAbout the Author:\nFarhatjahan Saiyed is a Homeschooling Mother\, Educator\, Entrepreneur\, and Environmentalist. She profoundly believes that empowering our children with the legacy of Muslim heroes is one of the best ways to nurture confidence in their Muslim identity. Sharing the stories of remarkable individuals who led successful and pious lives while uncovering the forgotten treasures of Islamic history inspires young minds to grow with purpose. As a parent and advocate for meaningful and mindful education\, she felt inspired to create a book that encourages children to explore\, question\, and celebrate their rich heritage with pride and curiosity. \nWhy This Book Matters:\nIn today’s world\, stories about historical figures like Fatima al-Samarqandi are largely untold. Most children grow up without learning about the inspiring contributions of Muslim scholars\, especially women\, in shaping history. \nThis book bridges that gap by:\n📖 Presenting a fun\, engaging\, and empowering story for children aged 7+.\n🎨 Featuring vibrant illustrations that bring 12th-century Samarkand to life.\n🌍 Inspiring coming generations by instilling pride in the rich tapestry of Islamic heritage and its commitment to learning. \n“Fatima al Samarqandi’s legacy doesn’t just benefit our daughters\, but also our sons at a time when confusion of roles and gender may create an inferiority complex. This book is more than just a story—it’s a tool to empower the next generation with the legacy of true character\, intellect\, resilience and light…” \n– Ustadha Shamira Chothia (Scholar\, Co-Founder- The Rahma Foundation\, Public Speaker) \n“In an age when many Muslim voices are being silenced\, it is important to have our voices heard and our narrative reclaimed. Sister Farhat is part of this vital endeavor by bringing to light the work and life of an important female contributor to Islam.”\n Ustadh Abu Ayyub Marulanda\nFounder\, In the Shade of the Minaret
URL:https://mcceastbay.org/event/authors-event-fatima-al-samarqand/
LOCATION:MCC East Bay\, 5724 W Las Positas Blvd #300\, Pleasanton\, CA\, 94588\, United States
CATEGORIES:Young Children
ATTACH;FMTTYPE=image/jpeg:https://mcceastbay.org/wp-content/uploads/2025/05/Updated-Fatima-al-Samarqandi.jpg
ORGANIZER;CN="Muslim Community Center - East Bay":MAILTO:events@mcceastbay.org
END:VEVENT
END:VCALENDAR