BEGIN:VCALENDAR
VERSION:2.0
PRODID:-//MCC East Bay - ECPv6.15.20//NONSGML v1.0//EN
CALSCALE:GREGORIAN
METHOD:PUBLISH
X-WR-CALNAME:MCC East Bay
X-ORIGINAL-URL:https://mcceastbay.org
X-WR-CALDESC:Events for MCC East Bay
REFRESH-INTERVAL;VALUE=DURATION:PT1H
X-Robots-Tag:noindex
X-PUBLISHED-TTL:PT1H
BEGIN:VTIMEZONE
TZID:America/Los_Angeles
BEGIN:DAYLIGHT
TZOFFSETFROM:-0800
TZOFFSETTO:-0700
TZNAME:PDT
DTSTART:20250309T100000
END:DAYLIGHT
BEGIN:STANDARD
TZOFFSETFROM:-0700
TZOFFSETTO:-0800
TZNAME:PST
DTSTART:20251102T090000
END:STANDARD
BEGIN:DAYLIGHT
TZOFFSETFROM:-0800
TZOFFSETTO:-0700
TZNAME:PDT
DTSTART:20260308T100000
END:DAYLIGHT
BEGIN:STANDARD
TZOFFSETFROM:-0700
TZOFFSETTO:-0800
TZNAME:PST
DTSTART:20261101T090000
END:STANDARD
BEGIN:DAYLIGHT
TZOFFSETFROM:-0800
TZOFFSETTO:-0700
TZNAME:PDT
DTSTART:20270314T100000
END:DAYLIGHT
BEGIN:STANDARD
TZOFFSETFROM:-0700
TZOFFSETTO:-0800
TZNAME:PST
DTSTART:20271107T090000
END:STANDARD
END:VTIMEZONE
BEGIN:VEVENT
DTSTART;TZID=America/Los_Angeles:20260102T123000
DTEND;TZID=America/Los_Angeles:20260102T150000
DTSTAMP:20260422T022315
CREATED:20260101T161917Z
LAST-MODIFIED:20260101T161949Z
UID:81011-1767357000-1767366000@mcceastbay.org
SUMMARY:Axis Community Health Tables @ MCC Jumu’ahs
DESCRIPTION:Axis Community Health is the main health clinic for the Tri-Valley. They provide quality\, affordable\, accessible\, and compassionate healthcare services that promote the well-being of all community members. They offer a wide range of services such as primary medical care\, dental care\, and behavioral health\, as well as WIC nutrition services\, acupuncture\, and chiropractic services. During the three Jumu’ah services on this Friday\, they will assist with enrollment appointments and answer any questions you may have.
URL:https://mcceastbay.org/event/axis-community-health-tables-mcc-jumuahs-4/
LOCATION:MCC East Bay\, 5724 W Las Positas Blvd #300\, Pleasanton\, CA\, 94588\, United States
ATTACH;FMTTYPE=image/jpeg:https://mcceastbay.org/wp-content/uploads/2024/06/axis-community-health-scaled-1.jpeg
END:VEVENT
END:VCALENDAR