BEGIN:VCALENDAR
VERSION:2.0
PRODID:-//MCC East Bay - ECPv6.15.20//NONSGML v1.0//EN
CALSCALE:GREGORIAN
METHOD:PUBLISH
X-WR-CALNAME:MCC East Bay
X-ORIGINAL-URL:https://mcceastbay.org
X-WR-CALDESC:Events for MCC East Bay
REFRESH-INTERVAL;VALUE=DURATION:PT1H
X-Robots-Tag:noindex
X-PUBLISHED-TTL:PT1H
BEGIN:VTIMEZONE
TZID:America/Los_Angeles
BEGIN:DAYLIGHT
TZOFFSETFROM:-0800
TZOFFSETTO:-0700
TZNAME:PDT
DTSTART:20240310T100000
END:DAYLIGHT
BEGIN:STANDARD
TZOFFSETFROM:-0700
TZOFFSETTO:-0800
TZNAME:PST
DTSTART:20241103T090000
END:STANDARD
BEGIN:DAYLIGHT
TZOFFSETFROM:-0800
TZOFFSETTO:-0700
TZNAME:PDT
DTSTART:20250309T100000
END:DAYLIGHT
BEGIN:STANDARD
TZOFFSETFROM:-0700
TZOFFSETTO:-0800
TZNAME:PST
DTSTART:20251102T090000
END:STANDARD
BEGIN:DAYLIGHT
TZOFFSETFROM:-0800
TZOFFSETTO:-0700
TZNAME:PDT
DTSTART:20260308T100000
END:DAYLIGHT
BEGIN:STANDARD
TZOFFSETFROM:-0700
TZOFFSETTO:-0800
TZNAME:PST
DTSTART:20261101T090000
END:STANDARD
END:VTIMEZONE
BEGIN:VEVENT
DTSTART;TZID=America/Los_Angeles:20251114T123000
DTEND;TZID=America/Los_Angeles:20251114T150000
DTSTAMP:20260421T141802
CREATED:20251029T163941Z
LAST-MODIFIED:20251029T163941Z
UID:80169-1763123400-1763132400@mcceastbay.org
SUMMARY:Bay Area Community Health Tables @ MCC Jumu'ahs
DESCRIPTION:Bay Area Community Health was formed in 2020 on the strength of Southern Alameda County’s Tri-City Health Center and Santa Clara County’s Foothill Community Health Center. Formed during the middle of the COVID-19 pandemic\, Bay Area Community Health (BACH) brings more than 70 years of combined service to an area that stretches from Union City to Gilroy. \nThis Friday\, they will be providing information and enrollment on Medi-Cal and other public benefit programs\, and access to primary care service appointments. Visit their table to learn more.
URL:https://mcceastbay.org/event/bay-area-community-health-tables-mcc-jumuahs/
ATTACH;FMTTYPE=image/png:https://mcceastbay.org/wp-content/uploads/2025/10/Bay-Area-Health-Community.png
END:VEVENT
END:VCALENDAR