BEGIN:VCALENDAR
VERSION:2.0
PRODID:-//MCC East Bay - ECPv6.15.20//NONSGML v1.0//EN
CALSCALE:GREGORIAN
METHOD:PUBLISH
X-WR-CALNAME:MCC East Bay
X-ORIGINAL-URL:https://mcceastbay.org
X-WR-CALDESC:Events for MCC East Bay
REFRESH-INTERVAL;VALUE=DURATION:PT1H
X-Robots-Tag:noindex
X-PUBLISHED-TTL:PT1H
BEGIN:VTIMEZONE
TZID:America/Los_Angeles
BEGIN:DAYLIGHT
TZOFFSETFROM:-0800
TZOFFSETTO:-0700
TZNAME:PDT
DTSTART:20240310T100000
END:DAYLIGHT
BEGIN:STANDARD
TZOFFSETFROM:-0700
TZOFFSETTO:-0800
TZNAME:PST
DTSTART:20241103T090000
END:STANDARD
BEGIN:DAYLIGHT
TZOFFSETFROM:-0800
TZOFFSETTO:-0700
TZNAME:PDT
DTSTART:20250309T100000
END:DAYLIGHT
BEGIN:STANDARD
TZOFFSETFROM:-0700
TZOFFSETTO:-0800
TZNAME:PST
DTSTART:20251102T090000
END:STANDARD
BEGIN:DAYLIGHT
TZOFFSETFROM:-0800
TZOFFSETTO:-0700
TZNAME:PDT
DTSTART:20260308T100000
END:DAYLIGHT
BEGIN:STANDARD
TZOFFSETFROM:-0700
TZOFFSETTO:-0800
TZNAME:PST
DTSTART:20261101T090000
END:STANDARD
END:VTIMEZONE
BEGIN:VEVENT
DTSTART;TZID=America/Los_Angeles:20250913T093000
DTEND;TZID=America/Los_Angeles:20250913T110000
DTSTAMP:20260419T073244
CREATED:20250828T182654Z
LAST-MODIFIED:20250828T182656Z
UID:10023946-1757755800-1757761200@mcceastbay.org
SUMMARY:Saturday Morning Flag Football Sessions for Boys
DESCRIPTION:For Boys Ages 7-14: Join us for four sessions of flag football\, which includes warm-ups\, basics\, drills\, and games. These sessions are organized by peers in our community who love working with youth. \nSaturdays\, 9/13\, 9/20\, 9/27\, & 10/4 | 9:30 a.m. to 11:00 a.m. | Creekside Park | Boys Ages 7-14 | $50 for all 4 sessions or $15/session; register at mcceastbay.org/flag-football\n\nLimited to 60 participants. \nDads are encouraged to come and stay and participate as well. \nQuestions? events@mcceastbay.org \nMCC has a standing policy that financial need should never hold a person back from attaining knowledge offered within the four walls of MCC the facility. To request a financial waiver or discount\, please complete: https://mcceastbay.org/scholarship \nCamp facilitators\nAzmat Zeeshan Mukhtar is a local father and mentor from our community who enjoys sports and spending time with kids. He will organize the activities and recruit other dads to help volunteer\, making this a rewarding experience for our young Muslim boys.
URL:https://mcceastbay.org/event/boys-flag-football/2025-09-13/
LOCATION:Creekside Park\, 5601 W Las Positas Blvd\, Pleasanton\, California\, 94588
ATTACH;FMTTYPE=image/png:https://mcceastbay.org/wp-content/uploads/2025/08/Flag-Football.png
END:VEVENT
END:VCALENDAR