BEGIN:VCALENDAR
VERSION:2.0
PRODID:-//MCC East Bay - ECPv6.15.20//NONSGML v1.0//EN
CALSCALE:GREGORIAN
METHOD:PUBLISH
X-WR-CALNAME:MCC East Bay
X-ORIGINAL-URL:https://mcceastbay.org
X-WR-CALDESC:Events for MCC East Bay
REFRESH-INTERVAL;VALUE=DURATION:PT1H
X-Robots-Tag:noindex
X-PUBLISHED-TTL:PT1H
BEGIN:VTIMEZONE
TZID:America/Los_Angeles
BEGIN:DAYLIGHT
TZOFFSETFROM:-0800
TZOFFSETTO:-0700
TZNAME:PDT
DTSTART:20240310T100000
END:DAYLIGHT
BEGIN:STANDARD
TZOFFSETFROM:-0700
TZOFFSETTO:-0800
TZNAME:PST
DTSTART:20241103T090000
END:STANDARD
BEGIN:DAYLIGHT
TZOFFSETFROM:-0800
TZOFFSETTO:-0700
TZNAME:PDT
DTSTART:20250309T100000
END:DAYLIGHT
BEGIN:STANDARD
TZOFFSETFROM:-0700
TZOFFSETTO:-0800
TZNAME:PST
DTSTART:20251102T090000
END:STANDARD
BEGIN:DAYLIGHT
TZOFFSETFROM:-0800
TZOFFSETTO:-0700
TZNAME:PDT
DTSTART:20260308T100000
END:DAYLIGHT
BEGIN:STANDARD
TZOFFSETFROM:-0700
TZOFFSETTO:-0800
TZNAME:PST
DTSTART:20261101T090000
END:STANDARD
END:VTIMEZONE
BEGIN:VEVENT
DTSTART;TZID=America/Los_Angeles:20250307T223000
DTEND;TZID=America/Los_Angeles:20250308T050000
DTSTAMP:20260421T071014
CREATED:20250301T002346Z
LAST-MODIFIED:20250301T002910Z
UID:74813-1741386600-1741410000@mcceastbay.org
SUMMARY:Boys Qiyam with Sidi Quran Hodge
DESCRIPTION:For teenage boys ages 13 to 19: After the nightly Taraweeh ends on Friday night\, join us for a night of Qiyam led by Sidi Qur’an Hodge to connect with Allah (swt) and gain the blessings of this blessed month. \nFriday\, March 7 | After Taraweeh prayers end (~10:30 p.m.) until Fajr (5 a.m.) | MCC Conference Room | $5/person; capped at 50 | Boys ages 13 to 19 | Regiser at mcceastbay.org/boys-qiyam \nAbout the Facilitator \nQur’an Hodge is a Bay Area native. He began his Islamic education in 2019\, studying Arabic at the Al Maqasid Seminary in Pennsylvania. Sidi Quran continued to Dar Al Mustafa\, a Yemeni Islamic university in Tarim\, Hadhramaut. At this Islamic seminary founded by Habib Umar bin Hafiz\, Sidi Qur’an studied Ibtidaiyya\, Hadith\, Aqida\, Seerah\, Nahw\, Quran Hifzdh\, Kitaba\, and Tafseer in classical Arabic. \nSidi Quran Hodge has completed certificates in Taleef Collective’s Refining the Core and Zaytuna College’s Permaculture Program. He is passionate about creatively working on community issues\, particularly the challenges Muslim youth face. He lives with his wife and child in Castro Valley. \nQuestions? events@mcceastbay.org
URL:https://mcceastbay.org/event/boys-qiyam-in-ramadan/
LOCATION:MCC East Bay\, 5724 W Las Positas Blvd #300\, Pleasanton\, CA\, 94588\, United States
ATTACH;FMTTYPE=image/jpeg:https://mcceastbay.org/wp-content/uploads/2025/02/High-School-Boys-Qiyam.jpg
ORGANIZER;CN="Muslim Community Center - East Bay":MAILTO:events@mcceastbay.org
END:VEVENT
END:VCALENDAR