BEGIN:VCALENDAR
VERSION:2.0
PRODID:-//MCC East Bay - ECPv6.15.20//NONSGML v1.0//EN
CALSCALE:GREGORIAN
METHOD:PUBLISH
X-WR-CALNAME:MCC East Bay
X-ORIGINAL-URL:https://mcceastbay.org
X-WR-CALDESC:Events for MCC East Bay
REFRESH-INTERVAL;VALUE=DURATION:PT1H
X-Robots-Tag:noindex
X-PUBLISHED-TTL:PT1H
BEGIN:VTIMEZONE
TZID:America/Los_Angeles
BEGIN:DAYLIGHT
TZOFFSETFROM:-0800
TZOFFSETTO:-0700
TZNAME:PDT
DTSTART:20230312T100000
END:DAYLIGHT
BEGIN:STANDARD
TZOFFSETFROM:-0700
TZOFFSETTO:-0800
TZNAME:PST
DTSTART:20231105T090000
END:STANDARD
BEGIN:DAYLIGHT
TZOFFSETFROM:-0800
TZOFFSETTO:-0700
TZNAME:PDT
DTSTART:20240310T100000
END:DAYLIGHT
BEGIN:STANDARD
TZOFFSETFROM:-0700
TZOFFSETTO:-0800
TZNAME:PST
DTSTART:20241103T090000
END:STANDARD
BEGIN:DAYLIGHT
TZOFFSETFROM:-0800
TZOFFSETTO:-0700
TZNAME:PDT
DTSTART:20250309T100000
END:DAYLIGHT
BEGIN:STANDARD
TZOFFSETFROM:-0700
TZOFFSETTO:-0800
TZNAME:PST
DTSTART:20251102T090000
END:STANDARD
END:VTIMEZONE
BEGIN:VEVENT
DTSTART;TZID=America/Los_Angeles:20240315T230000
DTEND;TZID=America/Los_Angeles:20240316T063000
DTSTAMP:20260419T081326
CREATED:20240311T090334Z
LAST-MODIFIED:20240813T003114Z
UID:65295-1710543600-1710570600@mcceastbay.org
SUMMARY:Boys Qiyam with Sidi Qur'an Hodge
DESCRIPTION:For teenage boys ages 13 to 19: After the nightly Taraweeh ends on Friday night\, join us for a night of Qiyam led by Sidi Qur’an Hodge to connect with Allah (swt) and gain the blessings of this blessed month. Friday\, March 15 | After Taraweeh prayers end (~11 p.m.) until Fajr (6:30 a.m.) | MCC Conference Room | $5/person; capped at 50 | Boys ages 13 to 19 | Register at mcceastbay.org/boys-qiyam \n\n– More Sidi Quran: http://mcceastbay.org/quran-hodge\n\n\n\n\nAbout the Facilitator \n\n\n\nQur’an Hodge is a Bay Area native. He began his Islamic education in 2019\, studying Arabic at the Al Maqasid Seminary in Pennsylvania. Sidi Quran continued to Dar Al Mustafa\, a Yemeni Islamic university in Tarim\, Hadhramaut. At this Islamic seminary founded by Habib Umar bin Hafiz\, Sidi Qur’an studied Ibtidaiyya\, Hadith\, Aqida\, Seerah\, Nahw\, Quran Hifzdh\, Kitaba\, and Tafseer in classical Arabic. \n\n\n\nSidi Quran Hodge has completed certificates in Taleef Collective’s Refing the Core and Zaytuna College’s Permaculture Program. He is passionate about creatively working on community issues\, particularly the challenges Muslim youth face. He lives with his wife and child in Castro Valley. \n\n\n\nQuestions? events@mcceastbay.org \n\n\n\n\n\n\n\n\n\n\n\n\n\n\n\n\n\n 
URL:https://mcceastbay.org/event/boys-qiyam-with-sidi-quran-hodge/
ATTACH;FMTTYPE=image/jpeg:https://mcceastbay.org/wp-content/uploads/2024/06/High-School-Boys-Qiyam.jpg
END:VEVENT
END:VCALENDAR