BEGIN:VCALENDAR
VERSION:2.0
PRODID:-//MCC East Bay - ECPv6.15.20//NONSGML v1.0//EN
CALSCALE:GREGORIAN
METHOD:PUBLISH
X-WR-CALNAME:MCC East Bay
X-ORIGINAL-URL:https://mcceastbay.org
X-WR-CALDESC:Events for MCC East Bay
REFRESH-INTERVAL;VALUE=DURATION:PT1H
X-Robots-Tag:noindex
X-PUBLISHED-TTL:PT1H
BEGIN:VTIMEZONE
TZID:America/Los_Angeles
BEGIN:DAYLIGHT
TZOFFSETFROM:-0800
TZOFFSETTO:-0700
TZNAME:PDT
DTSTART:20220313T100000
END:DAYLIGHT
BEGIN:STANDARD
TZOFFSETFROM:-0700
TZOFFSETTO:-0800
TZNAME:PST
DTSTART:20221106T090000
END:STANDARD
BEGIN:DAYLIGHT
TZOFFSETFROM:-0800
TZOFFSETTO:-0700
TZNAME:PDT
DTSTART:20230312T100000
END:DAYLIGHT
BEGIN:STANDARD
TZOFFSETFROM:-0700
TZOFFSETTO:-0800
TZNAME:PST
DTSTART:20231105T090000
END:STANDARD
BEGIN:DAYLIGHT
TZOFFSETFROM:-0800
TZOFFSETTO:-0700
TZNAME:PDT
DTSTART:20240310T100000
END:DAYLIGHT
BEGIN:STANDARD
TZOFFSETFROM:-0700
TZOFFSETTO:-0800
TZNAME:PST
DTSTART:20241103T090000
END:STANDARD
END:VTIMEZONE
BEGIN:VEVENT
DTSTART;TZID=America/Los_Angeles:20231017T190000
DTEND;TZID=America/Los_Angeles:20231017T193000
DTSTAMP:20260424T131455
CREATED:20231017T232956Z
LAST-MODIFIED:20231017T232956Z
UID:64812-1697569200-1697571000@mcceastbay.org
SUMMARY:CAIR Anniversary | Dublin City Council
DESCRIPTION:The Dublin City Council is honoring CAIR-SFBA on its 29th anniversary. CAIR-SFBA serves over 250\,000 Muslims in the Bay Area. We encourage the MCC congregation to attend and show support.  \n\n\n\nRiyad Sood\, Paralegal\, and Musa Tariq\, Policy Coordinator\, will accept the certificate on behalf of CAIR California San Francisco Bay Area. \n\n\n\nTuesday\, Oct. 17 | 7 p.m. to 7:30 p.m. | City Council Chamber | Join in-person or watch at www.tv30.org and on the City’s website at: https://dublin.ca.gov/ccmeetings \n\n\n\n\n– More CAIR-cosponsored events: https://mcceastbay.org/cair\n\n\n\n\nQuestions? events@mcceastbay.org
URL:https://mcceastbay.org/event/cair-anniversary-dublin-city-council/
ATTACH;FMTTYPE=image/png:https://mcceastbay.org/wp-content/uploads/2024/06/CAIR-California.png
END:VEVENT
END:VCALENDAR