BEGIN:VCALENDAR
VERSION:2.0
PRODID:-//MCC East Bay - ECPv6.15.20//NONSGML v1.0//EN
CALSCALE:GREGORIAN
METHOD:PUBLISH
X-WR-CALNAME:MCC East Bay
X-ORIGINAL-URL:https://mcceastbay.org
X-WR-CALDESC:Events for MCC East Bay
REFRESH-INTERVAL;VALUE=DURATION:PT1H
X-Robots-Tag:noindex
X-PUBLISHED-TTL:PT1H
BEGIN:VTIMEZONE
TZID:America/Los_Angeles
BEGIN:DAYLIGHT
TZOFFSETFROM:-0800
TZOFFSETTO:-0700
TZNAME:PDT
DTSTART:20240310T100000
END:DAYLIGHT
BEGIN:STANDARD
TZOFFSETFROM:-0700
TZOFFSETTO:-0800
TZNAME:PST
DTSTART:20241103T090000
END:STANDARD
BEGIN:DAYLIGHT
TZOFFSETFROM:-0800
TZOFFSETTO:-0700
TZNAME:PDT
DTSTART:20250309T100000
END:DAYLIGHT
BEGIN:STANDARD
TZOFFSETFROM:-0700
TZOFFSETTO:-0800
TZNAME:PST
DTSTART:20251102T090000
END:STANDARD
BEGIN:DAYLIGHT
TZOFFSETFROM:-0800
TZOFFSETTO:-0700
TZNAME:PDT
DTSTART:20260308T100000
END:DAYLIGHT
BEGIN:STANDARD
TZOFFSETFROM:-0700
TZOFFSETTO:-0800
TZNAME:PST
DTSTART:20261101T090000
END:STANDARD
END:VTIMEZONE
BEGIN:VEVENT
DTSTART;TZID=America/Los_Angeles:20250418T133000
DTEND;TZID=America/Los_Angeles:20250418T160000
DTSTAMP:20260424T143646
CREATED:20250409T161702Z
LAST-MODIFIED:20250409T174633Z
UID:75745-1744983000-1744992000@mcceastbay.org
SUMMARY:CAIR-SFBA Tables @ MCC Jumu’ahs
DESCRIPTION:CAIR-SFBA is a civil rights non-profit that provides civil rights and immigration services to Muslims. During April and May\, they are hosting the Muslim Gamechangers Network for high school students. \nMGN is a transformative four-week initiative for Muslim youth who want to use their voices to drive change. Led by influential Muslim leaders in politics\, city council\, and civic engagement\, it will give you invaluable insights into advocacy\, leadership\, and making a difference in your community. \nTo sign up or learn more\, or if you have any questions about immigration or your rights as a Muslim in America\, please visit their table this Friday.
URL:https://mcceastbay.org/event/cair-sfba-tables-mcc-jumuahs-4/
LOCATION:MCC East Bay\, 5724 W Las Positas Blvd #300\, Pleasanton\, CA\, 94588\, United States
ATTACH;FMTTYPE=image/png:https://mcceastbay.org/wp-content/uploads/2024/06/CAIR-California.png
END:VEVENT
END:VCALENDAR