BEGIN:VCALENDAR
VERSION:2.0
PRODID:-//MCC East Bay - ECPv6.15.20//NONSGML v1.0//EN
CALSCALE:GREGORIAN
METHOD:PUBLISH
X-WR-CALNAME:MCC East Bay
X-ORIGINAL-URL:https://mcceastbay.org
X-WR-CALDESC:Events for MCC East Bay
REFRESH-INTERVAL;VALUE=DURATION:PT1H
X-Robots-Tag:noindex
X-PUBLISHED-TTL:PT1H
BEGIN:VTIMEZONE
TZID:America/Los_Angeles
BEGIN:DAYLIGHT
TZOFFSETFROM:-0800
TZOFFSETTO:-0700
TZNAME:PDT
DTSTART:20240310T100000
END:DAYLIGHT
BEGIN:STANDARD
TZOFFSETFROM:-0700
TZOFFSETTO:-0800
TZNAME:PST
DTSTART:20241103T090000
END:STANDARD
BEGIN:DAYLIGHT
TZOFFSETFROM:-0800
TZOFFSETTO:-0700
TZNAME:PDT
DTSTART:20250309T100000
END:DAYLIGHT
BEGIN:STANDARD
TZOFFSETFROM:-0700
TZOFFSETTO:-0800
TZNAME:PST
DTSTART:20251102T090000
END:STANDARD
BEGIN:DAYLIGHT
TZOFFSETFROM:-0800
TZOFFSETTO:-0700
TZNAME:PDT
DTSTART:20260308T100000
END:DAYLIGHT
BEGIN:STANDARD
TZOFFSETFROM:-0700
TZOFFSETTO:-0800
TZNAME:PST
DTSTART:20261101T090000
END:STANDARD
END:VTIMEZONE
BEGIN:VEVENT
DTSTART;TZID=America/Los_Angeles:20250608T110000
DTEND;TZID=America/Los_Angeles:20250608T140000
DTSTAMP:20260421T132740
CREATED:20250604T174446Z
LAST-MODIFIED:20250604T174749Z
UID:77150-1749380400-1749391200@mcceastbay.org
SUMMARY:New Muslim Eid Brunch | MCC Convert Care Team
DESCRIPTION:For Converts and Friends/Family Only: Join us for brunch as we welcome new Muslim brothers and sisters into the deen and our community for Eid \n\n\n\nSunday\, June 8 | 11 a.m. to 2 p.m.| Banquet Hall | In-person only | RSVP at mcceastbay.org/brunch \n\n\n\n\n– How MCC supports new Muslims: https://mcceastbay.org/convert-care\n\n\n\n– Recordings of educational talks for the reverts playlist: https://mcceastbay.org/after-shahada\n\n\n\n– Shahadah moments at the MCC: https://mcceastbay.org/shahada\n\n\n\n\nQuestions? mentorship@mcceastbay.org \n\n\n\n\n\n\n\n\n\n\n\n\n\n\n\n\n\n 
URL:https://mcceastbay.org/event/convert-brunch-eid/
LOCATION:MCC East Bay\, 5724 W Las Positas Blvd #300\, Pleasanton\, CA\, 94588\, United States
CATEGORIES:New Muslims
ATTACH;FMTTYPE=image/png:https://mcceastbay.org/wp-content/uploads/2025/06/Convert-Brunch-New-Muslim-Brunch-MCC-Convert-Care-Team-scaled.png
ORGANIZER;CN="Muslim Community Center - East Bay":MAILTO:events@mcceastbay.org
END:VEVENT
END:VCALENDAR