BEGIN:VCALENDAR
VERSION:2.0
PRODID:-//MCC East Bay - ECPv6.15.20//NONSGML v1.0//EN
CALSCALE:GREGORIAN
METHOD:PUBLISH
X-WR-CALNAME:MCC East Bay
X-ORIGINAL-URL:https://mcceastbay.org
X-WR-CALDESC:Events for MCC East Bay
REFRESH-INTERVAL;VALUE=DURATION:PT1H
X-Robots-Tag:noindex
X-PUBLISHED-TTL:PT1H
BEGIN:VTIMEZONE
TZID:America/Los_Angeles
BEGIN:DAYLIGHT
TZOFFSETFROM:-0800
TZOFFSETTO:-0700
TZNAME:PDT
DTSTART:20210314T100000
END:DAYLIGHT
BEGIN:STANDARD
TZOFFSETFROM:-0700
TZOFFSETTO:-0800
TZNAME:PST
DTSTART:20211107T090000
END:STANDARD
BEGIN:DAYLIGHT
TZOFFSETFROM:-0800
TZOFFSETTO:-0700
TZNAME:PDT
DTSTART:20220313T100000
END:DAYLIGHT
BEGIN:STANDARD
TZOFFSETFROM:-0700
TZOFFSETTO:-0800
TZNAME:PST
DTSTART:20221106T090000
END:STANDARD
BEGIN:DAYLIGHT
TZOFFSETFROM:-0800
TZOFFSETTO:-0700
TZNAME:PDT
DTSTART:20230312T100000
END:DAYLIGHT
BEGIN:STANDARD
TZOFFSETFROM:-0700
TZOFFSETTO:-0800
TZNAME:PST
DTSTART:20231105T090000
END:STANDARD
END:VTIMEZONE
BEGIN:VEVENT
DTSTART;TZID=America/Los_Angeles:20220403T150000
DTEND;TZID=America/Los_Angeles:20220403T153000
DTSTAMP:20260420T205150
CREATED:20220331T020026Z
LAST-MODIFIED:20220331T020026Z
UID:10017310-1648998000-1648999800@mcceastbay.org
SUMMARY:New Muslim Story
DESCRIPTION:In Ramadan 2022\, facilitators from MCC’s New Muslim Support Group interview a new Muslim in our 100+ new Muslim cohort. \nEach person shares the opportunities and struggles along his or her spiritual journey and provides insight to the Muslim community at large about how to better welcome and support our sisters and brothers who are newer to the faith. \n3 p.m. every Sunday in Ramadan | Watch at https://mcceastbay.org/live \n\n– April 3: Sister Heather\n– April 10: Sister Lizette\n– April 17: Brother Karee\n– April 24: Brother Mark Poulin\n\nLearn how MCC supports our new(er) brothers and sisters in faith at https://mcceastbay.org/new-muslim \n\n– After Shahadah | Talks for New Muslims Series: https://mcceastbay.org/after-shahada\n– Shahadah moments at MCC: https://mcceastbay.org/shahada\n– Watch Ramadan reflections: https://mcceastbay.org/reflections\n– Watch other Ramadan reminders: https://mcceastbay.org/ramadan-reminders\n– See how MCC supports our convert/revert community: https://mcceastbay.org/convert-care\n\nQuestions? events@mcceastbay.org \nWatch revert interviews from MCC’s virtual Ramadans in 2021 & 2020: \n\n– Ameena: https://youtu.be/1XAYAExqYUw\n– Thomas: https://youtu.be/kq9CP-Zri7s\n– Kei: https://youtu.be/c4hDBsXr7kk\n– Georgia: https://youtu.be/mCI3PumPJGg\n– Kevin: https://youtu.be/bzixJLb6BK8\n– Laura: https://youtu.be/WMSpBMhcWno\n– Miguel: https://youtu.be/xESN17ptG70
URL:https://mcceastbay.org/event/convert-stories/2022-04-03/
ATTACH;FMTTYPE=image/jpeg:https://mcceastbay.org/wp-content/uploads/2024/06/New-Muslim-Stories.jpg
ORGANIZER;CN="Muslim Community Center - East Bay":MAILTO:events@mcceastbay.org
END:VEVENT
END:VCALENDAR