BEGIN:VCALENDAR
VERSION:2.0
PRODID:-//MCC East Bay - ECPv6.15.20//NONSGML v1.0//EN
CALSCALE:GREGORIAN
METHOD:PUBLISH
X-WR-CALNAME:MCC East Bay
X-ORIGINAL-URL:https://mcceastbay.org
X-WR-CALDESC:Events for MCC East Bay
REFRESH-INTERVAL;VALUE=DURATION:PT1H
X-Robots-Tag:noindex
X-PUBLISHED-TTL:PT1H
BEGIN:VTIMEZONE
TZID:America/Los_Angeles
BEGIN:DAYLIGHT
TZOFFSETFROM:-0800
TZOFFSETTO:-0700
TZNAME:PDT
DTSTART:20250309T100000
END:DAYLIGHT
BEGIN:STANDARD
TZOFFSETFROM:-0700
TZOFFSETTO:-0800
TZNAME:PST
DTSTART:20251102T090000
END:STANDARD
BEGIN:DAYLIGHT
TZOFFSETFROM:-0800
TZOFFSETTO:-0700
TZNAME:PDT
DTSTART:20260308T100000
END:DAYLIGHT
BEGIN:STANDARD
TZOFFSETFROM:-0700
TZOFFSETTO:-0800
TZNAME:PST
DTSTART:20261101T090000
END:STANDARD
BEGIN:DAYLIGHT
TZOFFSETFROM:-0800
TZOFFSETTO:-0700
TZNAME:PDT
DTSTART:20270314T100000
END:DAYLIGHT
BEGIN:STANDARD
TZOFFSETFROM:-0700
TZOFFSETTO:-0800
TZNAME:PST
DTSTART:20271107T090000
END:STANDARD
END:VTIMEZONE
BEGIN:VEVENT
DTSTART;TZID=America/Los_Angeles:20260219T175000
DTEND;TZID=America/Los_Angeles:20260219T190000
DTSTAMP:20260420T185324
CREATED:20260213T004826Z
LAST-MODIFIED:20260303T212226Z
UID:81946-1771523400-1771527600@mcceastbay.org
SUMMARY:MCC '26 Daily Iftar - Week One (RSVP Req'd)
DESCRIPTION:MCC is honored to host a nightly dinner for all our sisters & brothers without local family\, travelers\, and commuters.  \n\n\n\nThe daily Iftar is suspended only on Saturdays and joins the community-wide Iftar. \n\n\n\nThe daily Iftar space is in the Kindergarten space next to the MCC kitchen. Map: https://mcceastbay.org/facility-map: \n\n\n\n\n\n\n– Starting Thursday\, Feb. 19: RSVP for Wednesday\, Feb. 19 to Friday\, Feb. 20 at https://mcceastbay.org/daily-1\n\n\n\n\n\n\nRSVP is required for each Iftar you plan to attend that week. Nominal $5/person charge. Food is served in takeout boxes to make it easier to take leftovers home. \n\n– Ramadan timetable: https://mcceastbay.org/timetable\n\n\n– More about events and activities in Ramadan 2026 at mcceastbay.org/ramadan\n\nQuestions? events@mcceastbay.org \n\n\n\n\n– Contribute towards an Iftar or Suhoor at MCC: mcceastbay.org/sponsorship\n\n“Whoever gives food for a fasting person to break his or her fast will have a reward like theirs\, without that  decreasing the reward of the fasting person” (Tirmidhi). \nDaily Iftar registration for the new week opens at 5 p.m. on Sundays: \n\n\n \n\n– Starting Tuesday\, Feb. 17: RSVP for Wednesday\, Feb. 18 to Friday\, Feb. 20 at https://mcceastbay.org/daily-1\n\n\n\n– Starting Sunday\, Feb. 22: RSVP for Sunday\, Feb. 22 to Friday\, Feb. 27 at https://mcceastbay.org/daily-2\n\n\n\n– Starting Sunday\, March 1: RSVP for Sunday\, March 1 to Saturday\, March 7 at https://mcceastbay.org/daily-3\n\n\n\n– Starting Sunday\, March 8: RSVP for Sunday\, March 8 to Saturday\, March 14: https://mcceastbay.org/daily-4\n– Starting Sunday\, March 15: RSVP for Sunday\, March 15 to Thursday\, March 19: https://mcceastbay.org/daily-5\n\n— \nAssalamu Alaikum\, MCC Family!With no verifiable sightings of the new crescent\, the first night of Ramadan will be tomorrow\, Wednesday\, Feb. 18\, after Isha (8 p.m.) led by Qari Amar Bellaha.The first day of Ramadan fasting begins on Thursday\, Feb. 19\, insha’Allah.Alhamdulillah\, we have been blessed with another opportunity to witness this holy month. We will stream Taraweeh live each night. Here is our nightly recitation schedule.For Tarweeh prayers\, worshipers may park in the neighboring Pleasanton School District parking lot (marked “HP on this map). 
URL:https://mcceastbay.org/event/daily-iftar-week-one/
LOCATION:MCC East Bay\, 5724 W Las Positas Blvd #300\, Pleasanton\, CA\, 94588\, United States
ATTACH;FMTTYPE=image/jpeg:https://mcceastbay.org/wp-content/uploads/2026/02/Singles-Iftars-V2-start-on-219-.jpg
ORGANIZER;CN="Muslim Community Center - East Bay":MAILTO:events@mcceastbay.org
END:VEVENT
END:VCALENDAR