BEGIN:VCALENDAR
VERSION:2.0
PRODID:-//MCC East Bay - ECPv6.15.20//NONSGML v1.0//EN
CALSCALE:GREGORIAN
METHOD:PUBLISH
X-WR-CALNAME:MCC East Bay
X-ORIGINAL-URL:https://mcceastbay.org
X-WR-CALDESC:Events for MCC East Bay
REFRESH-INTERVAL;VALUE=DURATION:PT1H
X-Robots-Tag:noindex
X-PUBLISHED-TTL:PT1H
BEGIN:VTIMEZONE
TZID:America/Los_Angeles
BEGIN:DAYLIGHT
TZOFFSETFROM:-0800
TZOFFSETTO:-0700
TZNAME:PDT
DTSTART:20230312T100000
END:DAYLIGHT
BEGIN:STANDARD
TZOFFSETFROM:-0700
TZOFFSETTO:-0800
TZNAME:PST
DTSTART:20231105T090000
END:STANDARD
BEGIN:DAYLIGHT
TZOFFSETFROM:-0800
TZOFFSETTO:-0700
TZNAME:PDT
DTSTART:20240310T100000
END:DAYLIGHT
BEGIN:STANDARD
TZOFFSETFROM:-0700
TZOFFSETTO:-0800
TZNAME:PST
DTSTART:20241103T090000
END:STANDARD
BEGIN:DAYLIGHT
TZOFFSETFROM:-0800
TZOFFSETTO:-0700
TZNAME:PDT
DTSTART:20250309T100000
END:DAYLIGHT
BEGIN:STANDARD
TZOFFSETFROM:-0700
TZOFFSETTO:-0800
TZNAME:PST
DTSTART:20251102T090000
END:STANDARD
END:VTIMEZONE
BEGIN:VEVENT
DTSTART;TZID=America/Los_Angeles:20240324T190000
DTEND;TZID=America/Los_Angeles:20240324T210000
DTSTAMP:20260424T182633
CREATED:20240313T015234Z
LAST-MODIFIED:20240313T015234Z
UID:65304-1711306800-1711314000@mcceastbay.org
SUMMARY:Divorced & Widowed Family Iftar
DESCRIPTION:For our divorced and widowed sisters and brothers in the Bay Area\, join us for an Iftar! Please bring your family! \n\n\n\n7:25 p.m. to 8:30 p.m. | Sunday\, March 24 | Free; registration required | Conference Room & Banquet Hall | Register at: https://mcceastbay.org/our-iftar \n\n\n\nCosponsored by Wasilah Connections & MCC East Bay \n\n\n\nThis Iftar is only for families impacted by divorce or widowers. \n\n\n\nSchedule: \n\n\n\n\n– 7 p.m. – Check-in begins\, and seat with dates/water in \n\n\n\n– 7:27 p.m. – Maghrib prayer in Prayer Hall\n\n\n\n– 7:40 p.m. – Iftar in the Banquet Hall & Conference Room\n\n\n\n– 9:15 p.m. – Isha/Taraweeh prayers\n\n\n\n\nQuestions? events@mcceastbay.org \n\n\n\n\n– Talks cosponsored with Wasilah Connections: https://mcceastbay.org/wasilah\n\n\n\n– MCC’s divorce resource page: https://mcceastbay.org/divorce\n\n\n\n\nWasilah’s MissionOur mission is to provide holistic support for individuals facing mental\, emotional\, financial\, and personal challenges by building\, facilitating\, and connecting individuals to resources to strategically provide short and long-term solutions to overcome their challenges. Vision Our vision is to create a movement to cultivate a collective community mindset of helping the most vulnerable populations within our community achieve success and wellness at all levels of their lives.  \n\n\n\n– More Wasilah Connections: https://mcceastbay.org/wasilah \n\n\n\nLearn more and support this organization at https://wasilahconnect.org
URL:https://mcceastbay.org/event/divorced-and-widowed-family-iftar/
CATEGORIES:Family Events
ATTACH;FMTTYPE=image/jpeg:https://mcceastbay.org/wp-content/uploads/2024/06/divorced-iftar.jpg
END:VEVENT
END:VCALENDAR