BEGIN:VCALENDAR
VERSION:2.0
PRODID:-//MCC East Bay - ECPv6.15.20//NONSGML v1.0//EN
CALSCALE:GREGORIAN
METHOD:PUBLISH
X-WR-CALNAME:MCC East Bay
X-ORIGINAL-URL:https://mcceastbay.org
X-WR-CALDESC:Events for MCC East Bay
REFRESH-INTERVAL;VALUE=DURATION:PT1H
X-Robots-Tag:noindex
X-PUBLISHED-TTL:PT1H
BEGIN:VTIMEZONE
TZID:America/Los_Angeles
BEGIN:DAYLIGHT
TZOFFSETFROM:-0800
TZOFFSETTO:-0700
TZNAME:PDT
DTSTART:20240310T100000
END:DAYLIGHT
BEGIN:STANDARD
TZOFFSETFROM:-0700
TZOFFSETTO:-0800
TZNAME:PST
DTSTART:20241103T090000
END:STANDARD
BEGIN:DAYLIGHT
TZOFFSETFROM:-0800
TZOFFSETTO:-0700
TZNAME:PDT
DTSTART:20250309T100000
END:DAYLIGHT
BEGIN:STANDARD
TZOFFSETFROM:-0700
TZOFFSETTO:-0800
TZNAME:PST
DTSTART:20251102T090000
END:STANDARD
BEGIN:DAYLIGHT
TZOFFSETFROM:-0800
TZOFFSETTO:-0700
TZNAME:PDT
DTSTART:20260308T100000
END:DAYLIGHT
BEGIN:STANDARD
TZOFFSETFROM:-0700
TZOFFSETTO:-0800
TZNAME:PST
DTSTART:20261101T090000
END:STANDARD
END:VTIMEZONE
BEGIN:VEVENT
DTSTART;TZID=America/Los_Angeles:20250302T170000
DTEND;TZID=America/Los_Angeles:20250302T200000
DTSTAMP:20260421T062329
CREATED:20250225T200327Z
LAST-MODIFIED:20250407T213246Z
UID:74697-1740934800-1740945600@mcceastbay.org
SUMMARY:Divorced & Widowed Family Iftar
DESCRIPTION:For our divorced and widowed sisters and brothers in the Bay Area\, join us for an Iftar! Please bring your family! \n5 p.m. to 8 p.m. | Sunday\, March 2 | Free; registration required | Conference Room & Banquet Hall | Register at: https://mcceastbay.org/our-iftar \nCosponsored by Wasilah Connections & MCC East Bay \nThis Iftar is only for families impacted by divorce or widowers. \nSchedule: \n\n5 p.m. – Check-in & short talk\n6:06 p.m. – Maghrib prayer in Prayer Hall\n6:15 p.m. – Iftar in the Banquet Hall & Conference Room\n8:00 p.m. – Isha/Taraweeh prayers\n\nQuestions? events@mcceastbay.org \n\n– Talks cosponsored with Wasilah Connections: https://mcceastbay.org/wasilah\n– MCC’s divorce resource page: https://mcceastbay.org/divorce\n\nWasilah’s Mission\nOur mission is to provide holistic support for individuals facing mental\, emotional\, financial\, and personal challenges by building\, facilitating\, and connecting individuals to resources to strategically provide short and long-term solutions to overcome their challenges. Vision Our vision is to create a movement to cultivate a collective community mindset of helping the most vulnerable populations within our community achieve success and wellness at all levels of their lives. \n– More Wasilah Connections: https://mcceastbay.org/wasilah \nLearn more and support this organization at https://wasilahconnect.org
URL:https://mcceastbay.org/event/divorced-widowed-iftar-3/
LOCATION:MCC East Bay\, 5724 W Las Positas Blvd #300\, Pleasanton\, CA\, 94588\, United States
ATTACH;FMTTYPE=image/jpeg:https://mcceastbay.org/wp-content/uploads/2025/02/Divorce-Iftar.jpg
ORGANIZER;CN="Muslim Community Center - East Bay":MAILTO:events@mcceastbay.org
END:VEVENT
END:VCALENDAR