BEGIN:VCALENDAR
VERSION:2.0
PRODID:-//MCC East Bay - ECPv6.15.20//NONSGML v1.0//EN
CALSCALE:GREGORIAN
METHOD:PUBLISH
X-WR-CALNAME:MCC East Bay
X-ORIGINAL-URL:https://mcceastbay.org
X-WR-CALDESC:Events for MCC East Bay
REFRESH-INTERVAL;VALUE=DURATION:PT1H
X-Robots-Tag:noindex
X-PUBLISHED-TTL:PT1H
BEGIN:VTIMEZONE
TZID:America/Los_Angeles
BEGIN:DAYLIGHT
TZOFFSETFROM:-0800
TZOFFSETTO:-0700
TZNAME:PDT
DTSTART:20230312T100000
END:DAYLIGHT
BEGIN:STANDARD
TZOFFSETFROM:-0700
TZOFFSETTO:-0800
TZNAME:PST
DTSTART:20231105T090000
END:STANDARD
BEGIN:DAYLIGHT
TZOFFSETFROM:-0800
TZOFFSETTO:-0700
TZNAME:PDT
DTSTART:20240310T100000
END:DAYLIGHT
BEGIN:STANDARD
TZOFFSETFROM:-0700
TZOFFSETTO:-0800
TZNAME:PST
DTSTART:20241103T090000
END:STANDARD
BEGIN:DAYLIGHT
TZOFFSETFROM:-0800
TZOFFSETTO:-0700
TZNAME:PDT
DTSTART:20250309T100000
END:DAYLIGHT
BEGIN:STANDARD
TZOFFSETFROM:-0700
TZOFFSETTO:-0800
TZNAME:PST
DTSTART:20251102T090000
END:STANDARD
END:VTIMEZONE
BEGIN:VEVENT
DTSTART;TZID=America/Los_Angeles:20240120T110000
DTEND;TZID=America/Los_Angeles:20240120T123000
DTSTAMP:20260425T094428
CREATED:20240119T020856Z
LAST-MODIFIED:20240119T020856Z
UID:65093-1705748400-1705753800@mcceastbay.org
SUMMARY:Ethical Meat\, Diary & Produce Consumption | Fahim Alwan
DESCRIPTION:Inspired by the Hadith\, “the stomach is the house of diseases\, and prevention is the best medicine\,” join a two-decade veteran in the health food industry to talk about the trickle-down effect corporate-controlled agribusiness has on our health\, particularly meat\, dairy\, and produce.  \n\n\n\n11 a.m. to 12:30 p.m. | Saturday\, January 20 | Prayer Hall | Join us in person or watch virtually live or on replay at mcceastbay.org/live \n\n\n\nThis discussion aims to unravel the profound impact of conscientious food choices on our well-being. We will learn about the stark differences between organic/nonorganic foods\, grass-fed versus non-grass-fed meat\, and more. \n\n\n\nQuestions? events@mcceastbay.orgAbout the PresenterUnder the guidance of Shuyook in Homs\, Syria\, Fahim Alwan first developed a fundamental understanding of Islam. He embarked on a lifelong journey exploring human health. \n\n\n\nHis educational foundation in agricultural engineering and marketing set the stage for a career in various health and health food industries\, from selling medical equipment to vitamins and supplements to ultimately leading to a profound realization about the essence of well-being: quality food. \n\n\n\nInspired by the Prophetic Hadith\, who said that “the stomach is the house of diseases\, and prevention is the best medicine\,” Fahim dedicated himself to providing the highest quality food to the Muslim community. \n\n\n\nHis commitment extended to help source fresh organic meat and produce from local farmers to create a tangible impact on people’s health. \n\n\n\nObserving the transformative effects of his work\, Fahim intensified his efforts to help those in need of essential\, health-conscious foods.  \n\n\n\nAs he posed critical questions about the connection between ethical food choices and health\, he pondered the stark difference between factory-farmed products and locally sourced\, ethical\, and organic alternatives. \n\n\n\nFahim founded BlossomPure Organic\, an eco-certified halal organic\, grass-fed meat and poultry company\, in 2002 in Ontario\, Canada. 
URL:https://mcceastbay.org/event/ethical/
CATEGORIES:Family Events
ATTACH;FMTTYPE=image/jpeg:https://mcceastbay.org/wp-content/uploads/2024/06/Fahim-Alwan-1-1.jpg
END:VEVENT
END:VCALENDAR