BEGIN:VCALENDAR
VERSION:2.0
PRODID:-//MCC East Bay - ECPv6.15.20//NONSGML v1.0//EN
CALSCALE:GREGORIAN
METHOD:PUBLISH
X-WR-CALNAME:MCC East Bay
X-ORIGINAL-URL:https://mcceastbay.org
X-WR-CALDESC:Events for MCC East Bay
REFRESH-INTERVAL;VALUE=DURATION:PT1H
X-Robots-Tag:noindex
X-PUBLISHED-TTL:PT1H
BEGIN:VTIMEZONE
TZID:America/Los_Angeles
BEGIN:DAYLIGHT
TZOFFSETFROM:-0800
TZOFFSETTO:-0700
TZNAME:PDT
DTSTART:20240310T100000
END:DAYLIGHT
BEGIN:STANDARD
TZOFFSETFROM:-0700
TZOFFSETTO:-0800
TZNAME:PST
DTSTART:20241103T090000
END:STANDARD
BEGIN:DAYLIGHT
TZOFFSETFROM:-0800
TZOFFSETTO:-0700
TZNAME:PDT
DTSTART:20250309T100000
END:DAYLIGHT
BEGIN:STANDARD
TZOFFSETFROM:-0700
TZOFFSETTO:-0800
TZNAME:PST
DTSTART:20251102T090000
END:STANDARD
BEGIN:DAYLIGHT
TZOFFSETFROM:-0800
TZOFFSETTO:-0700
TZNAME:PDT
DTSTART:20260308T100000
END:DAYLIGHT
BEGIN:STANDARD
TZOFFSETFROM:-0700
TZOFFSETTO:-0800
TZNAME:PST
DTSTART:20261101T090000
END:STANDARD
END:VTIMEZONE
BEGIN:VEVENT
DTSTART;TZID=America/Los_Angeles:20251212T123000
DTEND;TZID=America/Los_Angeles:20251212T150000
DTSTAMP:20260422T073518
CREATED:20251212T074121Z
LAST-MODIFIED:20251214T044054Z
UID:80741-1765542600-1765551600@mcceastbay.org
SUMMARY:Ethiopian Bay Area Muslim Association Tabling @ MCC Jummah
DESCRIPTION:The Ethiopian Bay Area Muslim Association (EBAMA) is dedicated to fostering religious awareness\, providing support to the Ethiopian Diaspora Muslim community in the Bay Area\, and creating a strong sense of unity and togetherness. They lost their musallah in 2024 due to a fire and are now looking to buy a new permanent masjid. Learn more by visiting their table at Jummah. \nLearn more at: https://myebama.org
URL:https://mcceastbay.org/event/ethiopian-bay-area-muslim-association-tabling-mcc-jummah/
ATTACH;FMTTYPE=image/jpeg:https://mcceastbay.org/wp-content/uploads/2025/12/ebama.jpg
END:VEVENT
END:VCALENDAR