BEGIN:VCALENDAR
VERSION:2.0
PRODID:-//MCC East Bay - ECPv6.15.20//NONSGML v1.0//EN
CALSCALE:GREGORIAN
METHOD:PUBLISH
X-WR-CALNAME:MCC East Bay
X-ORIGINAL-URL:https://mcceastbay.org
X-WR-CALDESC:Events for MCC East Bay
REFRESH-INTERVAL;VALUE=DURATION:PT1H
X-Robots-Tag:noindex
X-PUBLISHED-TTL:PT1H
BEGIN:VTIMEZONE
TZID:America/Los_Angeles
BEGIN:DAYLIGHT
TZOFFSETFROM:-0800
TZOFFSETTO:-0700
TZNAME:PDT
DTSTART:20220313T100000
END:DAYLIGHT
BEGIN:STANDARD
TZOFFSETFROM:-0700
TZOFFSETTO:-0800
TZNAME:PST
DTSTART:20221106T090000
END:STANDARD
BEGIN:DAYLIGHT
TZOFFSETFROM:-0800
TZOFFSETTO:-0700
TZNAME:PDT
DTSTART:20230312T100000
END:DAYLIGHT
BEGIN:STANDARD
TZOFFSETFROM:-0700
TZOFFSETTO:-0800
TZNAME:PST
DTSTART:20231105T090000
END:STANDARD
BEGIN:DAYLIGHT
TZOFFSETFROM:-0800
TZOFFSETTO:-0700
TZNAME:PDT
DTSTART:20240310T100000
END:DAYLIGHT
BEGIN:STANDARD
TZOFFSETFROM:-0700
TZOFFSETTO:-0800
TZNAME:PST
DTSTART:20241103T090000
END:STANDARD
END:VTIMEZONE
BEGIN:VEVENT
DTSTART;TZID=America/Los_Angeles:20230216T180000
DTEND;TZID=America/Los_Angeles:20230216T200000
DTSTAMP:20260423T034349
CREATED:20230126T034727Z
LAST-MODIFIED:20230126T034727Z
UID:63959-1676570400-1676577600@mcceastbay.org
SUMMARY:An Evening of Remembrance | Sh. Abdullah Misra\, Sidi Baraka Blue\, & Sidi Uthman Ames
DESCRIPTION:Join Shaykh Abdullah Misra for a faith-affirming evening to learn lessons from the Prophet’s blessed heavenly ascension: Al-Isra wal-Mi’raj followed by recital of selections of the Seerah Song (Shaykh Abdullah Misra)\, Nasheed (Sidi Uthman Ames) and poetry readings from his book “Art of Remembrance” (Sidi Baraka Blue). \n\n\n\n6 p.m. to 8 p.m. | Thursday\, February 16 | MCC Conference Room | Join in-person or watch live at mcceastbay.org/live \n\n\n\nSidi Baraka will have his book “Art of Remembrance” for sale. \n\n\n\nMCC annually commemorates a momentous occasion in the Prophet Muhammad’s ﷺ life: the miraculous Night Journey to Jerusalem and Ascension to Heaven (al-Isra wal-Mi’raj). This event starts at 6 p.m. and goes until the congregational Isha prayer at 8 p.m. \n\n\n\n\n– More Sheikh Abdullah Misra: https://mcceastbay.org/misra\n\n\n\n– Past talks commemorating Al Isra Wa Miraj: https://mcceastbay.org/isra\n\n\n\n\nMuslims worldwide remember this event as one that changed the course of history. Allah bestowed the tremendous honor of this journey and the command of Prayer (salah) upon His Messenger – a perpetual gift and source of comfort for Muslims until eternity. \n\n\n\nThis webinar is also an excellent way to begin spiritually preparing ourselves for Ramadan and enlivens our spirit to get through the uncertainty we are challenged with now. \n\n\n\nMore about this particular night: \n\n\n\nIsra Mi’raj is celebrated on the 27th of Rajab. This night happened in 621\, which is the year of sadness (‘Aam ul Huzn) when Abu Talib & Khadijah (RA) died. The Prophet Muhammad (SAW) rode Buraq (a white steed) during his journey\, and Allah enjoined 50 prayers and reduced the prayers to five. \n\n\n\n He met different Prophets on the journey: \n\n\n\n\n– 7th Heaven met Ibrahim (AS)\n\n\n\n– 6th Heaven met Musa (AS)\n\n\n\n– 5th Heaven met Harun (AS)\n\n\n\n– 4th Heaven met Idris (AS)\n\n\n\n– 3rd Heaven met Yusuf (AS)\n\n\n\n– 2nd Heaven met Isa (AS) & Yahya (AS)\n\n\n\n– 1st Heaven met Adam (AS)\n\n\n\n\nMI’RAJ – Ascend to heaven\, where he speaks to GodISRA’ – Night journey from Makkah to Jerusalem \n\n\n\nQuestions? events@mcceastbay.org \n\n\n\n \n\n\n\nSh. Abdullah Anik Misra \n\n\n\nShaykh Abdullah Anik Misra was born in Toronto\, Canada. Raised in the Hindu tradition\, he embraced Islam in 2001 while studying at the University of Toronto\, where he completed his Bachelor of Business Administration. He then traveled overseas in 2005 to study the Arabic language and Islamic sciences in Tarim\, Yemen\, for some time\, as well as Darul Uloom in Trinidad\, West Indies. \n\n\n\nHe spent 12 years in Amman\, Jordan\, where he focused on Islamic Law\, Theology\, Hadith Sciences\, Prophetic Biography\, and Islamic Spirituality while also serving as Director of Programs at the Qasid Arabic Institute. He holds a BA in Islamic Studies (Alimiyya)\, authorization in the six authentic books of Hadith\, and has studied one year of specialized training in issuing Islamic legal verdicts (Ifta’). \n\n\n\nHe also holds a certificate in Islamic Counselling and often works with those with religious obsessive-compulsive disorder (OCD/waswasa). He is an instructor and researcher in the Islamic Sciences and has taught online and in person for several learning institutes and organizations. \n\n\n\nHe is the author of the Seerah Song\, the first complete Seerah poem written in rhyming English verse to be used as a teaching tool\, performed by Zain Bhikha. He currently resides near Toronto\, Canada\, with his family. \n\n\n\n \n\n\n\nSidi Baraka Blue \n\n\n\nBaraka Blue is a poet\, musician\, author\, and teacher from Seattle\, Washington. In addition to releasing multiple studio albums\, authoring books of poetry\, and performing internationally\, Baraka Blue is a prolific educator with a master’s degree in Islamic Studies from the Graduate Theological Union in Berkeley. \n\n\n\nHe spent several years studying with traditional spiritual masters in Africa\, Turkey\, Asia\, and the Arab world. He has performed and taught all over the world\, including at institutions such as Harvard\, Princeton\, and the School of Oriental and African Studies. \n\n\n\nIn 2018\, Baraka Blue founded the Rumi Center for Spirituality and the Arts\, which provides online courses to seekers from anywhere in the world. Baraka Blue has also conducted creative writing workshops for K-12 schools\, universities\, cultural and religious centers\, and various organizations worldwide. \n\n\n\nHe is the host of the award-winning podcast Path & Present\, which features conversations on spirituality in the modern world. He lives in Seattle\, where he is the director of Wasat\, an organization that builds community through spirituality\, arts and culture\, and service. \n\n\n\nSidi Wendell Uthman \n\n\n\nSidi Wendell Uthman Ames’ story to Islam begins at a hip-hop store in Southern California where he worked during high school. He watched his manager take breaks during the day to pray Salah in a back room. A group of Filipino converts soon began visiting the store. A Filipino-American himself\, this further triggered his interest in Islam. The Filipino converts befriended him\, and Sidi Wendell took his Shahada (Declaration of Faith) with them at age 17\, MashaAllah! Sidi Wendell then began driving with them to the Bay Area to take classes with Shaykh Hamza Yusuf. This is pre-Zaytuna College. Sidi Uthman would eventually move to the Bay Area and live with Sidi Usama Canon. Sidi Wendell is now a well-known munshid (reciter). He shares his beautiful voice at gatherings all over the world. He is frequently performing at MCC East Bay\, Al-Maqasid\, and Ta’leef Collective. \n\n\n\n\nMore Sheikh Abdullah Misra: https://mcceastbay.org/misra\n\n\n\nSupport the Seerah Song Project: https://www.launchgood.com/campaign/seerah_song_project#!/\n\n\n\nZain Bhikha (Vocal version of (Seerah Song”): https://youtu.be/03qWfCMQNws
URL:https://mcceastbay.org/event/evening-of-remembrance/
LOCATION:MCC East Bay\, 5724 W Las Positas Blvd #300\, Pleasanton\, CA\, 94588\, United States
ATTACH;FMTTYPE=image/png:https://mcceastbay.org/wp-content/uploads/2024/06/An-Evening-of-Remembrancev2-02.16.23.png
END:VEVENT
END:VCALENDAR