BEGIN:VCALENDAR
VERSION:2.0
PRODID:-//MCC East Bay - ECPv6.15.20//NONSGML v1.0//EN
CALSCALE:GREGORIAN
METHOD:PUBLISH
X-WR-CALNAME:MCC East Bay
X-ORIGINAL-URL:https://mcceastbay.org
X-WR-CALDESC:Events for MCC East Bay
REFRESH-INTERVAL;VALUE=DURATION:PT1H
X-Robots-Tag:noindex
X-PUBLISHED-TTL:PT1H
BEGIN:VTIMEZONE
TZID:America/Los_Angeles
BEGIN:DAYLIGHT
TZOFFSETFROM:-0800
TZOFFSETTO:-0700
TZNAME:PDT
DTSTART:20230312T100000
END:DAYLIGHT
BEGIN:STANDARD
TZOFFSETFROM:-0700
TZOFFSETTO:-0800
TZNAME:PST
DTSTART:20231105T090000
END:STANDARD
BEGIN:DAYLIGHT
TZOFFSETFROM:-0800
TZOFFSETTO:-0700
TZNAME:PDT
DTSTART:20240310T100000
END:DAYLIGHT
BEGIN:STANDARD
TZOFFSETFROM:-0700
TZOFFSETTO:-0800
TZNAME:PST
DTSTART:20241103T090000
END:STANDARD
BEGIN:DAYLIGHT
TZOFFSETFROM:-0800
TZOFFSETTO:-0700
TZNAME:PDT
DTSTART:20250309T100000
END:DAYLIGHT
BEGIN:STANDARD
TZOFFSETFROM:-0700
TZOFFSETTO:-0800
TZNAME:PST
DTSTART:20251102T090000
END:STANDARD
END:VTIMEZONE
BEGIN:VEVENT
DTSTART;TZID=America/Los_Angeles:20240913T133000
DTEND;TZID=America/Los_Angeles:20240913T160000
DTSTAMP:20260421T170628
CREATED:20240715T165305Z
LAST-MODIFIED:20240715T165333Z
UID:67401-1726234200-1726243200@mcceastbay.org
SUMMARY:Fatima Zara Helping Hand Tables @ MCC Jumu'ahs
DESCRIPTION:Fatima Zara Helping Hand is a nonprofit organization dedicated to helping the less fortunate break the cycle of poverty and achieve dignity by providing access to the necessities of life\, including food\, water\, shelter\, health and wellness opportunities\, and education. Their mission is carried out by developing global initiatives to support the most vulnerable communities. Their mandate includes local volunteers on the ground to help execute programs while offering a personal connection to those in need.
URL:https://mcceastbay.org/event/fatima-zara-helping-hand-tables-mcc-jumuahs/
ATTACH;FMTTYPE=image/jpeg:https://mcceastbay.org/wp-content/uploads/2024/07/Fatima-Zehra.jpg
END:VEVENT
END:VCALENDAR