BEGIN:VCALENDAR
VERSION:2.0
PRODID:-//MCC East Bay - ECPv6.15.20//NONSGML v1.0//EN
CALSCALE:GREGORIAN
METHOD:PUBLISH
X-WR-CALNAME:MCC East Bay
X-ORIGINAL-URL:https://mcceastbay.org
X-WR-CALDESC:Events for MCC East Bay
REFRESH-INTERVAL;VALUE=DURATION:PT1H
X-Robots-Tag:noindex
X-PUBLISHED-TTL:PT1H
BEGIN:VTIMEZONE
TZID:America/Los_Angeles
BEGIN:DAYLIGHT
TZOFFSETFROM:-0800
TZOFFSETTO:-0700
TZNAME:PDT
DTSTART:20220313T100000
END:DAYLIGHT
BEGIN:STANDARD
TZOFFSETFROM:-0700
TZOFFSETTO:-0800
TZNAME:PST
DTSTART:20221106T090000
END:STANDARD
BEGIN:DAYLIGHT
TZOFFSETFROM:-0800
TZOFFSETTO:-0700
TZNAME:PDT
DTSTART:20230312T100000
END:DAYLIGHT
BEGIN:STANDARD
TZOFFSETFROM:-0700
TZOFFSETTO:-0800
TZNAME:PST
DTSTART:20231105T090000
END:STANDARD
BEGIN:DAYLIGHT
TZOFFSETFROM:-0800
TZOFFSETTO:-0700
TZNAME:PDT
DTSTART:20240310T100000
END:DAYLIGHT
BEGIN:STANDARD
TZOFFSETFROM:-0700
TZOFFSETTO:-0800
TZNAME:PST
DTSTART:20241103T090000
END:STANDARD
END:VTIMEZONE
BEGIN:VEVENT
DTSTART;TZID=America/Los_Angeles:20230129T143000
DTEND;TZID=America/Los_Angeles:20230129T170000
DTSTAMP:20260423T115857
CREATED:20230114T125730Z
LAST-MODIFIED:20230114T125730Z
UID:63901-1675002600-1675011600@mcceastbay.org
SUMMARY:Sisters Financial Literacy Workshop | Siema Zia
DESCRIPTION:Join us for a FREE Workshop to empower sisters to take a more active role in managing their finances. Topics will cover money management\, goal setting\, savings\, budgeting\, credit scores\, and credit reports.2:30 p.m. to 5 p.m. | Saturday\, January 29 | Conference Room | RSVP here: https://mcceastbay.org/sisters-finance \n\n\n\n \n\n\n\nAbout The Instructor: \n\n\n\nSiema Zia has a background in BA Hons Business and Finance. Siema is a domestic violence advocate and has been providing financial literacy sessions for Narika Clients and Asian Women’s Shelter clients to help them provide financial empowerment. \n\n\n\nQuestions? events@mcceastbay.org
URL:https://mcceastbay.org/event/financial-literacy-workshop/
LOCATION:MCC East Bay\, 5724 W Las Positas Blvd #300\, Pleasanton\, CA\, 94588\, United States
ATTACH;FMTTYPE=image/jpeg:https://mcceastbay.org/wp-content/uploads/2024/06/PHOTO-2023-01-09-19-11-53.jpg
END:VEVENT
END:VCALENDAR