BEGIN:VCALENDAR
VERSION:2.0
PRODID:-//MCC East Bay - ECPv6.15.20//NONSGML v1.0//EN
CALSCALE:GREGORIAN
METHOD:PUBLISH
X-WR-CALNAME:MCC East Bay
X-ORIGINAL-URL:https://mcceastbay.org
X-WR-CALDESC:Events for MCC East Bay
REFRESH-INTERVAL;VALUE=DURATION:PT1H
X-Robots-Tag:noindex
X-PUBLISHED-TTL:PT1H
BEGIN:VTIMEZONE
TZID:America/Los_Angeles
BEGIN:DAYLIGHT
TZOFFSETFROM:-0800
TZOFFSETTO:-0700
TZNAME:PDT
DTSTART:20240310T100000
END:DAYLIGHT
BEGIN:STANDARD
TZOFFSETFROM:-0700
TZOFFSETTO:-0800
TZNAME:PST
DTSTART:20241103T090000
END:STANDARD
BEGIN:DAYLIGHT
TZOFFSETFROM:-0800
TZOFFSETTO:-0700
TZNAME:PDT
DTSTART:20250309T100000
END:DAYLIGHT
BEGIN:STANDARD
TZOFFSETFROM:-0700
TZOFFSETTO:-0800
TZNAME:PST
DTSTART:20251102T090000
END:STANDARD
BEGIN:DAYLIGHT
TZOFFSETFROM:-0800
TZOFFSETTO:-0700
TZNAME:PDT
DTSTART:20260308T100000
END:DAYLIGHT
BEGIN:STANDARD
TZOFFSETFROM:-0700
TZOFFSETTO:-0800
TZNAME:PST
DTSTART:20261101T090000
END:STANDARD
END:VTIMEZONE
BEGIN:VEVENT
DTSTART;TZID=America/Los_Angeles:20250221T190000
DTEND;TZID=America/Los_Angeles:20250221T210000
DTSTAMP:20260421T005517
CREATED:20241210T165417Z
LAST-MODIFIED:20250222T031727Z
UID:72080-1740164400-1740171600@mcceastbay.org
SUMMARY:Fostering Unity and Understanding in a Divided Ummah | Sidi Shaan Mukhtar and Shaykh Bilal ibn Yusuf
DESCRIPTION:Sectarianism has long been a challenge in the Muslim world\, creating divisions that weaken the fabric of our Ummah (Muslim community). Join us to explore the roots of sectarianism in Islam\, its impact on communities\, and practical approaches to bridge the gaps through mutual respect\, dialogue\, and a focus on shared values. \nLearn to move beyond differences and work towards a unified\, compassionate faith community. \nThis talk with Imam Bilal ibn Yusuf and Sidi Shaan Mukhtar is for everyone\, particularly teens and young professionals trying to make sense of the disunity they see in the Muslim community. \n7 p.m. to 9 p.m. | Friday\, February 21 | MCC Prayer Hall | Join us in person or watch virtually at mcceastbay.org/live \nQuestions? events@mcceastbay.org \nAbout the Speakers \nImam Bilal ibn Yusuf graduated from the seven-year ʿālimiyyah program at Darussalam Seminary in Lombard\, Illinois. He also holds degrees in psychology and political science. He is the Imam of the Islamic Center of Walnut Creek (Darul-Islam Mosque) and is pursuing postgraduate studies in Islamic Law and Islamic Theology. \nSidi Shaan Mukhtar was born in the Bay Area and raised in the MCC community as a small boy. Shaan has actively contributed to establishing high school MSAs and youth halaqas at various San Francisco Bay Area mosques. Shaan holds a BA in Political Science from UC Davis and has pursued a passion for Islamic learning. He attended the Ilm Tree Homeschooling Cooperative during middle school\, where he studied Islamic Sciences under Shaykh Rami Nsour. During college\, Shaan took a gap year to study Arabic in Jordan. In addition to his formal education\, Shaan has studied privately with local Bay Area teachers such as Syed Mubeen Saifullah and Shaykh Tarif Arabi. He currently works in tech and resides in the Bay Area with his wife\, where he continues to engage in community-building and engagement. \n\n– More Sidi Yusuf:  HTTP://mcceastbay.org/bilal\n– More Sidi Shaan:  HTTP://mcceastbay.org/shaan\n–
URL:https://mcceastbay.org/event/fostering-unity-understanding/
LOCATION:MCC East Bay\, 5724 W Las Positas Blvd #300\, Pleasanton\, CA\, 94588\, United States
CATEGORIES:Family Events
ATTACH;FMTTYPE=image/jpeg:https://mcceastbay.org/wp-content/uploads/2024/12/Dublin-Library.jpg
ORGANIZER;CN="Muslim Community Center - East Bay":MAILTO:events@mcceastbay.org
END:VEVENT
END:VCALENDAR