BEGIN:VCALENDAR
VERSION:2.0
PRODID:-//MCC East Bay - ECPv6.15.20//NONSGML v1.0//EN
CALSCALE:GREGORIAN
METHOD:PUBLISH
X-WR-CALNAME:MCC East Bay
X-ORIGINAL-URL:https://mcceastbay.org
X-WR-CALDESC:Events for MCC East Bay
REFRESH-INTERVAL;VALUE=DURATION:PT1H
X-Robots-Tag:noindex
X-PUBLISHED-TTL:PT1H
BEGIN:VTIMEZONE
TZID:America/Los_Angeles
BEGIN:DAYLIGHT
TZOFFSETFROM:-0800
TZOFFSETTO:-0700
TZNAME:PDT
DTSTART:20220313T100000
END:DAYLIGHT
BEGIN:STANDARD
TZOFFSETFROM:-0700
TZOFFSETTO:-0800
TZNAME:PST
DTSTART:20221106T090000
END:STANDARD
BEGIN:DAYLIGHT
TZOFFSETFROM:-0800
TZOFFSETTO:-0700
TZNAME:PDT
DTSTART:20230312T100000
END:DAYLIGHT
BEGIN:STANDARD
TZOFFSETFROM:-0700
TZOFFSETTO:-0800
TZNAME:PST
DTSTART:20231105T090000
END:STANDARD
BEGIN:DAYLIGHT
TZOFFSETFROM:-0800
TZOFFSETTO:-0700
TZNAME:PDT
DTSTART:20240310T100000
END:DAYLIGHT
BEGIN:STANDARD
TZOFFSETFROM:-0700
TZOFFSETTO:-0800
TZNAME:PST
DTSTART:20241103T090000
END:STANDARD
END:VTIMEZONE
BEGIN:VEVENT
DTSTART;TZID=America/Los_Angeles:20230929T133000
DTEND;TZID=America/Los_Angeles:20230929T160000
DTSTAMP:20260421T172533
CREATED:20230929T052252Z
LAST-MODIFIED:20230929T052252Z
UID:64725-1695994200-1696003200@mcceastbay.org
SUMMARY:Jumu’ah Services @ MCC & Dublin Library
DESCRIPTION:For MCC’s Jumu’ah services on Friday\, Sept. 22: \n\n\n\n\nThe first service at MCC is full. To avoid heavy parking congestion\, please do not attend this service. \n\n– Imam Tahir Anwar delivers this sermon at MCC\n\n\n\n\n\n1:40 p.m. to 2:10 p.m.\n\n– Sidi Hashim Mir delivers the sermon at Dublin Library.\n\n\n\n\n\n2:30 p.m. – 2:50 p.m. \n\n– Sidi Hashim Mir delivers this sermon at MCC\n\n\n\n\n\n3:40 p.m. – 4 p.m.\n\n– Sidi Abdullah Qureshi delivers this sermon at MCC.\n\n\n\n\n\n\nPlease attend at 2:30 or 3:40 p.m. to avoid heavier first-service congestion whenever possible. Please note that the former HP lot (now Pleasanton School District) is no longer available to our congregation. Please come to the second and third Jumu’ah to ease up parking congestion or attend the parallel satellite prayer at 1:40 p.m. at Dublin Library: https://mcceastbay.org/satellite-jumuah-library-update \n\n\n\n\n– Virtually watch the three MCC sermons from home: https://mcceastbay.org/live\n\n\n\n– More Imam Tahir: https://mcceastbay.org/tahir\n\n\n\n– More Sidi Abdullah: https://mcceastbay.org/abdullah-qureshi\n\n\n\n\nFor parents attending with young children indoors\, MCC offers private mothers’ and fathers’ rooms with an audio and visual connection to Prayer Hall. Parents can watch the sermon and pray while working with other parents with young children. The mothers/fathers prayer room is just past the Banquet Hall doors into the school area. \n\n\n\nQuestions? events@mcceastbay.org \n\n\n\nSidi Hashim Mir grew up in a town called Waterloo in Canada. After college\, he moved to the Bay Area for work nearly a decade ago. He now lives in Dublin with his family. He was an active Khateeb in his hometown\, Waterloo\, and would like to dedicate his time to the community in the Bay Area.
URL:https://mcceastbay.org/event/four-jumuah-services/
LOCATION:MCC East Bay\, 5724 W Las Positas Blvd #300\, Pleasanton\, CA\, 94588\, United States
ATTACH;FMTTYPE=image/jpeg:https://mcceastbay.org/wp-content/uploads/2024/06/Friday-Jumuah-Khateebs-speakers-at-masjid-mosque-3-2.jpg
END:VEVENT
END:VCALENDAR