BEGIN:VCALENDAR
VERSION:2.0
PRODID:-//MCC East Bay - ECPv6.15.20//NONSGML v1.0//EN
CALSCALE:GREGORIAN
METHOD:PUBLISH
X-WR-CALNAME:MCC East Bay
X-ORIGINAL-URL:https://mcceastbay.org
X-WR-CALDESC:Events for MCC East Bay
REFRESH-INTERVAL;VALUE=DURATION:PT1H
X-Robots-Tag:noindex
X-PUBLISHED-TTL:PT1H
BEGIN:VTIMEZONE
TZID:America/Los_Angeles
BEGIN:DAYLIGHT
TZOFFSETFROM:-0800
TZOFFSETTO:-0700
TZNAME:PDT
DTSTART:20220313T100000
END:DAYLIGHT
BEGIN:STANDARD
TZOFFSETFROM:-0700
TZOFFSETTO:-0800
TZNAME:PST
DTSTART:20221106T090000
END:STANDARD
BEGIN:DAYLIGHT
TZOFFSETFROM:-0800
TZOFFSETTO:-0700
TZNAME:PDT
DTSTART:20230312T100000
END:DAYLIGHT
BEGIN:STANDARD
TZOFFSETFROM:-0700
TZOFFSETTO:-0800
TZNAME:PST
DTSTART:20231105T090000
END:STANDARD
BEGIN:DAYLIGHT
TZOFFSETFROM:-0800
TZOFFSETTO:-0700
TZNAME:PDT
DTSTART:20240310T100000
END:DAYLIGHT
BEGIN:STANDARD
TZOFFSETFROM:-0700
TZOFFSETTO:-0800
TZNAME:PST
DTSTART:20241103T090000
END:STANDARD
END:VTIMEZONE
BEGIN:VEVENT
DTSTART;TZID=America/Los_Angeles:20231118T170000
DTEND;TZID=America/Los_Angeles:20231118T180000
DTSTAMP:20260421T203515
CREATED:20231116T013032Z
LAST-MODIFIED:20231116T013032Z
UID:64935-1700326800-1700330400@mcceastbay.org
SUMMARY:Gaza Unbeatable: Anchoring through Atrocity | Dr. Farah El-Sharif 
DESCRIPTION:How do we make sense of the genocide in Gaza according to Islamic and historical sources? How can we process\, support\, and uplift one another in these times of immeasurable suffering?  \n\n\n\nJoin us for a post-Maghrib talk with Dr. Farah El-Sharif\, who discusses how Gaza is already changing the world for the better and will put into context the Palestinian struggle according to revelation and broader human history.  \n\n\n\nSaturday\, Nov. 18 | 5 p.m. to 6 p.m. | Conference Room | In person only \n\n\n\nQuestions? events@mcceastbay.org \n\n\n\nAbout the speaker:Dr. Farah El-Sharif is a Visiting Scholar at the Abbasi Program in Islamic Studies at Stanford University with roots from Palestine and Sinai. She earned her PhD in Islamic Studies at Harvard University and received her Masters’ at the Graduate Theological Union in Berkeley. She is also a graduate of the School of Foreign Service at Georgetown University in Washington\, DC. Her research focuses on Islam and politics.
URL:https://mcceastbay.org/event/gaza/
ATTACH;FMTTYPE=image/jpeg:https://mcceastbay.org/wp-content/uploads/2024/06/Talk-on-Gaza.jpg
END:VEVENT
END:VCALENDAR