BEGIN:VCALENDAR
VERSION:2.0
PRODID:-//MCC East Bay - ECPv6.15.20//NONSGML v1.0//EN
CALSCALE:GREGORIAN
METHOD:PUBLISH
X-WR-CALNAME:MCC East Bay
X-ORIGINAL-URL:https://mcceastbay.org
X-WR-CALDESC:Events for MCC East Bay
REFRESH-INTERVAL;VALUE=DURATION:PT1H
X-Robots-Tag:noindex
X-PUBLISHED-TTL:PT1H
BEGIN:VTIMEZONE
TZID:America/Los_Angeles
BEGIN:DAYLIGHT
TZOFFSETFROM:-0800
TZOFFSETTO:-0700
TZNAME:PDT
DTSTART:20200308T100000
END:DAYLIGHT
BEGIN:STANDARD
TZOFFSETFROM:-0700
TZOFFSETTO:-0800
TZNAME:PST
DTSTART:20201101T090000
END:STANDARD
BEGIN:DAYLIGHT
TZOFFSETFROM:-0800
TZOFFSETTO:-0700
TZNAME:PDT
DTSTART:20210314T100000
END:DAYLIGHT
BEGIN:STANDARD
TZOFFSETFROM:-0700
TZOFFSETTO:-0800
TZNAME:PST
DTSTART:20211107T090000
END:STANDARD
BEGIN:DAYLIGHT
TZOFFSETFROM:-0800
TZOFFSETTO:-0700
TZNAME:PDT
DTSTART:20220313T100000
END:DAYLIGHT
BEGIN:STANDARD
TZOFFSETFROM:-0700
TZOFFSETTO:-0800
TZNAME:PST
DTSTART:20221106T090000
END:STANDARD
END:VTIMEZONE
BEGIN:VEVENT
DTSTART;TZID=America/Los_Angeles:20210725T153000
DTEND;TZID=America/Los_Angeles:20210725T203000
DTSTAMP:20260425T173242
CREATED:20210711T191741Z
LAST-MODIFIED:20210711T191741Z
UID:61941-1627227000-1627245000@mcceastbay.org
SUMMARY:Halal Food Truck Festival
DESCRIPTION:Halal Fest and MCC invites the community to our Halal Food Truck Festival on Sunday\, July 25 from 3:30 p.m. to 8:30 p.m. \nYour Zabiha Halal food options available for purchase are: El Halal Amigos (Mexican)\, Halal Bites of Chicago (Mediterranean)\, Cafe Salaam (African American)\, and Golnazar Ice Cream (Persian). \nThe food trucks will be stationed in MCC’s back parking lot. Seating available under canopies. Bring your family for great food and fun at MCC and celebrate Eid Al-Adha in community. Unfortunately\, due to the pandemic\, we will not have a bouncy house or other kids activities this year. \nSponsored by Halal Fest & MCC \nAlso join us for our Eid al-Adha outdoor prayers and Halal Food Truck celebration. Also join us for our Eid al-Adha outdoor prayers and Eid Al-Adha Bazaar. \nQuestions? events@mcceastbay.org
URL:https://mcceastbay.org/event/halal-food-truck-festival/
LOCATION:MCC East Bay\, 5724 W Las Positas Blvd #300\, Pleasanton\, CA\, 94588\, United States
CATEGORIES:Family Events
ATTACH;FMTTYPE=image/png:https://mcceastbay.org/wp-content/uploads/2024/06/07.25.21-Halal-Food-Truck-Festival-1.png
ORGANIZER;CN="Muslim Community Center - East Bay":MAILTO:events@mcceastbay.org
END:VEVENT
END:VCALENDAR