BEGIN:VCALENDAR
VERSION:2.0
PRODID:-//MCC East Bay - ECPv6.15.20//NONSGML v1.0//EN
CALSCALE:GREGORIAN
METHOD:PUBLISH
X-WR-CALNAME:MCC East Bay
X-ORIGINAL-URL:https://mcceastbay.org
X-WR-CALDESC:Events for MCC East Bay
REFRESH-INTERVAL;VALUE=DURATION:PT1H
X-Robots-Tag:noindex
X-PUBLISHED-TTL:PT1H
BEGIN:VTIMEZONE
TZID:America/Los_Angeles
BEGIN:DAYLIGHT
TZOFFSETFROM:-0800
TZOFFSETTO:-0700
TZNAME:PDT
DTSTART:20240310T100000
END:DAYLIGHT
BEGIN:STANDARD
TZOFFSETFROM:-0700
TZOFFSETTO:-0800
TZNAME:PST
DTSTART:20241103T090000
END:STANDARD
BEGIN:DAYLIGHT
TZOFFSETFROM:-0800
TZOFFSETTO:-0700
TZNAME:PDT
DTSTART:20250309T100000
END:DAYLIGHT
BEGIN:STANDARD
TZOFFSETFROM:-0700
TZOFFSETTO:-0800
TZNAME:PST
DTSTART:20251102T090000
END:STANDARD
BEGIN:DAYLIGHT
TZOFFSETFROM:-0800
TZOFFSETTO:-0700
TZNAME:PDT
DTSTART:20260308T100000
END:DAYLIGHT
BEGIN:STANDARD
TZOFFSETFROM:-0700
TZOFFSETTO:-0800
TZNAME:PST
DTSTART:20261101T090000
END:STANDARD
END:VTIMEZONE
BEGIN:VEVENT
DTSTART;TZID=America/Los_Angeles:20251212T123000
DTEND;TZID=America/Los_Angeles:20251212T150000
DTSTAMP:20260420T091315
CREATED:20251212T021812Z
LAST-MODIFIED:20251215T004637Z
UID:80701-1765542600-1765551600@mcceastbay.org
SUMMARY:Iman Media Group Tables @ MCC Jummah
DESCRIPTION:Iman Media Group is a Noor of Quran publishing organization that is printing Qurans with translations\, including Farsi. Please visit their table this Friday to see how you can support them. \nNoor of Quran Project Printing Quran. With Farsi Translation\, with the most updated info and resources. They need your support as a Waqf (endowment) or Sadaqa Jarieah (continuous charity). \nQuran printing\, publication\, and reproduction project with a fluent Dari (Farsi) translation that is excellent in color. \nDonate to Iman TV / Noor Qur’an Project\, PO Box 673\, Fremont\, CA 94537 \nQuestions? 5108156545
URL:https://mcceastbay.org/event/iman-media-group-tables-mcc-jummah/
ATTACH;FMTTYPE=image/jpeg:https://mcceastbay.org/wp-content/uploads/2025/12/Light-of-Quran-Project-Noor-Quran-Project-Fremont-Fluent-Dari-Translation-scaled.jpeg
END:VEVENT
END:VCALENDAR