BEGIN:VCALENDAR
VERSION:2.0
PRODID:-//MCC East Bay - ECPv6.15.20//NONSGML v1.0//EN
CALSCALE:GREGORIAN
METHOD:PUBLISH
X-WR-CALNAME:MCC East Bay
X-ORIGINAL-URL:https://mcceastbay.org
X-WR-CALDESC:Events for MCC East Bay
REFRESH-INTERVAL;VALUE=DURATION:PT1H
X-Robots-Tag:noindex
X-PUBLISHED-TTL:PT1H
BEGIN:VTIMEZONE
TZID:America/Los_Angeles
BEGIN:DAYLIGHT
TZOFFSETFROM:-0800
TZOFFSETTO:-0700
TZNAME:PDT
DTSTART:20220313T100000
END:DAYLIGHT
BEGIN:STANDARD
TZOFFSETFROM:-0700
TZOFFSETTO:-0800
TZNAME:PST
DTSTART:20221106T090000
END:STANDARD
BEGIN:DAYLIGHT
TZOFFSETFROM:-0800
TZOFFSETTO:-0700
TZNAME:PDT
DTSTART:20230312T100000
END:DAYLIGHT
BEGIN:STANDARD
TZOFFSETFROM:-0700
TZOFFSETTO:-0800
TZNAME:PST
DTSTART:20231105T090000
END:STANDARD
BEGIN:DAYLIGHT
TZOFFSETFROM:-0800
TZOFFSETTO:-0700
TZNAME:PDT
DTSTART:20240310T100000
END:DAYLIGHT
BEGIN:STANDARD
TZOFFSETFROM:-0700
TZOFFSETTO:-0800
TZNAME:PST
DTSTART:20241103T090000
END:STANDARD
END:VTIMEZONE
BEGIN:VEVENT
DTSTART;TZID=America/Los_Angeles:20230428T133000
DTEND;TZID=America/Los_Angeles:20230428T160000
DTSTAMP:20260425T074430
CREATED:20230412T011536Z
LAST-MODIFIED:20230412T011536Z
UID:64220-1682688600-1682697600@mcceastbay.org
SUMMARY:*Canceled* Indian American Muslim Council Tables @ MCC Jumu'ahs
DESCRIPTION:IAMC is the largest US-based advocacy organization of Indian American Muslims. \n\n\n\nTheir objectives are: \n\n\n\nPromote Pluralism\, Tolerance and Respect\n\n\n\nTo promote the common values of pluralism\, tolerance\, and respect for human rights that form the basis of the world’s two largest secular democracies – the United States and India. \n\n\n\nIncreasing interfaith and inter-community understanding\n\n\n\nTo work towards increasing inter-faith and inter-community understanding in the United States\, with particular focus on the Indian Diaspora with a view to safeguard individuals and societal institutions from infiltration by divisive and hate-filled ideologies. \n\n\n\nIncreasing Education and Awareness\n\n\n\nTo provide a platform for increasing education and awareness about issues of interest to the Indian community in the United States. \n\n\n\nTo Build Alliances and Relationships\n\n\n\nTo build alliances and relationships with all individuals and groups who share our basic values\, in order to work together for achieving the above objectives. \n\n\n\nTo be a Responsible voice\n\n\n\nTo provide a responsible voice for the Indian Muslim Diaspora in the United States in their quest for all of the above objectives.
URL:https://mcceastbay.org/event/indian-american-muslim-council-tables-mcc-jumuahs-2/
LOCATION:MCC East Bay\, 5724 W Las Positas Blvd #300\, Pleasanton\, CA\, 94588\, United States
ATTACH;FMTTYPE=image/jpeg:https://mcceastbay.org/wp-content/uploads/2024/06/Indian-American-Muslim-Council.jpg
END:VEVENT
END:VCALENDAR