BEGIN:VCALENDAR
VERSION:2.0
PRODID:-//MCC East Bay - ECPv6.15.20//NONSGML v1.0//EN
CALSCALE:GREGORIAN
METHOD:PUBLISH
X-WR-CALNAME:MCC East Bay
X-ORIGINAL-URL:https://mcceastbay.org
X-WR-CALDESC:Events for MCC East Bay
REFRESH-INTERVAL;VALUE=DURATION:PT1H
X-Robots-Tag:noindex
X-PUBLISHED-TTL:PT1H
BEGIN:VTIMEZONE
TZID:America/Los_Angeles
BEGIN:DAYLIGHT
TZOFFSETFROM:-0800
TZOFFSETTO:-0700
TZNAME:PDT
DTSTART:20220313T100000
END:DAYLIGHT
BEGIN:STANDARD
TZOFFSETFROM:-0700
TZOFFSETTO:-0800
TZNAME:PST
DTSTART:20221106T090000
END:STANDARD
BEGIN:DAYLIGHT
TZOFFSETFROM:-0800
TZOFFSETTO:-0700
TZNAME:PDT
DTSTART:20230312T100000
END:DAYLIGHT
BEGIN:STANDARD
TZOFFSETFROM:-0700
TZOFFSETTO:-0800
TZNAME:PST
DTSTART:20231105T090000
END:STANDARD
BEGIN:DAYLIGHT
TZOFFSETFROM:-0800
TZOFFSETTO:-0700
TZNAME:PDT
DTSTART:20240310T100000
END:DAYLIGHT
BEGIN:STANDARD
TZOFFSETFROM:-0700
TZOFFSETTO:-0800
TZNAME:PST
DTSTART:20241103T090000
END:STANDARD
END:VTIMEZONE
BEGIN:VEVENT
DTSTART;TZID=America/Los_Angeles:20231202T130000
DTEND;TZID=America/Los_Angeles:20231202T151500
DTSTAMP:20260421T132622
CREATED:20231106T102737Z
LAST-MODIFIED:20231106T102737Z
UID:64889-1701522000-1701530100@mcceastbay.org
SUMMARY:Fight for Your Why: How to Change Dunya Mentality Into Prophetic Intentionality | Ust. Adnan Wood-Smith
DESCRIPTION:Do you struggle with being inconsistent in your commitments you make to others\, to Allah\, and to yourself? Are there unhealthy habits in your life you can’t get rid of? Does the day-to-day grind of the Dunya leave you overwhelmed and exhausted?  \n\n\n\nJoin us on a Saturday afternoon with Ustadh Adnan Wood-Smith to hear his personal journey of discovering his “Why” and to learn the importance of clarifying your unique mission in life\, what internal and external forces are intent on taking you off that mission\, and what techniques you can use to fight back and live an inspiring life oriented around your unique purpose. \n\n\n\nSaturday\, Dec. 2 | 1 p.m. to 3:15 p.m. | MCC Conference Room | Free; Join in person or watch live at mcceastbay.org/live \n\n\n\nBy the end of this talk\, attendees will leave with practical strategies to regain passion and discipline in their lives\, find confidence in the face of uncertainty\, and live a life they are prouder of. \n\n\n\nAdnan Adrian Wood-Smith is an award-winning educator\, speaker\, and author on Qur’anic spirituality.   After graduating from his Ivy League college as valedictorian\, he learnt the hard way that his desire for academic and career success must not override his true sense of mission in life. Since then\, he has been committed to helping others define and defend their purpose so that they can find true community with others who share their deep intentionality in the world.  \n\n\n\nHe has mentored hundreds as a denominational counselor at Harvard Divinity School\, Muslim Chaplain at Brown University\, and Student Life Coordinator at Zaytuna College\, as well as through various volunteer positions\, including his tenure as President of RICMA\, the umbrella organization for the Muslim community in Rhode Island.   Adnan is nearing completion of his PhD in Religion at Harvard University and has received numerous traditional licenses (ijāzāt) to teach Islamic spiritual mentorship\, jurisprudence\, Qur’anic Arabic\, and other subjects from master teachers in West Africa\, Syria\, and California. \n\n\n\nMore Ustadh Adnan: https://mcceastbay.org/adnan \n\n\n\nQuestions? events@mcceastbay.org
URL:https://mcceastbay.org/event/intentionality/
CATEGORIES:Family Events
ATTACH;FMTTYPE=image/jpeg:https://mcceastbay.org/wp-content/uploads/2024/06/Fight-for-Your-Why.jpg
END:VEVENT
END:VCALENDAR