BEGIN:VCALENDAR
VERSION:2.0
PRODID:-//MCC East Bay - ECPv6.15.20//NONSGML v1.0//EN
CALSCALE:GREGORIAN
METHOD:PUBLISH
X-WR-CALNAME:MCC East Bay
X-ORIGINAL-URL:https://mcceastbay.org
X-WR-CALDESC:Events for MCC East Bay
REFRESH-INTERVAL;VALUE=DURATION:PT1H
X-Robots-Tag:noindex
X-PUBLISHED-TTL:PT1H
BEGIN:VTIMEZONE
TZID:America/Los_Angeles
BEGIN:DAYLIGHT
TZOFFSETFROM:-0800
TZOFFSETTO:-0700
TZNAME:PDT
DTSTART:20230312T100000
END:DAYLIGHT
BEGIN:STANDARD
TZOFFSETFROM:-0700
TZOFFSETTO:-0800
TZNAME:PST
DTSTART:20231105T090000
END:STANDARD
BEGIN:DAYLIGHT
TZOFFSETFROM:-0800
TZOFFSETTO:-0700
TZNAME:PDT
DTSTART:20240310T100000
END:DAYLIGHT
BEGIN:STANDARD
TZOFFSETFROM:-0700
TZOFFSETTO:-0800
TZNAME:PST
DTSTART:20241103T090000
END:STANDARD
BEGIN:DAYLIGHT
TZOFFSETFROM:-0800
TZOFFSETTO:-0700
TZNAME:PDT
DTSTART:20250309T100000
END:DAYLIGHT
BEGIN:STANDARD
TZOFFSETFROM:-0700
TZOFFSETTO:-0800
TZNAME:PST
DTSTART:20251102T090000
END:STANDARD
END:VTIMEZONE
BEGIN:VEVENT
DTSTART;TZID=America/Los_Angeles:20240208T180000
DTEND;TZID=America/Los_Angeles:20240208T220000
DTSTAMP:20260420T235157
CREATED:20240111T121332Z
LAST-MODIFIED:20240111T121332Z
UID:65067-1707415200-1707429600@mcceastbay.org
SUMMARY:Isra & Me’raj: The Sacred Ascension | Shaykh Faraz Khan
DESCRIPTION:Join Shaykh Faraz Khan for a faith-affirming evening to learn lessons from the Prophet’s blessed heavenly ascension: Al-Isra wal-Mi’raj. \nThe Bay Area Muslim community annually commemorates a momentous occasion in the Prophet Muhammad’s ﷺ life: the miraculous Night Journey to Jerusalem and Ascension to Heaven (al-Isra wal-Mi’raj). \nMuslims choose to fast on the day of Isra and Mi’raj to commemorate this blessed day and earn extra rewards. \nWe will have a community Iftar before the program from 5:30 p.m. to 6:30 p.m. Maghrib on this day is at 5:42 p.m. Register for Iftar at mcceastbay.org/isra-miraj-iftarPlease note that Iftar tickets are non-refundable. \n6:30 p.m. to 10 p.m. | Thursday\, February 8 | MCC Conference Room | Join in person or watch virtually at https://mcceastbay.org/live \n\n\n\n– Past talks commemorating Al Isra Wal Miraj: https://mcceastbay.org/isra\n– More Sheikh Faraz Khan talks: https://mcceastbay.org/faraz\n\nSchedule \n\n5:40 p.m. – Break the fast/ Iftar\n5:50 p.m. – Maghrib\n6:15 p.m. – 7:00 p.m. Dinner\n7:10 p.m. – 8 p.m. Zikr\n8:00 p.m. – Isha\n8:15 p.m. – 10:00 p.m. — Program\n\nThis event is organized by the San Ramon Valley Islamic Center (SRVIC)\, Islamic Center of Livermore (ICL)\, and Muslim Community Center – East Bay. \nMuslims worldwide remember this event as one that changed the course of history. Allah bestowed the tremendous honor of this journey and the command of Prayer (salah) upon His Messenger – a perpetual gift and source of comfort for Muslims until eternity. \n\nThis session is also an excellent way to begin spiritually preparing ourselves for Ramadan and enliven our spirit to get through the uncertainty we are challenged with now. \n\nMore about this special night \n\nIsra Mi’raj is celebrated on the 27th of Rajab. This night happened in 621\, the year of sadness (‘Aam ul Huzn)\, when Abu Talib & Khadijah (RA) died. The Prophet Muhammad (SAW) rode Buraq (a white steed) during his journey\, and Allah enjoined 50 prayers and reduced the prayers to five. \n\n He met different Prophets on the journey: \n\n– 7th Heaven met Ibrahim (AS)\n– 6th Heaven met Musa (AS)\n– 5th Heaven met Harun (AS)\n– 4th Heaven met Idris (AS)\n– 3rd Heaven met Yusuf (AS)\n– 2nd Heaven met Isa (AS) & Yahya (AS)\n– 1st Heaven met Adam (AS)\n\nMI’RAJ – Ascend to heaven\, where he speaks to GodISRA’ – Night journey from Makkah to Jerusalem\n\nQuestions? events@mcceastbay.org
URL:https://mcceastbay.org/event/isra-miraj/
ATTACH;FMTTYPE=image/jpeg:https://mcceastbay.org/wp-content/uploads/2024/06/Isra-Miraj-2024.jpg
END:VEVENT
END:VCALENDAR