BEGIN:VCALENDAR
VERSION:2.0
PRODID:-//MCC East Bay - ECPv6.15.20//NONSGML v1.0//EN
CALSCALE:GREGORIAN
METHOD:PUBLISH
X-WR-CALNAME:MCC East Bay
X-ORIGINAL-URL:https://mcceastbay.org
X-WR-CALDESC:Events for MCC East Bay
REFRESH-INTERVAL;VALUE=DURATION:PT1H
X-Robots-Tag:noindex
X-PUBLISHED-TTL:PT1H
BEGIN:VTIMEZONE
TZID:America/Los_Angeles
BEGIN:DAYLIGHT
TZOFFSETFROM:-0800
TZOFFSETTO:-0700
TZNAME:PDT
DTSTART:20220313T100000
END:DAYLIGHT
BEGIN:STANDARD
TZOFFSETFROM:-0700
TZOFFSETTO:-0800
TZNAME:PST
DTSTART:20221106T090000
END:STANDARD
BEGIN:DAYLIGHT
TZOFFSETFROM:-0800
TZOFFSETTO:-0700
TZNAME:PDT
DTSTART:20230312T100000
END:DAYLIGHT
BEGIN:STANDARD
TZOFFSETFROM:-0700
TZOFFSETTO:-0800
TZNAME:PST
DTSTART:20231105T090000
END:STANDARD
BEGIN:DAYLIGHT
TZOFFSETFROM:-0800
TZOFFSETTO:-0700
TZNAME:PDT
DTSTART:20240310T100000
END:DAYLIGHT
BEGIN:STANDARD
TZOFFSETFROM:-0700
TZOFFSETTO:-0800
TZNAME:PST
DTSTART:20241103T090000
END:STANDARD
END:VTIMEZONE
BEGIN:VEVENT
DTSTART;TZID=America/Los_Angeles:20231110T123000
DTEND;TZID=America/Los_Angeles:20231110T145000
DTSTAMP:20260425T061353
CREATED:20231110T004906Z
LAST-MODIFIED:20231110T004906Z
UID:64931-1699619400-1699627800@mcceastbay.org
SUMMARY:Jumu’ah Services @ MCC & Dublin Library
DESCRIPTION:For MCC’s Jumu’ah services on Friday\, November 10\, 2023: \n\n\n\n\n12:30 p.m. to 12:50 p.m.\n\nSidi Mahdy Amine delivers this sermon at MCC.\n\n\n\n\n\n1:30 p.m. to 1:50 p.m.\n\n– TBA delivers this sermon at MCC.\n\n\n\n\n\n1:40 p.m. to 2:10 p.m.\n\n– Sidi Abdullah Qureshi delivers the sermon at Dublin Library.\n\n\n\n\n\n12:30 p.m. – 12:50 p.m. \n\n– Sidi Abdullah Qureshi delivers the sermon at MCC.\n\n\n\n\n\n\nPlease attend at 12:30 or 2:30 p.m. to avoid heavier second-service congestion whenever possible. Please note that the former HP lot (now Pleasanton School District) is no longer available to our congregation. Please come to the first and fourth Jumu’ah to ease up parking congestion or attend the parallel satellite prayer at 1:40 p.m. at Dublin Library: https://mcceastbay.org/satellite-jumuah-library-update \n\n\n\n\n– Virtually watch the three MCC sermons from home: https://mcceastbay.org/live\n\n\n\n– More Sidi Mahdy: https://mcceastbay.org/mahdy\n\n\n\n– More Sidi Abdullah: https://mcceastbay.org/abdullah-qureshi\n\n\n\n\nFor parents attending with young children indoors at the main MCC facility\, we offer private mothers’ and fathers’ rooms with an audio and visual connection to the Prayer Hall. Parents can watch the sermon and pray while working with other parents with young children. The mothers/fathers prayer room is just past the Banquet Hall doors into the school area. \n\n\n\nQuestions? events@mcceastbay.org
URL:https://mcceastbay.org/event/jumuah-services-6/
ATTACH;FMTTYPE=image/jpeg:https://mcceastbay.org/wp-content/uploads/2024/06/Friday-Jumuah-Khateebs-2.jpg
END:VEVENT
END:VCALENDAR