BEGIN:VCALENDAR
VERSION:2.0
PRODID:-//MCC East Bay - ECPv6.15.20//NONSGML v1.0//EN
CALSCALE:GREGORIAN
METHOD:PUBLISH
X-WR-CALNAME:MCC East Bay
X-ORIGINAL-URL:https://mcceastbay.org
X-WR-CALDESC:Events for MCC East Bay
REFRESH-INTERVAL;VALUE=DURATION:PT1H
X-Robots-Tag:noindex
X-PUBLISHED-TTL:PT1H
BEGIN:VTIMEZONE
TZID:America/Los_Angeles
BEGIN:DAYLIGHT
TZOFFSETFROM:-0800
TZOFFSETTO:-0700
TZNAME:PDT
DTSTART:20230312T100000
END:DAYLIGHT
BEGIN:STANDARD
TZOFFSETFROM:-0700
TZOFFSETTO:-0800
TZNAME:PST
DTSTART:20231105T090000
END:STANDARD
BEGIN:DAYLIGHT
TZOFFSETFROM:-0800
TZOFFSETTO:-0700
TZNAME:PDT
DTSTART:20240310T100000
END:DAYLIGHT
BEGIN:STANDARD
TZOFFSETFROM:-0700
TZOFFSETTO:-0800
TZNAME:PST
DTSTART:20241103T090000
END:STANDARD
BEGIN:DAYLIGHT
TZOFFSETFROM:-0800
TZOFFSETTO:-0700
TZNAME:PDT
DTSTART:20250309T100000
END:DAYLIGHT
BEGIN:STANDARD
TZOFFSETFROM:-0700
TZOFFSETTO:-0800
TZNAME:PST
DTSTART:20251102T090000
END:STANDARD
END:VTIMEZONE
BEGIN:VEVENT
DTSTART;TZID=America/Los_Angeles:20240315T133000
DTEND;TZID=America/Los_Angeles:20240315T160000
DTSTAMP:20260423T132303
CREATED:20240315T070624Z
LAST-MODIFIED:20240315T070624Z
UID:65313-1710509400-1710518400@mcceastbay.org
SUMMARY:Jumu’ah Services @ MCC & Dublin Library
DESCRIPTION:For MCC’s four Jumu’ah services on Friday\, March 8\, 2024: \n\n\n\n\n1:30 p.m. to 1:50 p.m.\n\n Dr. Abdullah bin Hamid Ali delivers this sermon at MCC.\n\n\n\n\n\n1:40 p.m. to 2:10 p.m.\n\n– Ustadh Ibrahim Qureshi delivers this sermon at Rosewood Center.\n\n\n\n\n\n2:30 p.m. to 2:50 p.m.\n\n– Sidi Atef Arabi delivers this sermon at MCC.\n\n\n\n\n\n2:40 p.m. – 3:10 p.m. \n\n– Ustadh Ibrahim Qureshi delivers the sermon at Rosewood Center.\n\n\n\n\n\n3:40 p.m. – 4 p.m. \n\n– Imam Bilal ibn Yusuf delivers this sermon at MCC.\n\n\n\n\n\n\nPlease attend at 2:30 or 3:40 p.m. @ MCC to avoid heavier first-service congestion whenever possible. Please note that the former HP lot (now Pleasanton School District) is no longer available to our congregation. Please come to the first and fourth Jumuah to ease up parking congestion or attend the parallel satellite prayer at 1:40 p.m. at Dublin Library: https://mcceastbay.org/satellite-jumuah-library-update \n\n\n\n\n– Virtually watch the three MCC sermons from home: https://mcceastbay.org/live\n\n\n\n\nFor parents attending with young children indoors at the main MCC facility\, we offer private mothers’ and fathers’ rooms with an audio and visual connection to the Prayer Hall. Parents can watch the sermon and pray while working with other parents with young children. The mothers/fathers prayer room is just past the Banquet Hall doors into the school area. \n\n\n\nQuestions? events@mcceastbay.org
URL:https://mcceastbay.org/event/jumuah-services-mcc-dublin-library-5/
ATTACH;FMTTYPE=image/jpeg:https://mcceastbay.org/wp-content/uploads/2024/06/Friday-Jumuah-Khateebs-2-5.jpg
END:VEVENT
END:VCALENDAR