BEGIN:VCALENDAR
VERSION:2.0
PRODID:-//MCC East Bay - ECPv6.15.20//NONSGML v1.0//EN
CALSCALE:GREGORIAN
METHOD:PUBLISH
X-WR-CALNAME:MCC East Bay
X-ORIGINAL-URL:https://mcceastbay.org
X-WR-CALDESC:Events for MCC East Bay
REFRESH-INTERVAL;VALUE=DURATION:PT1H
X-Robots-Tag:noindex
X-PUBLISHED-TTL:PT1H
BEGIN:VTIMEZONE
TZID:America/Los_Angeles
BEGIN:DAYLIGHT
TZOFFSETFROM:-0800
TZOFFSETTO:-0700
TZNAME:PDT
DTSTART:20220313T100000
END:DAYLIGHT
BEGIN:STANDARD
TZOFFSETFROM:-0700
TZOFFSETTO:-0800
TZNAME:PST
DTSTART:20221106T090000
END:STANDARD
BEGIN:DAYLIGHT
TZOFFSETFROM:-0800
TZOFFSETTO:-0700
TZNAME:PDT
DTSTART:20230312T100000
END:DAYLIGHT
BEGIN:STANDARD
TZOFFSETFROM:-0700
TZOFFSETTO:-0800
TZNAME:PST
DTSTART:20231105T090000
END:STANDARD
BEGIN:DAYLIGHT
TZOFFSETFROM:-0800
TZOFFSETTO:-0700
TZNAME:PDT
DTSTART:20240310T100000
END:DAYLIGHT
BEGIN:STANDARD
TZOFFSETFROM:-0700
TZOFFSETTO:-0800
TZNAME:PST
DTSTART:20241103T090000
END:STANDARD
END:VTIMEZONE
BEGIN:VEVENT
DTSTART;TZID=America/Los_Angeles:20230818T133000
DTEND;TZID=America/Los_Angeles:20230818T160000
DTSTAMP:20260421T055732
CREATED:20230818T034155Z
LAST-MODIFIED:20230818T034155Z
UID:64612-1692365400-1692374400@mcceastbay.org
SUMMARY:Jumu’ah Services @ MCC & Dublin Library
DESCRIPTION:For MCC’s Jumu’ah services on Friday\, Aug. 18: \n\n\n\n\n1:30 p.m. – 1:50 p.m. \n\n– Imam Dawood Yaseen delivers this sermon.\n\n\n\n\n\n1:40 p.m. to 2:10 p.m.\n\n– Sidi Shaan Mukhtar delivers the sermon.\n\n\n\n\n\n2:30 p.m. – 2:50 p.m. \n\n– Sidi Shaan Mukhtar delivers this sermon.\n\n\n\n\n\n3:40 p.m. – 4 p.m.\n\n– Sidi Mahdy Amine delivers this sermon.\n\n\n\n\n\n\nPlease attend at 2:30 or 3:40 p.m. to avoid heavier first-service congestion whenever possible. Masks are optional in the facility.Please note that the HP lot will not be available starting August 18. Please come to the second and third Jumu’ah to ease up parking or attend the parallel satellite prayer at 1:40 p.m. at Dublin Library starting August 18: https://mcceastbay.org/satellite-jumuah-library-update \n\n\n\n\n– Virtually watch these three sermons from home: https://mcceastbay.org/live\n\n\n\n– Imam Dawood Yaseen: https://mcceastbay.org/dawood\n\n\n\n– Sidi Shaan Mukhtar: HTTP://mcceastbay.org/shaan\n\n\n\n– Sidi Mahdy Amine: https://mcceastbay.org/mahdy\n\n\n\n\nDawood spent five summers teaching Arabic language at the Zaytuna Summer Arabic Intensive. Dawood has worked with colleagues to establish “Learning Outside of the Classroom” program at Zaytuna College\, which includes service learning trips and a revival of traditional athletics found in swimming\, archery and horseback riding. Prior to Zaytuna College\, at Dartmouth College Dawood provided spiritual and religious support\, offered educational seminars\, and led congregational prayers for Muslim students\, and residents of the greater Hanover area. Dawood also worked to foster understanding and dialogue among diverse campus groups by building and maintaining interfaith relations. During his residence in South Africa\, Dawood converted to Islam and then spent five years in Damascus studying Arabic\, Islam\, and spirituality. Upon completion of his studies\, he relocated to New Haven\, CT where he served as Imam of Masjid Al-Islam. While in New Haven\, he also worked as a teaching assistant and engaged in research at Yale University. Dawood also served as Director of Outreach at the Zayed Center for Islamic Culture in the United Arab Emirates\, engaging in public speaking within U.A.E. and abroad\, emphasizing ethics and tolerance between Muslim and non-Muslim communities. Education: Abu Nour Institute (Islamic Studies)\, Damascus\, Syria 1997-2002\, University of Massachusetts at Boston\, B.A. Community Studies (2009)\, Dartmouth College\, M.A. in Liberal Studies\, Globalization Studies (2017). Learn more at: https://zaytuna.edu/academics/faculty/dawood-yasin \n\n\n\nUstadh Mahdy Amine was born and raised in Chicago. Attending Universal School\, he served as captain of the high school basketball team\, then graduated from Loyola University Chicago at the age of 19 with a double bachelor in economics and political science\, and after that from the University of Minnesota School of Law-all while serving as President of the Muslim Students Association at each respective institution. Concurrent with his studies and work\, Mahdy helped found CAIR Chicago\, has been teaching for nearly 20 years\, and served as a member of the band Noorification\, which released two albums\, and four music videos\, and performed at over 100 national and international venues. Mahdy is married\, has three little girls\, and is blessed to be a survivor. In 2012\, Mahdy resigned from his job as Corporate Counsel for Dell Corporation to attend Zaytuna College\, the first-ever accredited Muslim liberal arts college in the US\, graduating with the first class in 2014. He then visited and studied briefly in Tarim\, Yemen. Mahdy currently works as Senior Vice President\, General Counsel of a global cancer diagnostic and research laboratory\, teaches Islamic Studies at Ilm Tree\, a home school co-op in Lafayette\, CA\, regularly delivers sermons at various communities\, and serves as Convert Care Coordinator at Ta’leef Collective in Fremont\, California. \n\n\n\nShaan Mukhtar was raised in the MCC community and from a young age had been involved in youth programs throughout the Bay Area. He has helped start various high school MSA and youth Halaqas at different mosques. He is currently a senior at UC Davis where he is finishing up his undergraduate degree. \n\n\n\nFor parents attending with young children indoors\, MCC offers private mothers’ and fathers’ rooms with an audio and visual connection to Prayer Hall. Parents can watch the sermon and pray while working with other parents with young children. The mothers/fathers prayer room is just past the Banquet Hall doors into the school area. \n\n\n\nQuestions? events@mcceastbay.org
URL:https://mcceastbay.org/event/jumuah-services-mcc-dublin-library/
LOCATION:MCC East Bay\, 5724 W Las Positas Blvd #300\, Pleasanton\, CA\, 94588\, United States
ATTACH;FMTTYPE=image/jpeg:https://mcceastbay.org/wp-content/uploads/2024/06/Friday-Jumuah-Khateebs-speakers-at-masjid-mosque-1-1-1.jpg
END:VEVENT
END:VCALENDAR