BEGIN:VCALENDAR
VERSION:2.0
PRODID:-//MCC East Bay - ECPv6.15.20//NONSGML v1.0//EN
CALSCALE:GREGORIAN
METHOD:PUBLISH
X-WR-CALNAME:MCC East Bay
X-ORIGINAL-URL:https://mcceastbay.org
X-WR-CALDESC:Events for MCC East Bay
REFRESH-INTERVAL;VALUE=DURATION:PT1H
X-Robots-Tag:noindex
X-PUBLISHED-TTL:PT1H
BEGIN:VTIMEZONE
TZID:America/Los_Angeles
BEGIN:DAYLIGHT
TZOFFSETFROM:-0800
TZOFFSETTO:-0700
TZNAME:PDT
DTSTART:20240310T100000
END:DAYLIGHT
BEGIN:STANDARD
TZOFFSETFROM:-0700
TZOFFSETTO:-0800
TZNAME:PST
DTSTART:20241103T090000
END:STANDARD
BEGIN:DAYLIGHT
TZOFFSETFROM:-0800
TZOFFSETTO:-0700
TZNAME:PDT
DTSTART:20250309T100000
END:DAYLIGHT
BEGIN:STANDARD
TZOFFSETFROM:-0700
TZOFFSETTO:-0800
TZNAME:PST
DTSTART:20251102T090000
END:STANDARD
BEGIN:DAYLIGHT
TZOFFSETFROM:-0800
TZOFFSETTO:-0700
TZNAME:PDT
DTSTART:20260308T100000
END:DAYLIGHT
BEGIN:STANDARD
TZOFFSETFROM:-0700
TZOFFSETTO:-0800
TZNAME:PST
DTSTART:20261101T090000
END:STANDARD
END:VTIMEZONE
BEGIN:VEVENT
DTSTART;TZID=America/Los_Angeles:20250606T133000
DTEND;TZID=America/Los_Angeles:20250606T160000
DTSTAMP:20260424T043549
CREATED:20250606T004402Z
LAST-MODIFIED:20250606T004726Z
UID:77194-1749216600-1749225600@mcceastbay.org
SUMMARY:Jumu’ah Services @ MCC & Rosewood
DESCRIPTION:1:30 p.m. to 1:50 p.m. \n\n\n\n Imam Hamzah Malik delivers this sermon at MCC East Bay\n\n\n\n\n1:40 p.m. to 2:10 p.m.\n\n– Mufti Saaleh Baseer delivers this sermon at Rosewood Conference Center\, 4450 Rosewood Dr.\, Pleasanton\n\n\n\n\n\n\n\n\n\n\n\n\n\n2:30 p.m. to 2:50 p.m.\n\n\n\n– Ustadh Mohammad Abdul Baseer delivers this sermon at MCC East Bay\n\n\n\n\n3:40 p.m. – 4 p.m. \n\n\n\n– Hafiz Abdullah Ayyaz Qadri delivers this sermon at MCC East Bay\n\n\n\n\n\n\n\n\n\n\n*Please attend at 2:30 or 3:40 p.m. at MCC to avoid heavier first-service congestion whenever possible\, or please attend the off-site MCC Jumu’ah service\, that is\, each week at the Rosewood Commons\, 4450 Rosewood Dr (Building 5).\, Pleasanton. Rosewood is just a four-minute drive from MCC. \nPlease note that the former HP lot (now Pleasanton School District) is no longer available to our congregation. Please come to the third\, or fourth Jumuah at MCC to ease up parking congestion or\, better yet\, attend our weekly parallel satellite prayer from 1:40 p.m. to 2:10 p.m. at Rosewood Center (Building 5): https://mcceastbay.org/rosewood \n\n\n\n\n– Virtually watch the three MCC sermons from home: https://mcceastbay.org/live\n\nFor parents attending with young children indoors at the main MCC facility\, we offer private mothers’ and fathers’ rooms with an audio and visual connection to the Prayer Hall. Parents can watch the sermon and pray while working with other parents and young children. The mothers’ and fathers’ prayer room is just past the Banquet Hall doors\, into the school area. \n\n\n\nQuestions? events@mcceastbay.org \n\n\n\n\n\n\n\n\n\n\n\n\n\n\n\n\n\n\n\n\n\n \n\n\n\n\n\n\n1:30 p.m. to 1:50 p.m. \n\n\n\n Imam Hamzah Malik delivers this sermon at MCC East Bay\n\n\n\n\n1:40 p.m. to 2:10 p.m.\n\n– Mufti Saaleh Baseer delivers this sermon at Rosewood Conference Center\, 4450 Rosewood Dr.\, Pleasanton\n\n\n\n\n\n\n\n\n\n\n\n\n\n2:30 p.m. to 2:50 p.m.\n\n\n\n– Ustadh Mohammad Abdul Baseer delivers this sermon at MCC East Bay\n\n\n\n\n3:40 p.m. – 4 p.m. \n\n\n\n– Hafiz Abdullah Ayyaz Qadri delivers this sermon at MCC East Bay\n\n\n\n\n\n\n\n\n\n\n*Please attend at 2:30 or 3:40 p.m. at MCC to avoid heavier first-service congestion whenever possible\, or please attend the off-site MCC Jumu’ah service\, that is\, each week at the Rosewood Commons\, 4450 Rosewood Dr (Building 5).\, Pleasanton. Rosewood is just a four-minute drive from MCC. \nPlease note that the former HP lot (now Pleasanton School District) is no longer available to our congregation. Please come to the third\, or fourth Jumuah at MCC to ease up parking congestion or\, better yet\, attend our weekly parallel satellite prayer from 1:40 p.m. to 2:10 p.m. at Rosewood Center (Building 5): https://mcceastbay.org/rosewood \n\n\n\n\n– Virtually watch the three MCC sermons from home: https://mcceastbay.org/live\n\nFor parents attending with young children indoors at the main MCC facility\, we offer private mothers’ and fathers’ rooms with an audio and visual connection to the Prayer Hall. Parents can watch the sermon and pray while working with other parents and young children. The mothers’ and fathers’ prayer room is just past the Banquet Hall doors\, into the school area. \n\n\n\nQuestions? events@mcceastbay.org \n\n\n\n\n\n\n\n\n\n\n\n\n\n\n\n\n\n\n\n\n\n \n\n\n\n\n\nFor MCC’s four Jumu’ah services on Friday\, June 6\, 2025: \n\n\n\n\n\n\n1:30 p.m. to 1:50 p.m. \n\n\n\n Imam Hamzah Malik delivers this sermon at MCC East Bay\n\n\n\n\n1:40 p.m. to 2:10 p.m.\n\n– Mufti Saaleh Baseer delivers this sermon at Rosewood Conference Center\, 4450 Rosewood Dr.\, Pleasanton\n\n\n\n\n\n\n\n\n\n\n\n\n\n2:30 p.m. to 2:50 p.m.\n\n\n\n– Ustadh Mohammad Abdul Baseer delivers this sermon at MCC East Bay\n\n\n\n\n3:40 p.m. – 4 p.m. \n\n\n\n– Hafiz Abdullah Ayyaz Qadri delivers this sermon at MCC East Bay\n\n\n\n\n\n\n\n\n\n\n*Please attend at 2:30 or 3:40 p.m. at MCC to avoid heavier first-service congestion whenever possible\, or please attend the off-site MCC Jumu’ah service\, that is\, each week at the Rosewood Commons\, 4450 Rosewood Dr (Building 5).\, Pleasanton. Rosewood is just a four-minute drive from MCC. \nPlease note that the former HP lot (now Pleasanton School District) is no longer available to our congregation. Please come to the third\, or fourth Jumuah at MCC to ease up parking congestion or\, better yet\, attend our weekly parallel satellite prayer from 1:40 p.m. to 2:10 p.m. at Rosewood Center (Building 5): https://mcceastbay.org/rosewood \n\n\n\n\n– Virtually watch the three MCC sermons from home: https://mcceastbay.org/live\n\nFor parents attending with young children indoors at the main MCC facility\, we offer private mothers’ and fathers’ rooms with an audio and visual connection to the Prayer Hall. Parents can watch the sermon and pray while working with other parents and young children. The mothers’ and fathers’ prayer room is just past the Banquet Hall doors\, into the school area. \n\n\n\nQuestions? events@mcceastbay.org \n\n\n\n\n\n\n\n\n\n\n\n\n\n\n\n\n\n\n\n\n\n 
URL:https://mcceastbay.org/event/jumuah-services-mcc-rosewood-12/
ATTACH;FMTTYPE=image/jpeg:https://mcceastbay.org/wp-content/uploads/2024/06/mcc-east-bay-prayer-hall.jpeg
END:VEVENT
END:VCALENDAR