BEGIN:VCALENDAR
VERSION:2.0
PRODID:-//MCC East Bay - ECPv6.15.20//NONSGML v1.0//EN
CALSCALE:GREGORIAN
METHOD:PUBLISH
X-WR-CALNAME:MCC East Bay
X-ORIGINAL-URL:https://mcceastbay.org
X-WR-CALDESC:Events for MCC East Bay
REFRESH-INTERVAL;VALUE=DURATION:PT1H
X-Robots-Tag:noindex
X-PUBLISHED-TTL:PT1H
BEGIN:VTIMEZONE
TZID:America/Los_Angeles
BEGIN:DAYLIGHT
TZOFFSETFROM:-0800
TZOFFSETTO:-0700
TZNAME:PDT
DTSTART:20220313T100000
END:DAYLIGHT
BEGIN:STANDARD
TZOFFSETFROM:-0700
TZOFFSETTO:-0800
TZNAME:PST
DTSTART:20221106T090000
END:STANDARD
BEGIN:DAYLIGHT
TZOFFSETFROM:-0800
TZOFFSETTO:-0700
TZNAME:PDT
DTSTART:20230312T100000
END:DAYLIGHT
BEGIN:STANDARD
TZOFFSETFROM:-0700
TZOFFSETTO:-0800
TZNAME:PST
DTSTART:20231105T090000
END:STANDARD
BEGIN:DAYLIGHT
TZOFFSETFROM:-0800
TZOFFSETTO:-0700
TZNAME:PDT
DTSTART:20240310T100000
END:DAYLIGHT
BEGIN:STANDARD
TZOFFSETFROM:-0700
TZOFFSETTO:-0800
TZNAME:PST
DTSTART:20241103T090000
END:STANDARD
END:VTIMEZONE
BEGIN:VEVENT
DTSTART;TZID=America/Los_Angeles:20230602T153000
DTEND;TZID=America/Los_Angeles:20230602T160000
DTSTAMP:20260422T224836
CREATED:20230524T215551Z
LAST-MODIFIED:20230524T215551Z
UID:64347-1685719800-1685721600@mcceastbay.org
SUMMARY:Last Day of Youth Jumu'ah
DESCRIPTION:After this\, we go back to offering two Jumu’ah services. \n\n\n\nYouth Jumu’ah resumes Friday\, August 11\, 2023.
URL:https://mcceastbay.org/event/last-day-of-youth-jumuah/
LOCATION:MCC East Bay\, 5724 W Las Positas Blvd #300\, Pleasanton\, CA\, 94588\, United States
CATEGORIES:Teen
ATTACH;FMTTYPE=image/jpeg:https://mcceastbay.org/wp-content/uploads/2024/06/mcc-friday-Jumuah-scaled-1.jpg
END:VEVENT
END:VCALENDAR