BEGIN:VCALENDAR
VERSION:2.0
PRODID:-//MCC East Bay - ECPv6.15.20//NONSGML v1.0//EN
CALSCALE:GREGORIAN
METHOD:PUBLISH
X-WR-CALNAME:MCC East Bay
X-ORIGINAL-URL:https://mcceastbay.org
X-WR-CALDESC:Events for MCC East Bay
REFRESH-INTERVAL;VALUE=DURATION:PT1H
X-Robots-Tag:noindex
X-PUBLISHED-TTL:PT1H
BEGIN:VTIMEZONE
TZID:America/Los_Angeles
BEGIN:DAYLIGHT
TZOFFSETFROM:-0800
TZOFFSETTO:-0700
TZNAME:PDT
DTSTART:20230312T100000
END:DAYLIGHT
BEGIN:STANDARD
TZOFFSETFROM:-0700
TZOFFSETTO:-0800
TZNAME:PST
DTSTART:20231105T090000
END:STANDARD
BEGIN:DAYLIGHT
TZOFFSETFROM:-0800
TZOFFSETTO:-0700
TZNAME:PDT
DTSTART:20240310T100000
END:DAYLIGHT
BEGIN:STANDARD
TZOFFSETFROM:-0700
TZOFFSETTO:-0800
TZNAME:PST
DTSTART:20241103T090000
END:STANDARD
BEGIN:DAYLIGHT
TZOFFSETFROM:-0800
TZOFFSETTO:-0700
TZNAME:PDT
DTSTART:20250309T100000
END:DAYLIGHT
BEGIN:STANDARD
TZOFFSETFROM:-0700
TZOFFSETTO:-0800
TZNAME:PST
DTSTART:20251102T090000
END:STANDARD
END:VTIMEZONE
BEGIN:VEVENT
DTSTART;TZID=America/Los_Angeles:20240823T190000
DTEND;TZID=America/Los_Angeles:20240823T210000
DTSTAMP:20260421T203519
CREATED:20240730T154243Z
LAST-MODIFIED:20240816T002841Z
UID:68201-1724439600-1724446800@mcceastbay.org
SUMMARY:Locked Up: The Power of Islam in Prison | Ustadh Jesse Maroney
DESCRIPTION:Did you know that Islam is the fastest-growing religion in prisons in the U.S.?  Yet\, this large community of incarcerated Muslims is often forgotten and neglected. Listen to an inspirational talk about how this group struggles behind bars to keep their faith and how you can help by donating items\, visiting\, and offering solace to these sisters and brothers. Join us to learn more and how to get involved!  \n7 p.m. to 9 p.m. | Friday\, August 23 | MCC Conference Room | Join us in person or watch online at mcceastbay.org/live \nUstadh Jesse will also deliver the 1:30 p.m. & 2:30 p.m. sermons at MCC East Bay on Friday\, Aug. 23.  \nLink Outside is a Muslim prison outreach organization that has been transforming lives across the United States since 2010. It provides spiritual\, moral\, and educational support to incarcerated men and women in North America. \nAbout Ustadh Jesse \nUstadh Jesse Maroney’s journey to Islam began during a nine-year prison sentence\, during which time he embraced a faith that would transform his life. Upon his release\, he delved into Islamic studies and emerged as a dynamic public speaker dedicated to uplifting the underserved and challenging societal stigmas.   \nJesse’s influence is substantial. He has 12 years of experience teaching in both the free community and American penal institutions. He deepened his knowledge through the guidance and works of Shaykh Faisal Hamid Abdur Razak and Shaykh Al-Yacoubi. Additionally\, he earned an Islamic Studies certificate from Shaykh Mustafa Umar at California Islamic University. \nToday\, Ustadh Jesse is a prominent Islamic lecturer\, delivering Friday sermons (khutbah) at various Islamic centers across Southern California. He is also the in-house imam at Masjid Umar ibn Al-Khattab in downtown Los Angeles. From 2017-19\, he taught Islamic studies in California state prisons\, where his classes were recognized for offering credit towards reducing inmates’ sentences. \nJesse Maroney’s dedication and expertise continue to inspire and educate\, profoundly impacting the communities he serves. \n\n– More talks about prison support: http://mcceastbay.org/incarcerated \n– More topics addressing community & social justice issues: http://mcceastbay.org/community \n– How MCC supports prisoners in California: http://mcceastbay.org/prison\n\nQuestions? events@mcceastbay.org \nWhat happens when faith lacks guidance? \nThis question takes on a life-changing significance in the harsh world of incarceration. \nFor Jesse Maroney\, the answer came during a decade behind bars in Danbury\, Connecticut. \nJesse faced more than just the routine challenges of prison life every morning in his cell. \nHe would wake up with questions about his faith\, yearning for authentic learning\, but there were no knowledgeable individuals to turn to. \nThe few Islamic books available were often outdated or incomplete\, leaving Jesse and others like him to piece together their understanding from fragmented sources. \n \nThe turning point in Jesse‘s incarceration came when he received educational materials and letters from respected scholars and community members. \nThese materials were more than just books and CDs; they were lifelines. \nThey offered Jesse a chance to understand his faith accurately and profoundly\, fostering a sense of hope and belonging that had been missing for so long.
URL:https://mcceastbay.org/event/locked-up/
LOCATION:MCC East Bay\, 5724 W Las Positas Blvd #300\, Pleasanton\, CA\, 94588\, United States
ATTACH;FMTTYPE=image/jpeg:https://mcceastbay.org/wp-content/uploads/2024/07/Lock-Up-The-Power-of-Islam-in-Prison.jpg
END:VEVENT
END:VCALENDAR