BEGIN:VCALENDAR
VERSION:2.0
PRODID:-//MCC East Bay - ECPv6.15.20//NONSGML v1.0//EN
CALSCALE:GREGORIAN
METHOD:PUBLISH
X-WR-CALNAME:MCC East Bay
X-ORIGINAL-URL:https://mcceastbay.org
X-WR-CALDESC:Events for MCC East Bay
REFRESH-INTERVAL;VALUE=DURATION:PT1H
X-Robots-Tag:noindex
X-PUBLISHED-TTL:PT1H
BEGIN:VTIMEZONE
TZID:America/Los_Angeles
BEGIN:DAYLIGHT
TZOFFSETFROM:-0800
TZOFFSETTO:-0700
TZNAME:PDT
DTSTART:20230312T100000
END:DAYLIGHT
BEGIN:STANDARD
TZOFFSETFROM:-0700
TZOFFSETTO:-0800
TZNAME:PST
DTSTART:20231105T090000
END:STANDARD
BEGIN:DAYLIGHT
TZOFFSETFROM:-0800
TZOFFSETTO:-0700
TZNAME:PDT
DTSTART:20240310T100000
END:DAYLIGHT
BEGIN:STANDARD
TZOFFSETFROM:-0700
TZOFFSETTO:-0800
TZNAME:PST
DTSTART:20241103T090000
END:STANDARD
BEGIN:DAYLIGHT
TZOFFSETFROM:-0800
TZOFFSETTO:-0700
TZNAME:PDT
DTSTART:20250309T100000
END:DAYLIGHT
BEGIN:STANDARD
TZOFFSETFROM:-0700
TZOFFSETTO:-0800
TZNAME:PST
DTSTART:20251102T090000
END:STANDARD
END:VTIMEZONE
BEGIN:VEVENT
DTSTART;TZID=America/Los_Angeles:20240531T133000
DTEND;TZID=America/Los_Angeles:20240531T160000
DTSTAMP:20260424T021722
CREATED:20240528T232257Z
LAST-MODIFIED:20240630T220910Z
UID:65540-1717162200-1717171200@mcceastbay.org
SUMMARY:Lodi Muslim Mosque Tables @ MCC Jumu'ahs
DESCRIPTION:Lodi Muslim Mosque is raising $2.2 million to convert a 20\,000-square-foot church property on 5 acres with existing classrooms into an Islamic School and a Mosque\, the first in the area.  \n\n\n\nCurrently\, there is no Islamic schooling in Lodi; all youth are enrolled in the public school system. The women also don’t have a designated area to pray. \n\n\n\nThey have only five months to raise the funds to secure the church.
URL:https://mcceastbay.org/event/lodi-muslim-mosque-tables-mcc-jumuahs/
ATTACH;FMTTYPE=image/jpeg:https://mcceastbay.org/wp-content/uploads/2024/06/Lodi-masjid.jpg
END:VEVENT
END:VCALENDAR