BEGIN:VCALENDAR
VERSION:2.0
PRODID:-//MCC East Bay - ECPv6.15.20//NONSGML v1.0//EN
CALSCALE:GREGORIAN
METHOD:PUBLISH
X-WR-CALNAME:MCC East Bay
X-ORIGINAL-URL:https://mcceastbay.org
X-WR-CALDESC:Events for MCC East Bay
REFRESH-INTERVAL;VALUE=DURATION:PT1H
X-Robots-Tag:noindex
X-PUBLISHED-TTL:PT1H
BEGIN:VTIMEZONE
TZID:America/Los_Angeles
BEGIN:DAYLIGHT
TZOFFSETFROM:-0800
TZOFFSETTO:-0700
TZNAME:PDT
DTSTART:20220313T100000
END:DAYLIGHT
BEGIN:STANDARD
TZOFFSETFROM:-0700
TZOFFSETTO:-0800
TZNAME:PST
DTSTART:20221106T090000
END:STANDARD
BEGIN:DAYLIGHT
TZOFFSETFROM:-0800
TZOFFSETTO:-0700
TZNAME:PDT
DTSTART:20230312T100000
END:DAYLIGHT
BEGIN:STANDARD
TZOFFSETFROM:-0700
TZOFFSETTO:-0800
TZNAME:PST
DTSTART:20231105T090000
END:STANDARD
BEGIN:DAYLIGHT
TZOFFSETFROM:-0800
TZOFFSETTO:-0700
TZNAME:PDT
DTSTART:20240310T100000
END:DAYLIGHT
BEGIN:STANDARD
TZOFFSETFROM:-0700
TZOFFSETTO:-0800
TZNAME:PST
DTSTART:20241103T090000
END:STANDARD
END:VTIMEZONE
BEGIN:VEVENT
DTSTART;TZID=America/Los_Angeles:20230204T130000
DTEND;TZID=America/Los_Angeles:20230204T150000
DTSTAMP:20260422T022115
CREATED:20230201T080054Z
LAST-MODIFIED:20240630T214318Z
UID:63988-1675515600-1675522800@mcceastbay.org
SUMMARY:Maristan - MCC East Bay Grand opening!
DESCRIPTION:To provide professional clinical care grounded in Islamic traditions\, MCC has partnered with Maristan\, a mental health nonprofit led by Ustadha Dr. Rania Awaad\, to provide holistic\, mental\, and spiritual wellness. \n\n\n\nMeet the staff\, learn about the services\, and hear about how we want to partner with you for your mental health. \n\n\n\nThis event will feature talks by key members of our Maristan staff Dr. Rania Awaad and other staff. \n\n\n\nDr. Rania will also speak in the main prayer hall: https://mcceastbay.org/event/maristan-mcc-event \n\n\n\nAlhamdulillah\, Maristan is officially going to have a counseling office at MCC! Please join us this Saturday at 1 p.m. for the grand opening! \n\n\n\nMCC offers a Counseling Office that offers marriage and therapy sessions with counselors trained in Islamic holistic psychology. Some insurance plans are accepted. California only. Don’t suffer alone. \n\n\n\nMCC offers counseling in partnership with Maristan\, a spiritual community wellness center that provides marriage\, individual\, and family counseling\, premarital coaching\, consultation\, and a psychiatrist (medication management). Counseling fees are payable on a sliding scale. \n\n\n\nMake An Appointment\n\n\n\n\nMake an appointment online to see a Maristan Clinician at https://maristan.org/clinicians\n\n\n\nCall the Maristan Clinic Coordinator Jannah Sellars at (510) 380-7229\n\n\n\nEmail info@maristan.org\n\n\n\nHere are also other resources to help you get support.\n\n\n\n\nIf you cannot afford the therapy\, please let Maristan know. MCC has a standing commitment that the MCC covers any services provided in the four walls of the community center. \n\n\n\nHolding Seminars Online For Our Couples & Parents\n\n\n\n\n– Maristan seminars & workshop recordings: https://mcceastbay.org/maristan\n\n\n\n– Islamic marriage talks & workshops at MCC\, please visit: https://mcceastbay.org/marriage\n\n\n\n– Islamic parenting workshops at MCC\, please visit: https://mcceastbay.org/parenting
URL:https://mcceastbay.org/event/maristan-mcc-east-bay-grand-opening/
LOCATION:MCC East Bay\, 5724 W Las Positas Blvd #300\, Pleasanton\, CA\, 94588\, United States
ATTACH;FMTTYPE=image/jpeg:https://mcceastbay.org/wp-content/uploads/2024/06/328344775_621758163108016_2903189022452380908_n.jpg
END:VEVENT
END:VCALENDAR