BEGIN:VCALENDAR
VERSION:2.0
PRODID:-//MCC East Bay - ECPv6.15.20//NONSGML v1.0//EN
CALSCALE:GREGORIAN
METHOD:PUBLISH
X-WR-CALNAME:MCC East Bay
X-ORIGINAL-URL:https://mcceastbay.org
X-WR-CALDESC:Events for MCC East Bay
REFRESH-INTERVAL;VALUE=DURATION:PT1H
X-Robots-Tag:noindex
X-PUBLISHED-TTL:PT1H
BEGIN:VTIMEZONE
TZID:America/Los_Angeles
BEGIN:DAYLIGHT
TZOFFSETFROM:-0800
TZOFFSETTO:-0700
TZNAME:PDT
DTSTART:20200308T100000
END:DAYLIGHT
BEGIN:STANDARD
TZOFFSETFROM:-0700
TZOFFSETTO:-0800
TZNAME:PST
DTSTART:20201101T090000
END:STANDARD
BEGIN:DAYLIGHT
TZOFFSETFROM:-0800
TZOFFSETTO:-0700
TZNAME:PDT
DTSTART:20210314T100000
END:DAYLIGHT
BEGIN:STANDARD
TZOFFSETFROM:-0700
TZOFFSETTO:-0800
TZNAME:PST
DTSTART:20211107T090000
END:STANDARD
BEGIN:DAYLIGHT
TZOFFSETFROM:-0800
TZOFFSETTO:-0700
TZNAME:PDT
DTSTART:20220313T100000
END:DAYLIGHT
BEGIN:STANDARD
TZOFFSETFROM:-0700
TZOFFSETTO:-0800
TZNAME:PST
DTSTART:20221106T090000
END:STANDARD
END:VTIMEZONE
BEGIN:VEVENT
DTSTART;TZID=America/Los_Angeles:20210716T133000
DTEND;TZID=America/Los_Angeles:20210716T160000
DTSTAMP:20260424T043415
CREATED:20210708T025301Z
LAST-MODIFIED:20210708T025301Z
UID:61906-1626442200-1626451200@mcceastbay.org
SUMMARY:Maristan Tables at Jumu'ah
DESCRIPTION:Maristan Center for Mental & Spiritual Wellbeing  \ntables at MCC’s three Jumu’ahs about their Bay Area inaugural event on Sunday\, July 18. \nAbout Maristan: Grounded in Islamic traditions\, Maristan aims to lead professional clinical care\, education\, and research in advancing holistic\, mental and spiritual wellness. Learn more at https://maristan.org \n 
URL:https://mcceastbay.org/event/maristan-tables-at-jumuah/
ATTACH;FMTTYPE=image/jpeg:https://mcceastbay.org/wp-content/uploads/2024/06/Maristan-rania.jpeg
ORGANIZER;CN="Maristan Center for Mental & Spiritual Wellbeing":MAILTO:maristanorg@gmail.com
END:VEVENT
END:VCALENDAR