BEGIN:VCALENDAR
VERSION:2.0
PRODID:-//MCC East Bay - ECPv6.15.20//NONSGML v1.0//EN
CALSCALE:GREGORIAN
METHOD:PUBLISH
X-WR-CALNAME:MCC East Bay
X-ORIGINAL-URL:https://mcceastbay.org
X-WR-CALDESC:Events for MCC East Bay
REFRESH-INTERVAL;VALUE=DURATION:PT1H
X-Robots-Tag:noindex
X-PUBLISHED-TTL:PT1H
BEGIN:VTIMEZONE
TZID:America/Los_Angeles
BEGIN:DAYLIGHT
TZOFFSETFROM:-0800
TZOFFSETTO:-0700
TZNAME:PDT
DTSTART:20250309T100000
END:DAYLIGHT
BEGIN:STANDARD
TZOFFSETFROM:-0700
TZOFFSETTO:-0800
TZNAME:PST
DTSTART:20251102T090000
END:STANDARD
BEGIN:DAYLIGHT
TZOFFSETFROM:-0800
TZOFFSETTO:-0700
TZNAME:PDT
DTSTART:20260308T100000
END:DAYLIGHT
BEGIN:STANDARD
TZOFFSETFROM:-0700
TZOFFSETTO:-0800
TZNAME:PST
DTSTART:20261101T090000
END:STANDARD
BEGIN:DAYLIGHT
TZOFFSETFROM:-0800
TZOFFSETTO:-0700
TZNAME:PDT
DTSTART:20270314T100000
END:DAYLIGHT
BEGIN:STANDARD
TZOFFSETFROM:-0700
TZOFFSETTO:-0800
TZNAME:PST
DTSTART:20271107T090000
END:STANDARD
END:VTIMEZONE
BEGIN:VEVENT
DTSTART;TZID=America/Los_Angeles:20260410T133000
DTEND;TZID=America/Los_Angeles:20260410T160000
DTSTAMP:20260425T152857
CREATED:20260327T214119Z
LAST-MODIFIED:20260327T214119Z
UID:83339-1775827800-1775836800@mcceastbay.org
SUMMARY:Masjid Al-Emaan Tables @ MCC Jumu'ahs
DESCRIPTION:Masjid Al-Emaan is a masjid in Stockton\, they recently purchased land for a necessary expansion to accommodate their growing community. Please visit their table to learn more about their cause and support them. \n 
URL:https://mcceastbay.org/event/masjid-al-emaan-tables-mcc-jumuahs-2/
ATTACH;FMTTYPE=image/png:https://mcceastbay.org/wp-content/uploads/2026/03/download.png
END:VEVENT
END:VCALENDAR